BEGIN:VCALENDAR
VERSION:2.0
PRODID:-//Shawnee Hills Baptist Church - ECPv6.15.20//NONSGML v1.0//EN
CALSCALE:GREGORIAN
METHOD:PUBLISH
X-WR-CALNAME:Shawnee Hills Baptist Church
X-ORIGINAL-URL:https://shbcfamily.com
X-WR-CALDESC:Events for Shawnee Hills Baptist Church
REFRESH-INTERVAL;VALUE=DURATION:PT1H
X-Robots-Tag:noindex
X-PUBLISHED-TTL:PT1H
BEGIN:VTIMEZONE
TZID:America/Detroit
BEGIN:DAYLIGHT
TZOFFSETFROM:-0500
TZOFFSETTO:-0400
TZNAME:EDT
DTSTART:20240310T070000
END:DAYLIGHT
BEGIN:STANDARD
TZOFFSETFROM:-0400
TZOFFSETTO:-0500
TZNAME:EST
DTSTART:20241103T060000
END:STANDARD
BEGIN:DAYLIGHT
TZOFFSETFROM:-0500
TZOFFSETTO:-0400
TZNAME:EDT
DTSTART:20250309T070000
END:DAYLIGHT
BEGIN:STANDARD
TZOFFSETFROM:-0400
TZOFFSETTO:-0500
TZNAME:EST
DTSTART:20251102T060000
END:STANDARD
BEGIN:DAYLIGHT
TZOFFSETFROM:-0500
TZOFFSETTO:-0400
TZNAME:EDT
DTSTART:20260308T070000
END:DAYLIGHT
BEGIN:STANDARD
TZOFFSETFROM:-0400
TZOFFSETTO:-0500
TZNAME:EST
DTSTART:20261101T060000
END:STANDARD
END:VTIMEZONE
BEGIN:VEVENT
DTSTART;TZID=America/Detroit:20250803T090000
DTEND;TZID=America/Detroit:20250803T101500
DTSTAMP:20260425T131503
CREATED:20241209T140312Z
LAST-MODIFIED:20250610T125454Z
UID:10004011-1754211600-1754216100@shbcfamily.com
SUMMARY:ABF/SS
DESCRIPTION:
URL:https://shbcfamily.com/event/abf-ss-8/2025-08-03/
END:VEVENT
BEGIN:VEVENT
DTSTART;TZID=America/Detroit:20250803T103000
DTEND;TZID=America/Detroit:20250803T120000
DTSTAMP:20260425T131503
CREATED:20250610T125817Z
LAST-MODIFIED:20250610T125928Z
UID:10004021-1754217000-1754222400@shbcfamily.com
SUMMARY:Worship Service
DESCRIPTION:
URL:https://shbcfamily.com/event/worship-service-31-2/2025-08-03/
END:VEVENT
BEGIN:VEVENT
DTSTART;TZID=America/Detroit:20250803T180000
DTEND;TZID=America/Detroit:20250803T200000
DTSTAMP:20260425T131503
CREATED:20250605T152211Z
LAST-MODIFIED:20250610T124407Z
UID:10004000-1754244000-1754251200@shbcfamily.com
SUMMARY:FLN Groups
DESCRIPTION:
URL:https://shbcfamily.com/event/fln-groups/2025-08-03/
END:VEVENT
END:VCALENDAR