BEGIN:VCALENDAR
VERSION:2.0
PRODID:-//Shawnee Hills Baptist Church - ECPv6.15.20//NONSGML v1.0//EN
CALSCALE:GREGORIAN
METHOD:PUBLISH
X-ORIGINAL-URL:https://shbcfamily.com
X-WR-CALDESC:Events for Shawnee Hills Baptist Church
REFRESH-INTERVAL;VALUE=DURATION:PT1H
X-Robots-Tag:noindex
X-PUBLISHED-TTL:PT1H
BEGIN:VTIMEZONE
TZID:America/Detroit
BEGIN:DAYLIGHT
TZOFFSETFROM:-0500
TZOFFSETTO:-0400
TZNAME:EDT
DTSTART:20240310T070000
END:DAYLIGHT
BEGIN:STANDARD
TZOFFSETFROM:-0400
TZOFFSETTO:-0500
TZNAME:EST
DTSTART:20241103T060000
END:STANDARD
BEGIN:DAYLIGHT
TZOFFSETFROM:-0500
TZOFFSETTO:-0400
TZNAME:EDT
DTSTART:20250309T070000
END:DAYLIGHT
BEGIN:STANDARD
TZOFFSETFROM:-0400
TZOFFSETTO:-0500
TZNAME:EST
DTSTART:20251102T060000
END:STANDARD
BEGIN:DAYLIGHT
TZOFFSETFROM:-0500
TZOFFSETTO:-0400
TZNAME:EDT
DTSTART:20260308T070000
END:DAYLIGHT
BEGIN:STANDARD
TZOFFSETFROM:-0400
TZOFFSETTO:-0500
TZNAME:EST
DTSTART:20261101T060000
END:STANDARD
END:VTIMEZONE
BEGIN:VEVENT
DTSTART;TZID=America/Detroit:20251109T083000
DTEND;TZID=America/Detroit:20251109T093000
DTSTAMP:20260424T232859
CREATED:20250702T194643Z
LAST-MODIFIED:20250702T194643Z
UID:10004054-1762677000-1762680600@shbcfamily.com
SUMMARY:Worship Service
DESCRIPTION:
URL:https://shbcfamily.com/event/worship-service-32/2025-11-09/
END:VEVENT
BEGIN:VEVENT
DTSTART;TZID=America/Detroit:20251109T094500
DTEND;TZID=America/Detroit:20251109T104500
DTSTAMP:20260424T232859
CREATED:20250702T194807Z
LAST-MODIFIED:20250702T194807Z
UID:10004066-1762681500-1762685100@shbcfamily.com
SUMMARY:ABF/SS
DESCRIPTION:
URL:https://shbcfamily.com/event/abf-ss-10/2025-11-09/
END:VEVENT
BEGIN:VEVENT
DTSTART;TZID=America/Detroit:20251109T110000
DTEND;TZID=America/Detroit:20251109T123000
DTSTAMP:20260424T232859
CREATED:20250702T194914Z
LAST-MODIFIED:20250702T194914Z
UID:10004078-1762686000-1762691400@shbcfamily.com
SUMMARY:Worship Service
DESCRIPTION:
URL:https://shbcfamily.com/event/worship-service-33/2025-11-09/
END:VEVENT
BEGIN:VEVENT
DTSTART;TZID=America/Detroit:20251109T180000
DTEND;TZID=America/Detroit:20251109T193000
DTSTAMP:20260424T232859
CREATED:20250702T195348Z
LAST-MODIFIED:20250702T195348Z
UID:10004102-1762711200-1762716600@shbcfamily.com
SUMMARY:EQUIP
DESCRIPTION:
URL:https://shbcfamily.com/event/equip/2025-11-09/
END:VEVENT
END:VCALENDAR