BEGIN:VCALENDAR
VERSION:2.0
PRODID:-//Shawnee Hills Baptist Church - ECPv6.15.20//NONSGML v1.0//EN
CALSCALE:GREGORIAN
METHOD:PUBLISH
X-ORIGINAL-URL:https://shbcfamily.com
X-WR-CALDESC:Events for Shawnee Hills Baptist Church
REFRESH-INTERVAL;VALUE=DURATION:PT1H
X-Robots-Tag:noindex
X-PUBLISHED-TTL:PT1H
BEGIN:VTIMEZONE
TZID:America/Detroit
BEGIN:DAYLIGHT
TZOFFSETFROM:-0500
TZOFFSETTO:-0400
TZNAME:EDT
DTSTART:20260308T070000
END:DAYLIGHT
BEGIN:STANDARD
TZOFFSETFROM:-0400
TZOFFSETTO:-0500
TZNAME:EST
DTSTART:20261101T060000
END:STANDARD
BEGIN:DAYLIGHT
TZOFFSETFROM:-0500
TZOFFSETTO:-0400
TZNAME:EDT
DTSTART:20270314T070000
END:DAYLIGHT
BEGIN:STANDARD
TZOFFSETFROM:-0400
TZOFFSETTO:-0500
TZNAME:EST
DTSTART:20271107T060000
END:STANDARD
BEGIN:DAYLIGHT
TZOFFSETFROM:-0500
TZOFFSETTO:-0400
TZNAME:EDT
DTSTART:20280312T070000
END:DAYLIGHT
BEGIN:STANDARD
TZOFFSETFROM:-0400
TZOFFSETTO:-0500
TZNAME:EST
DTSTART:20281105T060000
END:STANDARD
END:VTIMEZONE
BEGIN:VEVENT
DTSTART;TZID=America/Detroit:20270418T083000
DTEND;TZID=America/Detroit:20270418T093000
DTSTAMP:20260425T095943
CREATED:20260113T145327Z
LAST-MODIFIED:20260113T145327Z
UID:10004256-1808037000-1808040600@shbcfamily.com
SUMMARY:Worship Service
DESCRIPTION:
URL:https://shbcfamily.com/event/worship-service-35/2027-04-18/
END:VEVENT
BEGIN:VEVENT
DTSTART;TZID=America/Detroit:20270418T094500
DTEND;TZID=America/Detroit:20270418T104500
DTSTAMP:20260425T095943
CREATED:20260113T145202Z
LAST-MODIFIED:20260113T145202Z
UID:10004186-1808041500-1808045100@shbcfamily.com
SUMMARY:ABF/SS
DESCRIPTION:
URL:https://shbcfamily.com/event/abf-ss-12/2027-04-18/
END:VEVENT
BEGIN:VEVENT
DTSTART;TZID=America/Detroit:20270418T110000
DTEND;TZID=America/Detroit:20270418T123000
DTSTAMP:20260425T095943
CREATED:20260113T145435Z
LAST-MODIFIED:20260113T145435Z
UID:10004326-1808046000-1808051400@shbcfamily.com
SUMMARY:Worship Service
DESCRIPTION:
URL:https://shbcfamily.com/event/worship-service-36/2027-04-18/
END:VEVENT
END:VCALENDAR