BEGIN:VCALENDAR
VERSION:2.0
PRODID:-//Shawnee Hills Baptist Church - ECPv6.15.20//NONSGML v1.0//EN
CALSCALE:GREGORIAN
METHOD:PUBLISH
X-WR-CALNAME:Shawnee Hills Baptist Church
X-ORIGINAL-URL:https://shbcfamily.com
X-WR-CALDESC:Events for Shawnee Hills Baptist Church
REFRESH-INTERVAL;VALUE=DURATION:PT1H
X-Robots-Tag:noindex
X-PUBLISHED-TTL:PT1H
BEGIN:VTIMEZONE
TZID:America/Detroit
BEGIN:DAYLIGHT
TZOFFSETFROM:-0500
TZOFFSETTO:-0400
TZNAME:EDT
DTSTART:20180311T070000
END:DAYLIGHT
BEGIN:STANDARD
TZOFFSETFROM:-0400
TZOFFSETTO:-0500
TZNAME:EST
DTSTART:20181104T060000
END:STANDARD
BEGIN:DAYLIGHT
TZOFFSETFROM:-0500
TZOFFSETTO:-0400
TZNAME:EDT
DTSTART:20190310T070000
END:DAYLIGHT
BEGIN:STANDARD
TZOFFSETFROM:-0400
TZOFFSETTO:-0500
TZNAME:EST
DTSTART:20191103T060000
END:STANDARD
BEGIN:DAYLIGHT
TZOFFSETFROM:-0500
TZOFFSETTO:-0400
TZNAME:EDT
DTSTART:20200308T070000
END:DAYLIGHT
BEGIN:STANDARD
TZOFFSETFROM:-0400
TZOFFSETTO:-0500
TZNAME:EST
DTSTART:20201101T060000
END:STANDARD
END:VTIMEZONE
BEGIN:VEVENT
DTSTART;TZID=America/Detroit:20190911T183000
DTEND;TZID=America/Detroit:20190911T200000
DTSTAMP:20260425T202038
CREATED:20191017T224226Z
LAST-MODIFIED:20191017T224226Z
UID:10001282-1568226600-1568232000@shbcfamily.com
SUMMARY:Youth Group
DESCRIPTION:For 7th-12th grade students
URL:https://shbcfamily.com/event/youth-group-8/2019-09-11/
CATEGORIES:Teen Ministry
END:VEVENT
BEGIN:VEVENT
DTSTART;TZID=America/Detroit:20190911T183000
DTEND;TZID=America/Detroit:20190911T200000
DTSTAMP:20260425T202039
CREATED:20190904T140202Z
LAST-MODIFIED:20190904T140637Z
UID:10001245-1568226600-1568232000@shbcfamily.com
SUMMARY:Youth Group
DESCRIPTION:If you are in grades 7-12\, you are invited to join us on Wednesday night for an evening of friendship\, games\, and time spent in God’s Word!
URL:https://shbcfamily.com/event/youth-group-9/
LOCATION:Fellowship Hall
CATEGORIES:Teen Ministry
END:VEVENT
BEGIN:VEVENT
DTSTART;TZID=America/Detroit:20190918T183000
DTEND;TZID=America/Detroit:20190918T200000
DTSTAMP:20260425T202039
CREATED:20191017T224226Z
LAST-MODIFIED:20191017T224226Z
UID:10001283-1568831400-1568836800@shbcfamily.com
SUMMARY:Youth Group
DESCRIPTION:For 7th-12th grade students
URL:https://shbcfamily.com/event/youth-group-8/2019-09-18/
CATEGORIES:Teen Ministry
END:VEVENT
BEGIN:VEVENT
DTSTART;TZID=America/Detroit:20190925T183000
DTEND;TZID=America/Detroit:20190925T200000
DTSTAMP:20260425T202039
CREATED:20191017T224226Z
LAST-MODIFIED:20191017T224226Z
UID:10001284-1569436200-1569441600@shbcfamily.com
SUMMARY:Youth Group
DESCRIPTION:For 7th-12th grade students
URL:https://shbcfamily.com/event/youth-group-8/2019-09-25/
CATEGORIES:Teen Ministry
END:VEVENT
BEGIN:VEVENT
DTSTART;TZID=America/Detroit:20191002T183000
DTEND;TZID=America/Detroit:20191002T200000
DTSTAMP:20260425T202039
CREATED:20191017T224226Z
LAST-MODIFIED:20191017T224226Z
UID:10001285-1570041000-1570046400@shbcfamily.com
SUMMARY:Youth Group
DESCRIPTION:For 7th-12th grade students
URL:https://shbcfamily.com/event/youth-group-8/2019-10-02/
CATEGORIES:Teen Ministry
END:VEVENT
BEGIN:VEVENT
DTSTART;TZID=America/Detroit:20191009T183000
DTEND;TZID=America/Detroit:20191009T200000
DTSTAMP:20260425T202039
CREATED:20191017T224226Z
LAST-MODIFIED:20191017T224226Z
UID:10001286-1570645800-1570651200@shbcfamily.com
SUMMARY:Youth Group
DESCRIPTION:For 7th-12th grade students
URL:https://shbcfamily.com/event/youth-group-8/2019-10-09/
CATEGORIES:Teen Ministry
END:VEVENT
BEGIN:VEVENT
DTSTART;TZID=America/Detroit:20191016T183000
DTEND;TZID=America/Detroit:20191016T200000
DTSTAMP:20260425T202039
CREATED:20191017T224226Z
LAST-MODIFIED:20191017T224226Z
UID:10001287-1571250600-1571256000@shbcfamily.com
SUMMARY:Youth Group
DESCRIPTION:For 7th-12th grade students
URL:https://shbcfamily.com/event/youth-group-8/2019-10-16/
CATEGORIES:Teen Ministry
END:VEVENT
BEGIN:VEVENT
DTSTART;TZID=America/Detroit:20191023T183000
DTEND;TZID=America/Detroit:20191023T200000
DTSTAMP:20260425T202039
CREATED:20191017T224226Z
LAST-MODIFIED:20191017T224226Z
UID:10001288-1571855400-1571860800@shbcfamily.com
SUMMARY:Youth Group
DESCRIPTION:For 7th-12th grade students
URL:https://shbcfamily.com/event/youth-group-8/2019-10-23/
CATEGORIES:Teen Ministry
END:VEVENT
BEGIN:VEVENT
DTSTART;TZID=America/Detroit:20191030T183000
DTEND;TZID=America/Detroit:20191030T200000
DTSTAMP:20260425T202039
CREATED:20191017T224226Z
LAST-MODIFIED:20191017T224226Z
UID:10001289-1572460200-1572465600@shbcfamily.com
SUMMARY:Youth Group
DESCRIPTION:For 7th-12th grade students
URL:https://shbcfamily.com/event/youth-group-8/2019-10-30/
CATEGORIES:Teen Ministry
END:VEVENT
BEGIN:VEVENT
DTSTART;TZID=America/Detroit:20191106T183000
DTEND;TZID=America/Detroit:20191106T200000
DTSTAMP:20260425T202039
CREATED:20191017T224226Z
LAST-MODIFIED:20191017T224226Z
UID:10001290-1573065000-1573070400@shbcfamily.com
SUMMARY:Youth Group
DESCRIPTION:For 7th-12th grade students
URL:https://shbcfamily.com/event/youth-group-8/2019-11-06/
CATEGORIES:Teen Ministry
END:VEVENT
BEGIN:VEVENT
DTSTART;TZID=America/Detroit:20191113T183000
DTEND;TZID=America/Detroit:20191113T200000
DTSTAMP:20260425T202039
CREATED:20191017T224226Z
LAST-MODIFIED:20191017T224226Z
UID:10001291-1573669800-1573675200@shbcfamily.com
SUMMARY:Youth Group
DESCRIPTION:For 7th-12th grade students
URL:https://shbcfamily.com/event/youth-group-8/2019-11-13/
CATEGORIES:Teen Ministry
END:VEVENT
BEGIN:VEVENT
DTSTART;TZID=America/Detroit:20191120T183000
DTEND;TZID=America/Detroit:20191120T200000
DTSTAMP:20260425T202039
CREATED:20191017T224226Z
LAST-MODIFIED:20191017T224226Z
UID:10001292-1574274600-1574280000@shbcfamily.com
SUMMARY:Youth Group
DESCRIPTION:For 7th-12th grade students
URL:https://shbcfamily.com/event/youth-group-8/2019-11-20/
CATEGORIES:Teen Ministry
END:VEVENT
END:VCALENDAR