BEGIN:VCALENDAR
VERSION:2.0
PRODID:-//Shawnee Hills Baptist Church - ECPv6.15.20//NONSGML v1.0//EN
CALSCALE:GREGORIAN
METHOD:PUBLISH
X-WR-CALNAME:Shawnee Hills Baptist Church
X-ORIGINAL-URL:https://shbcfamily.com
X-WR-CALDESC:Events for Shawnee Hills Baptist Church
REFRESH-INTERVAL;VALUE=DURATION:PT1H
X-Robots-Tag:noindex
X-PUBLISHED-TTL:PT1H
BEGIN:VTIMEZONE
TZID:America/Detroit
BEGIN:DAYLIGHT
TZOFFSETFROM:-0500
TZOFFSETTO:-0400
TZNAME:EDT
DTSTART:20240310T070000
END:DAYLIGHT
BEGIN:STANDARD
TZOFFSETFROM:-0400
TZOFFSETTO:-0500
TZNAME:EST
DTSTART:20241103T060000
END:STANDARD
BEGIN:DAYLIGHT
TZOFFSETFROM:-0500
TZOFFSETTO:-0400
TZNAME:EDT
DTSTART:20250309T070000
END:DAYLIGHT
BEGIN:STANDARD
TZOFFSETFROM:-0400
TZOFFSETTO:-0500
TZNAME:EST
DTSTART:20251102T060000
END:STANDARD
BEGIN:DAYLIGHT
TZOFFSETFROM:-0500
TZOFFSETTO:-0400
TZNAME:EDT
DTSTART:20260308T070000
END:DAYLIGHT
BEGIN:STANDARD
TZOFFSETFROM:-0400
TZOFFSETTO:-0500
TZNAME:EST
DTSTART:20261101T060000
END:STANDARD
END:VTIMEZONE
BEGIN:VEVENT
DTSTART;TZID=America/Detroit:20250319T190000
DTEND;TZID=America/Detroit:20250319T200000
DTSTAMP:20260425T200440
CREATED:20241209T143548Z
LAST-MODIFIED:20241209T143548Z
UID:10003780-1742410800-1742414400@shbcfamily.com
SUMMARY:Prayer Meeting
DESCRIPTION:
URL:https://shbcfamily.com/event/prayer-meeting-18/2025-03-19/
END:VEVENT
BEGIN:VEVENT
DTSTART;TZID=America/Detroit:20250319T183000
DTEND;TZID=America/Detroit:20250319T200000
DTSTAMP:20260425T200440
CREATED:20240729T150005Z
LAST-MODIFIED:20240729T150005Z
UID:10001930-1742409000-1742414400@shbcfamily.com
SUMMARY:AWANA
DESCRIPTION:
URL:https://shbcfamily.com/event/awana-10/2025-03-19/
END:VEVENT
BEGIN:VEVENT
DTSTART;TZID=America/Detroit:20250319T090000
DTEND;TZID=America/Detroit:20250319T100000
DTSTAMP:20260425T200440
CREATED:20241209T142712Z
LAST-MODIFIED:20241209T142712Z
UID:10003580-1742374800-1742378400@shbcfamily.com
SUMMARY:Aerobics
DESCRIPTION:
URL:https://shbcfamily.com/event/aerobics/2025-03-19/
END:VEVENT
BEGIN:VEVENT
DTSTART;TZID=America/Detroit:20250317T090000
DTEND;TZID=America/Detroit:20250317T100000
DTSTAMP:20260425T200440
CREATED:20241209T142712Z
LAST-MODIFIED:20241209T142712Z
UID:10003579-1742202000-1742205600@shbcfamily.com
SUMMARY:Aerobics
DESCRIPTION:
URL:https://shbcfamily.com/event/aerobics/2025-03-17/
END:VEVENT
BEGIN:VEVENT
DTSTART;TZID=America/Detroit:20250316T110000
DTEND;TZID=America/Detroit:20250316T123000
DTSTAMP:20260425T200440
CREATED:20241209T140921Z
LAST-MODIFIED:20241209T140921Z
UID:10003431-1742122800-1742128200@shbcfamily.com
SUMMARY:Worship Service
DESCRIPTION:
URL:https://shbcfamily.com/event/worship-service-31/2025-03-16/
END:VEVENT
BEGIN:VEVENT
DTSTART;TZID=America/Detroit:20250312T190000
DTEND;TZID=America/Detroit:20250312T200000
DTSTAMP:20260425T200440
CREATED:20241209T143548Z
LAST-MODIFIED:20241209T143548Z
UID:10003779-1741806000-1741809600@shbcfamily.com
SUMMARY:Prayer Meeting
DESCRIPTION:
URL:https://shbcfamily.com/event/prayer-meeting-18/2025-03-12/
END:VEVENT
BEGIN:VEVENT
DTSTART;TZID=America/Detroit:20250312T183000
DTEND;TZID=America/Detroit:20250312T200000
DTSTAMP:20260425T200440
CREATED:20240729T150005Z
LAST-MODIFIED:20240729T150005Z
UID:10001929-1741804200-1741809600@shbcfamily.com
SUMMARY:AWANA
DESCRIPTION:
URL:https://shbcfamily.com/event/awana-10/2025-03-12/
END:VEVENT
BEGIN:VEVENT
DTSTART;TZID=America/Detroit:20250312T090000
DTEND;TZID=America/Detroit:20250312T100000
DTSTAMP:20260425T200440
CREATED:20241209T142712Z
LAST-MODIFIED:20241209T142712Z
UID:10003578-1741770000-1741773600@shbcfamily.com
SUMMARY:Aerobics
DESCRIPTION:
URL:https://shbcfamily.com/event/aerobics/2025-03-12/
END:VEVENT
BEGIN:VEVENT
DTSTART;TZID=America/Detroit:20250311T150000
DTEND;TZID=America/Detroit:20250311T190000
DTSTAMP:20260425T200440
CREATED:20241209T143035Z
LAST-MODIFIED:20241209T143035Z
UID:10003765-1741705200-1741719600@shbcfamily.com
SUMMARY:Community Blood Drive
DESCRIPTION:
URL:https://shbcfamily.com/event/community-blood-drive-24/
END:VEVENT
BEGIN:VEVENT
DTSTART;TZID=America/Detroit:20250310T090000
DTEND;TZID=America/Detroit:20250310T100000
DTSTAMP:20260425T200440
CREATED:20241209T142712Z
LAST-MODIFIED:20241209T142712Z
UID:10003577-1741597200-1741600800@shbcfamily.com
SUMMARY:Aerobics
DESCRIPTION:
URL:https://shbcfamily.com/event/aerobics/2025-03-10/
END:VEVENT
BEGIN:VEVENT
DTSTART;TZID=America/Detroit:20250309T110000
DTEND;TZID=America/Detroit:20250309T123000
DTSTAMP:20260425T200440
CREATED:20241209T140921Z
LAST-MODIFIED:20241209T140921Z
UID:10003430-1741518000-1741523400@shbcfamily.com
SUMMARY:Worship Service
DESCRIPTION:
URL:https://shbcfamily.com/event/worship-service-31/2025-03-09/
END:VEVENT
BEGIN:VEVENT
DTSTART;TZID=America/Detroit:20250305T190000
DTEND;TZID=America/Detroit:20250305T200000
DTSTAMP:20260425T200440
CREATED:20241209T143548Z
LAST-MODIFIED:20241209T143548Z
UID:10003778-1741201200-1741204800@shbcfamily.com
SUMMARY:Prayer Meeting
DESCRIPTION:
URL:https://shbcfamily.com/event/prayer-meeting-18/2025-03-05/
END:VEVENT
BEGIN:VEVENT
DTSTART;TZID=America/Detroit:20250305T183000
DTEND;TZID=America/Detroit:20250305T200000
DTSTAMP:20260425T200440
CREATED:20240729T150005Z
LAST-MODIFIED:20240729T150005Z
UID:10001928-1741199400-1741204800@shbcfamily.com
SUMMARY:AWANA
DESCRIPTION:
URL:https://shbcfamily.com/event/awana-10/2025-03-05/
END:VEVENT
BEGIN:VEVENT
DTSTART;TZID=America/Detroit:20250305T090000
DTEND;TZID=America/Detroit:20250305T100000
DTSTAMP:20260425T200440
CREATED:20241209T142712Z
LAST-MODIFIED:20241209T142712Z
UID:10003576-1741165200-1741168800@shbcfamily.com
SUMMARY:Aerobics
DESCRIPTION:
URL:https://shbcfamily.com/event/aerobics/2025-03-05/
END:VEVENT
BEGIN:VEVENT
DTSTART;TZID=America/Detroit:20250303T090000
DTEND;TZID=America/Detroit:20250303T100000
DTSTAMP:20260425T200440
CREATED:20241209T142712Z
LAST-MODIFIED:20241209T142712Z
UID:10003575-1740992400-1740996000@shbcfamily.com
SUMMARY:Aerobics
DESCRIPTION:
URL:https://shbcfamily.com/event/aerobics/2025-03-03/
END:VEVENT
BEGIN:VEVENT
DTSTART;TZID=America/Detroit:20250302T110000
DTEND;TZID=America/Detroit:20250302T123000
DTSTAMP:20260425T200440
CREATED:20241209T140921Z
LAST-MODIFIED:20241209T140921Z
UID:10003429-1740913200-1740918600@shbcfamily.com
SUMMARY:Worship Service
DESCRIPTION:
URL:https://shbcfamily.com/event/worship-service-31/2025-03-02/
END:VEVENT
BEGIN:VEVENT
DTSTART;TZID=America/Detroit:20250226T190000
DTEND;TZID=America/Detroit:20250226T200000
DTSTAMP:20260425T200440
CREATED:20241209T143548Z
LAST-MODIFIED:20241209T143548Z
UID:10003777-1740596400-1740600000@shbcfamily.com
SUMMARY:Prayer Meeting
DESCRIPTION:
URL:https://shbcfamily.com/event/prayer-meeting-18/2025-02-26/
END:VEVENT
BEGIN:VEVENT
DTSTART;TZID=America/Detroit:20250226T183000
DTEND;TZID=America/Detroit:20250226T200000
DTSTAMP:20260425T200440
CREATED:20240729T150005Z
LAST-MODIFIED:20240729T150005Z
UID:10001927-1740594600-1740600000@shbcfamily.com
SUMMARY:AWANA
DESCRIPTION:
URL:https://shbcfamily.com/event/awana-10/2025-02-26/
END:VEVENT
BEGIN:VEVENT
DTSTART;TZID=America/Detroit:20250226T090000
DTEND;TZID=America/Detroit:20250226T100000
DTSTAMP:20260425T200440
CREATED:20241209T142712Z
LAST-MODIFIED:20241209T142712Z
UID:10003574-1740560400-1740564000@shbcfamily.com
SUMMARY:Aerobics
DESCRIPTION:
URL:https://shbcfamily.com/event/aerobics/2025-02-26/
END:VEVENT
BEGIN:VEVENT
DTSTART;TZID=America/Detroit:20250224T090000
DTEND;TZID=America/Detroit:20250224T100000
DTSTAMP:20260425T200440
CREATED:20241209T142712Z
LAST-MODIFIED:20241209T142712Z
UID:10003573-1740387600-1740391200@shbcfamily.com
SUMMARY:Aerobics
DESCRIPTION:
URL:https://shbcfamily.com/event/aerobics/2025-02-24/
END:VEVENT
BEGIN:VEVENT
DTSTART;TZID=America/Detroit:20250223T110000
DTEND;TZID=America/Detroit:20250223T123000
DTSTAMP:20260425T200440
CREATED:20241209T140921Z
LAST-MODIFIED:20241209T140921Z
UID:10003428-1740308400-1740313800@shbcfamily.com
SUMMARY:Worship Service
DESCRIPTION:
URL:https://shbcfamily.com/event/worship-service-31/2025-02-23/
END:VEVENT
BEGIN:VEVENT
DTSTART;TZID=America/Detroit:20250219T190000
DTEND;TZID=America/Detroit:20250219T200000
DTSTAMP:20260425T200440
CREATED:20241209T143548Z
LAST-MODIFIED:20241209T143548Z
UID:10003776-1739991600-1739995200@shbcfamily.com
SUMMARY:Prayer Meeting
DESCRIPTION:
URL:https://shbcfamily.com/event/prayer-meeting-18/2025-02-19/
END:VEVENT
BEGIN:VEVENT
DTSTART;TZID=America/Detroit:20250219T183000
DTEND;TZID=America/Detroit:20250219T200000
DTSTAMP:20260425T200440
CREATED:20240729T150005Z
LAST-MODIFIED:20240729T150005Z
UID:10001926-1739989800-1739995200@shbcfamily.com
SUMMARY:AWANA
DESCRIPTION:
URL:https://shbcfamily.com/event/awana-10/2025-02-19/
END:VEVENT
BEGIN:VEVENT
DTSTART;TZID=America/Detroit:20250219T090000
DTEND;TZID=America/Detroit:20250219T100000
DTSTAMP:20260425T200440
CREATED:20241209T142712Z
LAST-MODIFIED:20241209T142712Z
UID:10003572-1739955600-1739959200@shbcfamily.com
SUMMARY:Aerobics
DESCRIPTION:
URL:https://shbcfamily.com/event/aerobics/2025-02-19/
END:VEVENT
BEGIN:VEVENT
DTSTART;TZID=America/Detroit:20250217T090000
DTEND;TZID=America/Detroit:20250217T100000
DTSTAMP:20260425T200440
CREATED:20241209T142712Z
LAST-MODIFIED:20241209T142712Z
UID:10003571-1739782800-1739786400@shbcfamily.com
SUMMARY:Aerobics
DESCRIPTION:
URL:https://shbcfamily.com/event/aerobics/2025-02-17/
END:VEVENT
BEGIN:VEVENT
DTSTART;TZID=America/Detroit:20250216T110000
DTEND;TZID=America/Detroit:20250216T123000
DTSTAMP:20260425T200440
CREATED:20241209T140921Z
LAST-MODIFIED:20241209T140921Z
UID:10003427-1739703600-1739709000@shbcfamily.com
SUMMARY:Worship Service
DESCRIPTION:
URL:https://shbcfamily.com/event/worship-service-31/2025-02-16/
END:VEVENT
BEGIN:VEVENT
DTSTART;TZID=America/Detroit:20250212T190000
DTEND;TZID=America/Detroit:20250212T200000
DTSTAMP:20260425T200440
CREATED:20241209T143548Z
LAST-MODIFIED:20241209T143548Z
UID:10003775-1739386800-1739390400@shbcfamily.com
SUMMARY:Prayer Meeting
DESCRIPTION:
URL:https://shbcfamily.com/event/prayer-meeting-18/2025-02-12/
END:VEVENT
BEGIN:VEVENT
DTSTART;TZID=America/Detroit:20250212T183000
DTEND;TZID=America/Detroit:20250212T200000
DTSTAMP:20260425T200440
CREATED:20240729T150005Z
LAST-MODIFIED:20240729T150005Z
UID:10001925-1739385000-1739390400@shbcfamily.com
SUMMARY:AWANA
DESCRIPTION:
URL:https://shbcfamily.com/event/awana-10/2025-02-12/
END:VEVENT
BEGIN:VEVENT
DTSTART;TZID=America/Detroit:20250212T090000
DTEND;TZID=America/Detroit:20250212T100000
DTSTAMP:20260425T200440
CREATED:20241209T142712Z
LAST-MODIFIED:20241209T142712Z
UID:10003570-1739350800-1739354400@shbcfamily.com
SUMMARY:Aerobics
DESCRIPTION:
URL:https://shbcfamily.com/event/aerobics/2025-02-12/
END:VEVENT
BEGIN:VEVENT
DTSTART;TZID=America/Detroit:20250210T090000
DTEND;TZID=America/Detroit:20250210T100000
DTSTAMP:20260425T200440
CREATED:20241209T142712Z
LAST-MODIFIED:20241209T142712Z
UID:10003569-1739178000-1739181600@shbcfamily.com
SUMMARY:Aerobics
DESCRIPTION:
URL:https://shbcfamily.com/event/aerobics/2025-02-10/
END:VEVENT
END:VCALENDAR