BEGIN:VCALENDAR
VERSION:2.0
PRODID:-//Shawnee Hills Baptist Church - ECPv6.15.20//NONSGML v1.0//EN
CALSCALE:GREGORIAN
METHOD:PUBLISH
X-WR-CALNAME:Shawnee Hills Baptist Church
X-ORIGINAL-URL:https://shbcfamily.com
X-WR-CALDESC:Events for Shawnee Hills Baptist Church
REFRESH-INTERVAL;VALUE=DURATION:PT1H
X-Robots-Tag:noindex
X-PUBLISHED-TTL:PT1H
BEGIN:VTIMEZONE
TZID:America/Detroit
BEGIN:DAYLIGHT
TZOFFSETFROM:-0500
TZOFFSETTO:-0400
TZNAME:EDT
DTSTART:20230312T070000
END:DAYLIGHT
BEGIN:STANDARD
TZOFFSETFROM:-0400
TZOFFSETTO:-0500
TZNAME:EST
DTSTART:20231105T060000
END:STANDARD
BEGIN:DAYLIGHT
TZOFFSETFROM:-0500
TZOFFSETTO:-0400
TZNAME:EDT
DTSTART:20240310T070000
END:DAYLIGHT
BEGIN:STANDARD
TZOFFSETFROM:-0400
TZOFFSETTO:-0500
TZNAME:EST
DTSTART:20241103T060000
END:STANDARD
BEGIN:DAYLIGHT
TZOFFSETFROM:-0500
TZOFFSETTO:-0400
TZNAME:EDT
DTSTART:20250309T070000
END:DAYLIGHT
BEGIN:STANDARD
TZOFFSETFROM:-0400
TZOFFSETTO:-0500
TZNAME:EST
DTSTART:20251102T060000
END:STANDARD
BEGIN:DAYLIGHT
TZOFFSETFROM:-0500
TZOFFSETTO:-0400
TZNAME:EDT
DTSTART:20260308T070000
END:DAYLIGHT
BEGIN:STANDARD
TZOFFSETFROM:-0400
TZOFFSETTO:-0500
TZNAME:EST
DTSTART:20261101T060000
END:STANDARD
END:VTIMEZONE
BEGIN:VEVENT
DTSTART;TZID=America/Detroit:20250205T090000
DTEND;TZID=America/Detroit:20250205T100000
DTSTAMP:20260425T232733
CREATED:20241209T142712Z
LAST-MODIFIED:20241209T142712Z
UID:10003568-1738746000-1738749600@shbcfamily.com
SUMMARY:Aerobics
DESCRIPTION:
URL:https://shbcfamily.com/event/aerobics/2025-02-05/
END:VEVENT
BEGIN:VEVENT
DTSTART;TZID=America/Detroit:20250203T090000
DTEND;TZID=America/Detroit:20250203T100000
DTSTAMP:20260425T232733
CREATED:20241209T142712Z
LAST-MODIFIED:20241209T142712Z
UID:10003567-1738573200-1738576800@shbcfamily.com
SUMMARY:Aerobics
DESCRIPTION:
URL:https://shbcfamily.com/event/aerobics/2025-02-03/
END:VEVENT
BEGIN:VEVENT
DTSTART;TZID=America/Detroit:20250202T110000
DTEND;TZID=America/Detroit:20250202T123000
DTSTAMP:20260425T232733
CREATED:20241209T140921Z
LAST-MODIFIED:20241209T140921Z
UID:10003425-1738494000-1738499400@shbcfamily.com
SUMMARY:Worship Service
DESCRIPTION:
URL:https://shbcfamily.com/event/worship-service-31/2025-02-02/
END:VEVENT
BEGIN:VEVENT
DTSTART;TZID=America/Detroit:20250129T190000
DTEND;TZID=America/Detroit:20250129T200000
DTSTAMP:20260425T232734
CREATED:20241209T143548Z
LAST-MODIFIED:20241209T143548Z
UID:10003773-1738177200-1738180800@shbcfamily.com
SUMMARY:Prayer Meeting
DESCRIPTION:
URL:https://shbcfamily.com/event/prayer-meeting-18/2025-01-29/
END:VEVENT
BEGIN:VEVENT
DTSTART;TZID=America/Detroit:20250129T183000
DTEND;TZID=America/Detroit:20250129T200000
DTSTAMP:20260425T232734
CREATED:20240729T150005Z
LAST-MODIFIED:20240729T150005Z
UID:10001923-1738175400-1738180800@shbcfamily.com
SUMMARY:AWANA
DESCRIPTION:
URL:https://shbcfamily.com/event/awana-10/2025-01-29/
END:VEVENT
BEGIN:VEVENT
DTSTART;TZID=America/Detroit:20250129T090000
DTEND;TZID=America/Detroit:20250129T100000
DTSTAMP:20260425T232734
CREATED:20241209T142712Z
LAST-MODIFIED:20241209T142712Z
UID:10003566-1738141200-1738144800@shbcfamily.com
SUMMARY:Aerobics
DESCRIPTION:
URL:https://shbcfamily.com/event/aerobics/2025-01-29/
END:VEVENT
BEGIN:VEVENT
DTSTART;TZID=America/Detroit:20250127T090000
DTEND;TZID=America/Detroit:20250127T100000
DTSTAMP:20260425T232734
CREATED:20241209T142712Z
LAST-MODIFIED:20241209T142712Z
UID:10003565-1737968400-1737972000@shbcfamily.com
SUMMARY:Aerobics
DESCRIPTION:
URL:https://shbcfamily.com/event/aerobics/2025-01-27/
END:VEVENT
BEGIN:VEVENT
DTSTART;TZID=America/Detroit:20250126T110000
DTEND;TZID=America/Detroit:20250126T123000
DTSTAMP:20260425T232734
CREATED:20241209T140921Z
LAST-MODIFIED:20241209T140921Z
UID:10003424-1737889200-1737894600@shbcfamily.com
SUMMARY:Worship Service
DESCRIPTION:
URL:https://shbcfamily.com/event/worship-service-31/2025-01-26/
END:VEVENT
BEGIN:VEVENT
DTSTART;TZID=America/Detroit:20250122T190000
DTEND;TZID=America/Detroit:20250122T200000
DTSTAMP:20260425T232734
CREATED:20241209T143548Z
LAST-MODIFIED:20241209T143548Z
UID:10003772-1737572400-1737576000@shbcfamily.com
SUMMARY:Prayer Meeting
DESCRIPTION:
URL:https://shbcfamily.com/event/prayer-meeting-18/2025-01-22/
END:VEVENT
BEGIN:VEVENT
DTSTART;TZID=America/Detroit:20250122T183000
DTEND;TZID=America/Detroit:20250122T200000
DTSTAMP:20260425T232734
CREATED:20240729T150005Z
LAST-MODIFIED:20240729T150005Z
UID:10001922-1737570600-1737576000@shbcfamily.com
SUMMARY:AWANA
DESCRIPTION:
URL:https://shbcfamily.com/event/awana-10/2025-01-22/
END:VEVENT
BEGIN:VEVENT
DTSTART;TZID=America/Detroit:20250122T090000
DTEND;TZID=America/Detroit:20250122T100000
DTSTAMP:20260425T232734
CREATED:20241209T142712Z
LAST-MODIFIED:20241209T142712Z
UID:10003564-1737536400-1737540000@shbcfamily.com
SUMMARY:Aerobics
DESCRIPTION:
URL:https://shbcfamily.com/event/aerobics/2025-01-22/
END:VEVENT
BEGIN:VEVENT
DTSTART;TZID=America/Detroit:20250120T090000
DTEND;TZID=America/Detroit:20250120T100000
DTSTAMP:20260425T232734
CREATED:20241209T142712Z
LAST-MODIFIED:20241209T142712Z
UID:10003563-1737363600-1737367200@shbcfamily.com
SUMMARY:Aerobics
DESCRIPTION:
URL:https://shbcfamily.com/event/aerobics/2025-01-20/
END:VEVENT
BEGIN:VEVENT
DTSTART;TZID=America/Detroit:20250119T180000
DTEND;TZID=America/Detroit:20250119T193000
DTSTAMP:20260425T232734
CREATED:20241209T141100Z
LAST-MODIFIED:20241209T141100Z
UID:10003492-1737309600-1737315000@shbcfamily.com
SUMMARY:Annual Meeting
DESCRIPTION:
URL:https://shbcfamily.com/event/annual-meeting-3/
END:VEVENT
BEGIN:VEVENT
DTSTART;TZID=America/Detroit:20250119T173000
DTEND;TZID=America/Detroit:20250119T180000
DTSTAMP:20260425T232734
CREATED:20241209T141145Z
LAST-MODIFIED:20241209T141145Z
UID:10003493-1737307800-1737309600@shbcfamily.com
SUMMARY:Soup Supper
DESCRIPTION:
URL:https://shbcfamily.com/event/soup-supper-3/
END:VEVENT
BEGIN:VEVENT
DTSTART;TZID=America/Detroit:20250119T110000
DTEND;TZID=America/Detroit:20250119T123000
DTSTAMP:20260425T232734
CREATED:20241209T140921Z
LAST-MODIFIED:20241209T140921Z
UID:10003423-1737284400-1737289800@shbcfamily.com
SUMMARY:Worship Service
DESCRIPTION:
URL:https://shbcfamily.com/event/worship-service-31/2025-01-19/
END:VEVENT
BEGIN:VEVENT
DTSTART;TZID=America/Detroit:20250115T190000
DTEND;TZID=America/Detroit:20250115T200000
DTSTAMP:20260425T232734
CREATED:20241209T143548Z
LAST-MODIFIED:20241209T143548Z
UID:10003771-1736967600-1736971200@shbcfamily.com
SUMMARY:Prayer Meeting
DESCRIPTION:
URL:https://shbcfamily.com/event/prayer-meeting-18/2025-01-15/
END:VEVENT
BEGIN:VEVENT
DTSTART;TZID=America/Detroit:20250115T183000
DTEND;TZID=America/Detroit:20250115T200000
DTSTAMP:20260425T232734
CREATED:20240729T150005Z
LAST-MODIFIED:20240729T150005Z
UID:10001921-1736965800-1736971200@shbcfamily.com
SUMMARY:AWANA
DESCRIPTION:
URL:https://shbcfamily.com/event/awana-10/2025-01-15/
END:VEVENT
BEGIN:VEVENT
DTSTART;TZID=America/Detroit:20250115T090000
DTEND;TZID=America/Detroit:20250115T100000
DTSTAMP:20260425T232734
CREATED:20241209T142712Z
LAST-MODIFIED:20241209T142712Z
UID:10003562-1736931600-1736935200@shbcfamily.com
SUMMARY:Aerobics
DESCRIPTION:
URL:https://shbcfamily.com/event/aerobics/2025-01-15/
END:VEVENT
BEGIN:VEVENT
DTSTART;TZID=America/Detroit:20250113T090000
DTEND;TZID=America/Detroit:20250113T100000
DTSTAMP:20260425T232734
CREATED:20241209T142712Z
LAST-MODIFIED:20241209T142712Z
UID:10003561-1736758800-1736762400@shbcfamily.com
SUMMARY:Aerobics
DESCRIPTION:
URL:https://shbcfamily.com/event/aerobics/2025-01-13/
END:VEVENT
BEGIN:VEVENT
DTSTART;TZID=America/Detroit:20250112T110000
DTEND;TZID=America/Detroit:20250112T123000
DTSTAMP:20260425T232734
CREATED:20241209T140921Z
LAST-MODIFIED:20241209T140921Z
UID:10003422-1736679600-1736685000@shbcfamily.com
SUMMARY:Worship Service
DESCRIPTION:
URL:https://shbcfamily.com/event/worship-service-31/2025-01-12/
END:VEVENT
BEGIN:VEVENT
DTSTART;TZID=America/Detroit:20250108T190000
DTEND;TZID=America/Detroit:20250108T200000
DTSTAMP:20260425T232734
CREATED:20241209T143548Z
LAST-MODIFIED:20241209T143548Z
UID:10003770-1736362800-1736366400@shbcfamily.com
SUMMARY:Prayer Meeting
DESCRIPTION:
URL:https://shbcfamily.com/event/prayer-meeting-18/2025-01-08/
END:VEVENT
BEGIN:VEVENT
DTSTART;TZID=America/Detroit:20250108T183000
DTEND;TZID=America/Detroit:20250108T200000
DTSTAMP:20260425T232734
CREATED:20240729T150005Z
LAST-MODIFIED:20240729T150005Z
UID:10001920-1736361000-1736366400@shbcfamily.com
SUMMARY:AWANA
DESCRIPTION:
URL:https://shbcfamily.com/event/awana-10/2025-01-08/
END:VEVENT
BEGIN:VEVENT
DTSTART;TZID=America/Detroit:20250108T090000
DTEND;TZID=America/Detroit:20250108T100000
DTSTAMP:20260425T232734
CREATED:20241209T142712Z
LAST-MODIFIED:20241209T142712Z
UID:10003560-1736326800-1736330400@shbcfamily.com
SUMMARY:Aerobics
DESCRIPTION:
URL:https://shbcfamily.com/event/aerobics/2025-01-08/
END:VEVENT
BEGIN:VEVENT
DTSTART;TZID=America/Detroit:20250106T150000
DTEND;TZID=America/Detroit:20250106T190000
DTSTAMP:20260425T232734
CREATED:20241209T142803Z
LAST-MODIFIED:20241209T142803Z
UID:10003764-1736175600-1736190000@shbcfamily.com
SUMMARY:Community Blood Drive
DESCRIPTION:
URL:https://shbcfamily.com/event/community-blood-drive-23/
END:VEVENT
BEGIN:VEVENT
DTSTART;TZID=America/Detroit:20250106T090000
DTEND;TZID=America/Detroit:20250106T100000
DTSTAMP:20260425T232734
CREATED:20241209T142712Z
LAST-MODIFIED:20241209T142712Z
UID:10003559-1736154000-1736157600@shbcfamily.com
SUMMARY:Aerobics
DESCRIPTION:
URL:https://shbcfamily.com/event/aerobics/2025-01-06/
END:VEVENT
BEGIN:VEVENT
DTSTART;TZID=America/Detroit:20250105T103000
DTEND;TZID=America/Detroit:20250105T120000
DTSTAMP:20260425T232734
CREATED:20241209T140352Z
LAST-MODIFIED:20241209T140352Z
UID:10003281-1736073000-1736078400@shbcfamily.com
SUMMARY:Worship Service
DESCRIPTION:
URL:https://shbcfamily.com/event/worship-service-29/
END:VEVENT
BEGIN:VEVENT
DTSTART;TZID=America/Detroit:20241229T103000
DTEND;TZID=America/Detroit:20241229T120000
DTSTAMP:20260425T232734
CREATED:20241209T140143Z
LAST-MODIFIED:20241209T140143Z
UID:10003279-1735468200-1735473600@shbcfamily.com
SUMMARY:Worship Service
DESCRIPTION:
URL:https://shbcfamily.com/event/worship-service-28/
END:VEVENT
BEGIN:VEVENT
DTSTART;TZID=America/Detroit:20241224T180000
DTEND;TZID=America/Detroit:20241224T190000
DTSTAMP:20260425T232734
CREATED:20241209T140034Z
LAST-MODIFIED:20241209T140034Z
UID:10003278-1735063200-1735066800@shbcfamily.com
SUMMARY:Christmas Eve Service
DESCRIPTION:
URL:https://shbcfamily.com/event/christmas-eve-service-3/
END:VEVENT
BEGIN:VEVENT
DTSTART;TZID=America/Detroit:20241223T090000
DTEND;TZID=America/Detroit:20241223T100000
DTSTAMP:20260425T232734
CREATED:20241209T143829Z
LAST-MODIFIED:20241209T143829Z
UID:10003873-1734944400-1734948000@shbcfamily.com
SUMMARY:Community Aerobics
DESCRIPTION:
URL:https://shbcfamily.com/event/community-aerobics-29/
END:VEVENT
BEGIN:VEVENT
DTSTART;TZID=America/Detroit:20241222T090000
DTEND;TZID=America/Detroit:20241222T100000
DTSTAMP:20260425T232734
CREATED:20241209T135901Z
LAST-MODIFIED:20241209T135901Z
UID:10003277-1734858000-1734861600@shbcfamily.com
SUMMARY:ABF Christmas Brunch
DESCRIPTION:
URL:https://shbcfamily.com/event/abf-christmas-brunch/
END:VEVENT
END:VCALENDAR