BEGIN:VCALENDAR
VERSION:2.0
PRODID:-//Shawnee Hills Baptist Church - ECPv6.15.20//NONSGML v1.0//EN
CALSCALE:GREGORIAN
METHOD:PUBLISH
X-ORIGINAL-URL:https://shbcfamily.com
X-WR-CALDESC:Events for Shawnee Hills Baptist Church
REFRESH-INTERVAL;VALUE=DURATION:PT1H
X-Robots-Tag:noindex
X-PUBLISHED-TTL:PT1H
BEGIN:VTIMEZONE
TZID:America/Detroit
BEGIN:DAYLIGHT
TZOFFSETFROM:-0500
TZOFFSETTO:-0400
TZNAME:EDT
DTSTART:20250309T070000
END:DAYLIGHT
BEGIN:STANDARD
TZOFFSETFROM:-0400
TZOFFSETTO:-0500
TZNAME:EST
DTSTART:20251102T060000
END:STANDARD
BEGIN:DAYLIGHT
TZOFFSETFROM:-0500
TZOFFSETTO:-0400
TZNAME:EDT
DTSTART:20260308T070000
END:DAYLIGHT
BEGIN:STANDARD
TZOFFSETFROM:-0400
TZOFFSETTO:-0500
TZNAME:EST
DTSTART:20261101T060000
END:STANDARD
BEGIN:DAYLIGHT
TZOFFSETFROM:-0500
TZOFFSETTO:-0400
TZNAME:EDT
DTSTART:20270314T070000
END:DAYLIGHT
BEGIN:STANDARD
TZOFFSETFROM:-0400
TZOFFSETTO:-0500
TZNAME:EST
DTSTART:20271107T060000
END:STANDARD
END:VTIMEZONE
BEGIN:VEVENT
DTSTART;TZID=America/Detroit:20260824T090000
DTEND;TZID=America/Detroit:20260824T100000
DTSTAMP:20260425T103617
CREATED:20241209T142712Z
LAST-MODIFIED:20241209T142712Z
UID:10003729-1787562000-1787565600@shbcfamily.com
SUMMARY:Aerobics
DESCRIPTION:
URL:https://shbcfamily.com/event/aerobics/2026-08-24/
END:VEVENT
BEGIN:VEVENT
DTSTART;TZID=America/Detroit:20260826T090000
DTEND;TZID=America/Detroit:20260826T100000
DTSTAMP:20260425T103617
CREATED:20241209T142712Z
LAST-MODIFIED:20241209T142712Z
UID:10003730-1787734800-1787738400@shbcfamily.com
SUMMARY:Aerobics
DESCRIPTION:
URL:https://shbcfamily.com/event/aerobics/2026-08-26/
END:VEVENT
BEGIN:VEVENT
DTSTART;TZID=America/Detroit:20260826T190000
DTEND;TZID=America/Detroit:20260826T200000
DTSTAMP:20260425T103617
CREATED:20241209T143548Z
LAST-MODIFIED:20241209T143548Z
UID:10003855-1787770800-1787774400@shbcfamily.com
SUMMARY:Prayer Meeting
DESCRIPTION:
URL:https://shbcfamily.com/event/prayer-meeting-18/2026-08-26/
END:VEVENT
BEGIN:VEVENT
DTSTART;TZID=America/Detroit:20260830T083000
DTEND;TZID=America/Detroit:20260830T093000
DTSTAMP:20260425T103617
CREATED:20260113T145327Z
LAST-MODIFIED:20260113T145327Z
UID:10004223-1788078600-1788082200@shbcfamily.com
SUMMARY:Worship Service
DESCRIPTION:
URL:https://shbcfamily.com/event/worship-service-35/2026-08-30/
END:VEVENT
BEGIN:VEVENT
DTSTART;TZID=America/Detroit:20260830T094500
DTEND;TZID=America/Detroit:20260830T104500
DTSTAMP:20260425T103617
CREATED:20260113T145202Z
LAST-MODIFIED:20260113T145202Z
UID:10004153-1788083100-1788086700@shbcfamily.com
SUMMARY:ABF/SS
DESCRIPTION:
URL:https://shbcfamily.com/event/abf-ss-12/2026-08-30/
END:VEVENT
BEGIN:VEVENT
DTSTART;TZID=America/Detroit:20260830T110000
DTEND;TZID=America/Detroit:20260830T123000
DTSTAMP:20260425T103617
CREATED:20260113T145435Z
LAST-MODIFIED:20260113T145435Z
UID:10004293-1788087600-1788093000@shbcfamily.com
SUMMARY:Worship Service
DESCRIPTION:
URL:https://shbcfamily.com/event/worship-service-36/2026-08-30/
END:VEVENT
BEGIN:VEVENT
DTSTART;TZID=America/Detroit:20260830T180000
DTEND;TZID=America/Detroit:20260830T190000
DTSTAMP:20260425T103617
CREATED:20260113T145546Z
LAST-MODIFIED:20260113T145546Z
UID:10004361-1788112800-1788116400@shbcfamily.com
SUMMARY:Equip
DESCRIPTION:
URL:https://shbcfamily.com/event/equip-2/2026-08-30/
END:VEVENT
BEGIN:VEVENT
DTSTART;TZID=America/Detroit:20260831T090000
DTEND;TZID=America/Detroit:20260831T100000
DTSTAMP:20260425T103617
CREATED:20241209T142712Z
LAST-MODIFIED:20241209T142712Z
UID:10003731-1788166800-1788170400@shbcfamily.com
SUMMARY:Aerobics
DESCRIPTION:
URL:https://shbcfamily.com/event/aerobics/2026-08-31/
END:VEVENT
BEGIN:VEVENT
DTSTART;TZID=America/Detroit:20260902T090000
DTEND;TZID=America/Detroit:20260902T100000
DTSTAMP:20260425T103617
CREATED:20241209T142712Z
LAST-MODIFIED:20241209T142712Z
UID:10003732-1788339600-1788343200@shbcfamily.com
SUMMARY:Aerobics
DESCRIPTION:
URL:https://shbcfamily.com/event/aerobics/2026-09-02/
END:VEVENT
BEGIN:VEVENT
DTSTART;TZID=America/Detroit:20260902T190000
DTEND;TZID=America/Detroit:20260902T200000
DTSTAMP:20260425T103617
CREATED:20241209T143548Z
LAST-MODIFIED:20241209T143548Z
UID:10003856-1788375600-1788379200@shbcfamily.com
SUMMARY:Prayer Meeting
DESCRIPTION:
URL:https://shbcfamily.com/event/prayer-meeting-18/2026-09-02/
END:VEVENT
BEGIN:VEVENT
DTSTART;TZID=America/Detroit:20260906T083000
DTEND;TZID=America/Detroit:20260906T093000
DTSTAMP:20260425T103617
CREATED:20260113T145327Z
LAST-MODIFIED:20260113T145327Z
UID:10004224-1788683400-1788687000@shbcfamily.com
SUMMARY:Worship Service
DESCRIPTION:
URL:https://shbcfamily.com/event/worship-service-35/2026-09-06/
END:VEVENT
BEGIN:VEVENT
DTSTART;TZID=America/Detroit:20260906T094500
DTEND;TZID=America/Detroit:20260906T104500
DTSTAMP:20260425T103617
CREATED:20260113T145202Z
LAST-MODIFIED:20260113T145202Z
UID:10004154-1788687900-1788691500@shbcfamily.com
SUMMARY:ABF/SS
DESCRIPTION:
URL:https://shbcfamily.com/event/abf-ss-12/2026-09-06/
END:VEVENT
BEGIN:VEVENT
DTSTART;TZID=America/Detroit:20260906T110000
DTEND;TZID=America/Detroit:20260906T123000
DTSTAMP:20260425T103617
CREATED:20260113T145435Z
LAST-MODIFIED:20260113T145435Z
UID:10004294-1788692400-1788697800@shbcfamily.com
SUMMARY:Worship Service
DESCRIPTION:
URL:https://shbcfamily.com/event/worship-service-36/2026-09-06/
END:VEVENT
BEGIN:VEVENT
DTSTART;TZID=America/Detroit:20260906T180000
DTEND;TZID=America/Detroit:20260906T190000
DTSTAMP:20260425T103617
CREATED:20260113T145546Z
LAST-MODIFIED:20260113T145546Z
UID:10004362-1788717600-1788721200@shbcfamily.com
SUMMARY:Equip
DESCRIPTION:
URL:https://shbcfamily.com/event/equip-2/2026-09-06/
END:VEVENT
BEGIN:VEVENT
DTSTART;TZID=America/Detroit:20260907T090000
DTEND;TZID=America/Detroit:20260907T100000
DTSTAMP:20260425T103617
CREATED:20241209T142712Z
LAST-MODIFIED:20241209T142712Z
UID:10003733-1788771600-1788775200@shbcfamily.com
SUMMARY:Aerobics
DESCRIPTION:
URL:https://shbcfamily.com/event/aerobics/2026-09-07/
END:VEVENT
BEGIN:VEVENT
DTSTART;TZID=America/Detroit:20260909T090000
DTEND;TZID=America/Detroit:20260909T100000
DTSTAMP:20260425T103617
CREATED:20241209T142712Z
LAST-MODIFIED:20241209T142712Z
UID:10003734-1788944400-1788948000@shbcfamily.com
SUMMARY:Aerobics
DESCRIPTION:
URL:https://shbcfamily.com/event/aerobics/2026-09-09/
END:VEVENT
BEGIN:VEVENT
DTSTART;TZID=America/Detroit:20260909T190000
DTEND;TZID=America/Detroit:20260909T200000
DTSTAMP:20260425T103617
CREATED:20241209T143548Z
LAST-MODIFIED:20241209T143548Z
UID:10003857-1788980400-1788984000@shbcfamily.com
SUMMARY:Prayer Meeting
DESCRIPTION:
URL:https://shbcfamily.com/event/prayer-meeting-18/2026-09-09/
END:VEVENT
BEGIN:VEVENT
DTSTART;TZID=America/Detroit:20260913T083000
DTEND;TZID=America/Detroit:20260913T093000
DTSTAMP:20260425T103617
CREATED:20260113T145327Z
LAST-MODIFIED:20260113T145327Z
UID:10004225-1789288200-1789291800@shbcfamily.com
SUMMARY:Worship Service
DESCRIPTION:
URL:https://shbcfamily.com/event/worship-service-35/2026-09-13/
END:VEVENT
BEGIN:VEVENT
DTSTART;TZID=America/Detroit:20260913T094500
DTEND;TZID=America/Detroit:20260913T104500
DTSTAMP:20260425T103617
CREATED:20260113T145202Z
LAST-MODIFIED:20260113T145202Z
UID:10004155-1789292700-1789296300@shbcfamily.com
SUMMARY:ABF/SS
DESCRIPTION:
URL:https://shbcfamily.com/event/abf-ss-12/2026-09-13/
END:VEVENT
BEGIN:VEVENT
DTSTART;TZID=America/Detroit:20260913T110000
DTEND;TZID=America/Detroit:20260913T123000
DTSTAMP:20260425T103617
CREATED:20260113T145435Z
LAST-MODIFIED:20260113T145435Z
UID:10004295-1789297200-1789302600@shbcfamily.com
SUMMARY:Worship Service
DESCRIPTION:
URL:https://shbcfamily.com/event/worship-service-36/2026-09-13/
END:VEVENT
BEGIN:VEVENT
DTSTART;TZID=America/Detroit:20260913T180000
DTEND;TZID=America/Detroit:20260913T190000
DTSTAMP:20260425T103617
CREATED:20260113T145546Z
LAST-MODIFIED:20260113T145546Z
UID:10004363-1789322400-1789326000@shbcfamily.com
SUMMARY:Equip
DESCRIPTION:
URL:https://shbcfamily.com/event/equip-2/2026-09-13/
END:VEVENT
BEGIN:VEVENT
DTSTART;TZID=America/Detroit:20260914T090000
DTEND;TZID=America/Detroit:20260914T100000
DTSTAMP:20260425T103617
CREATED:20241209T142712Z
LAST-MODIFIED:20241209T142712Z
UID:10003735-1789376400-1789380000@shbcfamily.com
SUMMARY:Aerobics
DESCRIPTION:
URL:https://shbcfamily.com/event/aerobics/2026-09-14/
END:VEVENT
BEGIN:VEVENT
DTSTART;TZID=America/Detroit:20260916T090000
DTEND;TZID=America/Detroit:20260916T100000
DTSTAMP:20260425T103617
CREATED:20241209T142712Z
LAST-MODIFIED:20241209T142712Z
UID:10003736-1789549200-1789552800@shbcfamily.com
SUMMARY:Aerobics
DESCRIPTION:
URL:https://shbcfamily.com/event/aerobics/2026-09-16/
END:VEVENT
BEGIN:VEVENT
DTSTART;TZID=America/Detroit:20260916T190000
DTEND;TZID=America/Detroit:20260916T200000
DTSTAMP:20260425T103617
CREATED:20241209T143548Z
LAST-MODIFIED:20241209T143548Z
UID:10003858-1789585200-1789588800@shbcfamily.com
SUMMARY:Prayer Meeting
DESCRIPTION:
URL:https://shbcfamily.com/event/prayer-meeting-18/2026-09-16/
END:VEVENT
BEGIN:VEVENT
DTSTART;TZID=America/Detroit:20260920T083000
DTEND;TZID=America/Detroit:20260920T093000
DTSTAMP:20260425T103617
CREATED:20260113T145327Z
LAST-MODIFIED:20260113T145327Z
UID:10004226-1789893000-1789896600@shbcfamily.com
SUMMARY:Worship Service
DESCRIPTION:
URL:https://shbcfamily.com/event/worship-service-35/2026-09-20/
END:VEVENT
BEGIN:VEVENT
DTSTART;TZID=America/Detroit:20260920T094500
DTEND;TZID=America/Detroit:20260920T104500
DTSTAMP:20260425T103617
CREATED:20260113T145202Z
LAST-MODIFIED:20260113T145202Z
UID:10004156-1789897500-1789901100@shbcfamily.com
SUMMARY:ABF/SS
DESCRIPTION:
URL:https://shbcfamily.com/event/abf-ss-12/2026-09-20/
END:VEVENT
BEGIN:VEVENT
DTSTART;TZID=America/Detroit:20260920T110000
DTEND;TZID=America/Detroit:20260920T123000
DTSTAMP:20260425T103617
CREATED:20260113T145435Z
LAST-MODIFIED:20260113T145435Z
UID:10004296-1789902000-1789907400@shbcfamily.com
SUMMARY:Worship Service
DESCRIPTION:
URL:https://shbcfamily.com/event/worship-service-36/2026-09-20/
END:VEVENT
BEGIN:VEVENT
DTSTART;TZID=America/Detroit:20260920T180000
DTEND;TZID=America/Detroit:20260920T190000
DTSTAMP:20260425T103617
CREATED:20260113T145546Z
LAST-MODIFIED:20260113T145546Z
UID:10004364-1789927200-1789930800@shbcfamily.com
SUMMARY:Equip
DESCRIPTION:
URL:https://shbcfamily.com/event/equip-2/2026-09-20/
END:VEVENT
BEGIN:VEVENT
DTSTART;TZID=America/Detroit:20260921T090000
DTEND;TZID=America/Detroit:20260921T100000
DTSTAMP:20260425T103617
CREATED:20241209T142712Z
LAST-MODIFIED:20241209T142712Z
UID:10003737-1789981200-1789984800@shbcfamily.com
SUMMARY:Aerobics
DESCRIPTION:
URL:https://shbcfamily.com/event/aerobics/2026-09-21/
END:VEVENT
BEGIN:VEVENT
DTSTART;TZID=America/Detroit:20260923T090000
DTEND;TZID=America/Detroit:20260923T100000
DTSTAMP:20260425T103617
CREATED:20241209T142712Z
LAST-MODIFIED:20241209T142712Z
UID:10003738-1790154000-1790157600@shbcfamily.com
SUMMARY:Aerobics
DESCRIPTION:
URL:https://shbcfamily.com/event/aerobics/2026-09-23/
END:VEVENT
END:VCALENDAR