BEGIN:VCALENDAR
VERSION:2.0
PRODID:-//Shawnee Hills Baptist Church - ECPv6.15.20//NONSGML v1.0//EN
CALSCALE:GREGORIAN
METHOD:PUBLISH
X-ORIGINAL-URL:https://shbcfamily.com
X-WR-CALDESC:Events for Shawnee Hills Baptist Church
REFRESH-INTERVAL;VALUE=DURATION:PT1H
X-Robots-Tag:noindex
X-PUBLISHED-TTL:PT1H
BEGIN:VTIMEZONE
TZID:America/Detroit
BEGIN:DAYLIGHT
TZOFFSETFROM:-0500
TZOFFSETTO:-0400
TZNAME:EDT
DTSTART:20250309T070000
END:DAYLIGHT
BEGIN:STANDARD
TZOFFSETFROM:-0400
TZOFFSETTO:-0500
TZNAME:EST
DTSTART:20251102T060000
END:STANDARD
BEGIN:DAYLIGHT
TZOFFSETFROM:-0500
TZOFFSETTO:-0400
TZNAME:EDT
DTSTART:20260308T070000
END:DAYLIGHT
BEGIN:STANDARD
TZOFFSETFROM:-0400
TZOFFSETTO:-0500
TZNAME:EST
DTSTART:20261101T060000
END:STANDARD
BEGIN:DAYLIGHT
TZOFFSETFROM:-0500
TZOFFSETTO:-0400
TZNAME:EDT
DTSTART:20270314T070000
END:DAYLIGHT
BEGIN:STANDARD
TZOFFSETFROM:-0400
TZOFFSETTO:-0500
TZNAME:EST
DTSTART:20271107T060000
END:STANDARD
END:VTIMEZONE
BEGIN:VEVENT
DTSTART;TZID=America/Detroit:20260301T083000
DTEND;TZID=America/Detroit:20260301T093000
DTSTAMP:20260425T093129
CREATED:20260113T145327Z
LAST-MODIFIED:20260113T145327Z
UID:10004197-1772353800-1772357400@shbcfamily.com
SUMMARY:Worship Service
DESCRIPTION:
URL:https://shbcfamily.com/event/worship-service-35/2026-03-01/
END:VEVENT
BEGIN:VEVENT
DTSTART;TZID=America/Detroit:20260301T094500
DTEND;TZID=America/Detroit:20260301T104500
DTSTAMP:20260425T093129
CREATED:20260113T145202Z
LAST-MODIFIED:20260113T145202Z
UID:10004127-1772358300-1772361900@shbcfamily.com
SUMMARY:ABF/SS
DESCRIPTION:
URL:https://shbcfamily.com/event/abf-ss-12/2026-03-01/
END:VEVENT
BEGIN:VEVENT
DTSTART;TZID=America/Detroit:20260301T110000
DTEND;TZID=America/Detroit:20260301T123000
DTSTAMP:20260425T093130
CREATED:20260113T145435Z
LAST-MODIFIED:20260113T145435Z
UID:10004267-1772362800-1772368200@shbcfamily.com
SUMMARY:Worship Service
DESCRIPTION:
URL:https://shbcfamily.com/event/worship-service-36/2026-03-01/
END:VEVENT
BEGIN:VEVENT
DTSTART;TZID=America/Detroit:20260301T180000
DTEND;TZID=America/Detroit:20260301T190000
DTSTAMP:20260425T093130
CREATED:20260113T145546Z
LAST-MODIFIED:20260113T145546Z
UID:10004335-1772388000-1772391600@shbcfamily.com
SUMMARY:Equip
DESCRIPTION:
URL:https://shbcfamily.com/event/equip-2/2026-03-01/
END:VEVENT
BEGIN:VEVENT
DTSTART;TZID=America/Detroit:20260302T090000
DTEND;TZID=America/Detroit:20260302T100000
DTSTAMP:20260425T093130
CREATED:20241209T142712Z
LAST-MODIFIED:20241209T142712Z
UID:10003679-1772442000-1772445600@shbcfamily.com
SUMMARY:Aerobics
DESCRIPTION:
URL:https://shbcfamily.com/event/aerobics/2026-03-02/
END:VEVENT
BEGIN:VEVENT
DTSTART;TZID=America/Detroit:20260304T090000
DTEND;TZID=America/Detroit:20260304T100000
DTSTAMP:20260425T093130
CREATED:20241209T142712Z
LAST-MODIFIED:20241209T142712Z
UID:10003680-1772614800-1772618400@shbcfamily.com
SUMMARY:Aerobics
DESCRIPTION:
URL:https://shbcfamily.com/event/aerobics/2026-03-04/
END:VEVENT
BEGIN:VEVENT
DTSTART;TZID=America/Detroit:20260304T190000
DTEND;TZID=America/Detroit:20260304T200000
DTSTAMP:20260425T093130
CREATED:20241209T143548Z
LAST-MODIFIED:20241209T143548Z
UID:10003830-1772650800-1772654400@shbcfamily.com
SUMMARY:Prayer Meeting
DESCRIPTION:
URL:https://shbcfamily.com/event/prayer-meeting-18/2026-03-04/
END:VEVENT
BEGIN:VEVENT
DTSTART;TZID=America/Detroit:20260307T080000
DTEND;TZID=America/Detroit:20260307T150000
DTSTAMP:20260425T093130
CREATED:20260113T150104Z
LAST-MODIFIED:20260113T150104Z
UID:10004395-1772870400-1772895600@shbcfamily.com
SUMMARY:Men of God Conference
DESCRIPTION:
URL:https://shbcfamily.com/event/men-of-god-conference-3/
END:VEVENT
BEGIN:VEVENT
DTSTART;TZID=America/Detroit:20260308T083000
DTEND;TZID=America/Detroit:20260308T093000
DTSTAMP:20260425T093130
CREATED:20260113T145327Z
LAST-MODIFIED:20260113T145327Z
UID:10004198-1772958600-1772962200@shbcfamily.com
SUMMARY:Worship Service
DESCRIPTION:
URL:https://shbcfamily.com/event/worship-service-35/2026-03-08/
END:VEVENT
BEGIN:VEVENT
DTSTART;TZID=America/Detroit:20260308T094500
DTEND;TZID=America/Detroit:20260308T104500
DTSTAMP:20260425T093130
CREATED:20260113T145202Z
LAST-MODIFIED:20260113T145202Z
UID:10004128-1772963100-1772966700@shbcfamily.com
SUMMARY:ABF/SS
DESCRIPTION:
URL:https://shbcfamily.com/event/abf-ss-12/2026-03-08/
END:VEVENT
BEGIN:VEVENT
DTSTART;TZID=America/Detroit:20260308T110000
DTEND;TZID=America/Detroit:20260308T123000
DTSTAMP:20260425T093130
CREATED:20260113T145435Z
LAST-MODIFIED:20260113T145435Z
UID:10004268-1772967600-1772973000@shbcfamily.com
SUMMARY:Worship Service
DESCRIPTION:
URL:https://shbcfamily.com/event/worship-service-36/2026-03-08/
END:VEVENT
BEGIN:VEVENT
DTSTART;TZID=America/Detroit:20260308T180000
DTEND;TZID=America/Detroit:20260308T190000
DTSTAMP:20260425T093130
CREATED:20260113T145546Z
LAST-MODIFIED:20260113T145546Z
UID:10004336-1772992800-1772996400@shbcfamily.com
SUMMARY:Equip
DESCRIPTION:
URL:https://shbcfamily.com/event/equip-2/2026-03-08/
END:VEVENT
BEGIN:VEVENT
DTSTART;TZID=America/Detroit:20260309T090000
DTEND;TZID=America/Detroit:20260309T100000
DTSTAMP:20260425T093130
CREATED:20241209T142712Z
LAST-MODIFIED:20241209T142712Z
UID:10003681-1773046800-1773050400@shbcfamily.com
SUMMARY:Aerobics
DESCRIPTION:
URL:https://shbcfamily.com/event/aerobics/2026-03-09/
END:VEVENT
BEGIN:VEVENT
DTSTART;TZID=America/Detroit:20260311T090000
DTEND;TZID=America/Detroit:20260311T100000
DTSTAMP:20260425T093130
CREATED:20241209T142712Z
LAST-MODIFIED:20241209T142712Z
UID:10003682-1773219600-1773223200@shbcfamily.com
SUMMARY:Aerobics
DESCRIPTION:
URL:https://shbcfamily.com/event/aerobics/2026-03-11/
END:VEVENT
BEGIN:VEVENT
DTSTART;TZID=America/Detroit:20260311T190000
DTEND;TZID=America/Detroit:20260311T200000
DTSTAMP:20260425T093130
CREATED:20241209T143548Z
LAST-MODIFIED:20241209T143548Z
UID:10003831-1773255600-1773259200@shbcfamily.com
SUMMARY:Prayer Meeting
DESCRIPTION:
URL:https://shbcfamily.com/event/prayer-meeting-18/2026-03-11/
END:VEVENT
BEGIN:VEVENT
DTSTART;TZID=America/Detroit:20260315T083000
DTEND;TZID=America/Detroit:20260315T093000
DTSTAMP:20260425T093130
CREATED:20260113T145327Z
LAST-MODIFIED:20260113T145327Z
UID:10004199-1773563400-1773567000@shbcfamily.com
SUMMARY:Worship Service
DESCRIPTION:
URL:https://shbcfamily.com/event/worship-service-35/2026-03-15/
END:VEVENT
BEGIN:VEVENT
DTSTART;TZID=America/Detroit:20260315T094500
DTEND;TZID=America/Detroit:20260315T104500
DTSTAMP:20260425T093130
CREATED:20260113T145202Z
LAST-MODIFIED:20260113T145202Z
UID:10004129-1773567900-1773571500@shbcfamily.com
SUMMARY:ABF/SS
DESCRIPTION:
URL:https://shbcfamily.com/event/abf-ss-12/2026-03-15/
END:VEVENT
BEGIN:VEVENT
DTSTART;TZID=America/Detroit:20260315T110000
DTEND;TZID=America/Detroit:20260315T123000
DTSTAMP:20260425T093130
CREATED:20260113T145435Z
LAST-MODIFIED:20260113T145435Z
UID:10004269-1773572400-1773577800@shbcfamily.com
SUMMARY:Worship Service
DESCRIPTION:
URL:https://shbcfamily.com/event/worship-service-36/2026-03-15/
END:VEVENT
BEGIN:VEVENT
DTSTART;TZID=America/Detroit:20260315T180000
DTEND;TZID=America/Detroit:20260315T190000
DTSTAMP:20260425T093130
CREATED:20260113T145546Z
LAST-MODIFIED:20260113T145546Z
UID:10004337-1773597600-1773601200@shbcfamily.com
SUMMARY:Equip
DESCRIPTION:
URL:https://shbcfamily.com/event/equip-2/2026-03-15/
END:VEVENT
BEGIN:VEVENT
DTSTART;TZID=America/Detroit:20260316T090000
DTEND;TZID=America/Detroit:20260316T100000
DTSTAMP:20260425T093130
CREATED:20241209T142712Z
LAST-MODIFIED:20241209T142712Z
UID:10003683-1773651600-1773655200@shbcfamily.com
SUMMARY:Aerobics
DESCRIPTION:
URL:https://shbcfamily.com/event/aerobics/2026-03-16/
END:VEVENT
BEGIN:VEVENT
DTSTART;TZID=America/Detroit:20260318T090000
DTEND;TZID=America/Detroit:20260318T100000
DTSTAMP:20260425T093130
CREATED:20241209T142712Z
LAST-MODIFIED:20241209T142712Z
UID:10003684-1773824400-1773828000@shbcfamily.com
SUMMARY:Aerobics
DESCRIPTION:
URL:https://shbcfamily.com/event/aerobics/2026-03-18/
END:VEVENT
BEGIN:VEVENT
DTSTART;TZID=America/Detroit:20260318T190000
DTEND;TZID=America/Detroit:20260318T200000
DTSTAMP:20260425T093130
CREATED:20241209T143548Z
LAST-MODIFIED:20241209T143548Z
UID:10003832-1773860400-1773864000@shbcfamily.com
SUMMARY:Prayer Meeting
DESCRIPTION:
URL:https://shbcfamily.com/event/prayer-meeting-18/2026-03-18/
END:VEVENT
BEGIN:VEVENT
DTSTART;TZID=America/Detroit:20260322T083000
DTEND;TZID=America/Detroit:20260322T093000
DTSTAMP:20260425T093130
CREATED:20260113T145327Z
LAST-MODIFIED:20260113T145327Z
UID:10004200-1774168200-1774171800@shbcfamily.com
SUMMARY:Worship Service
DESCRIPTION:
URL:https://shbcfamily.com/event/worship-service-35/2026-03-22/
END:VEVENT
BEGIN:VEVENT
DTSTART;TZID=America/Detroit:20260322T094500
DTEND;TZID=America/Detroit:20260322T104500
DTSTAMP:20260425T093130
CREATED:20260113T145202Z
LAST-MODIFIED:20260113T145202Z
UID:10004130-1774172700-1774176300@shbcfamily.com
SUMMARY:ABF/SS
DESCRIPTION:
URL:https://shbcfamily.com/event/abf-ss-12/2026-03-22/
END:VEVENT
BEGIN:VEVENT
DTSTART;TZID=America/Detroit:20260322T110000
DTEND;TZID=America/Detroit:20260322T123000
DTSTAMP:20260425T093130
CREATED:20260113T145435Z
LAST-MODIFIED:20260113T145435Z
UID:10004270-1774177200-1774182600@shbcfamily.com
SUMMARY:Worship Service
DESCRIPTION:
URL:https://shbcfamily.com/event/worship-service-36/2026-03-22/
END:VEVENT
BEGIN:VEVENT
DTSTART;TZID=America/Detroit:20260322T180000
DTEND;TZID=America/Detroit:20260322T190000
DTSTAMP:20260425T093130
CREATED:20260113T145546Z
LAST-MODIFIED:20260113T145546Z
UID:10004338-1774202400-1774206000@shbcfamily.com
SUMMARY:Equip
DESCRIPTION:
URL:https://shbcfamily.com/event/equip-2/2026-03-22/
END:VEVENT
BEGIN:VEVENT
DTSTART;TZID=America/Detroit:20260323T090000
DTEND;TZID=America/Detroit:20260323T100000
DTSTAMP:20260425T093130
CREATED:20241209T142712Z
LAST-MODIFIED:20241209T142712Z
UID:10003685-1774256400-1774260000@shbcfamily.com
SUMMARY:Aerobics
DESCRIPTION:
URL:https://shbcfamily.com/event/aerobics/2026-03-23/
END:VEVENT
BEGIN:VEVENT
DTSTART;TZID=America/Detroit:20260325T090000
DTEND;TZID=America/Detroit:20260325T100000
DTSTAMP:20260425T093130
CREATED:20241209T142712Z
LAST-MODIFIED:20241209T142712Z
UID:10003686-1774429200-1774432800@shbcfamily.com
SUMMARY:Aerobics
DESCRIPTION:
URL:https://shbcfamily.com/event/aerobics/2026-03-25/
END:VEVENT
BEGIN:VEVENT
DTSTART;TZID=America/Detroit:20260325T190000
DTEND;TZID=America/Detroit:20260325T200000
DTSTAMP:20260425T093130
CREATED:20241209T143548Z
LAST-MODIFIED:20241209T143548Z
UID:10003833-1774465200-1774468800@shbcfamily.com
SUMMARY:Prayer Meeting
DESCRIPTION:
URL:https://shbcfamily.com/event/prayer-meeting-18/2026-03-25/
END:VEVENT
BEGIN:VEVENT
DTSTART;TZID=America/Detroit:20260329T083000
DTEND;TZID=America/Detroit:20260329T093000
DTSTAMP:20260425T093130
CREATED:20260113T145327Z
LAST-MODIFIED:20260113T145327Z
UID:10004201-1774773000-1774776600@shbcfamily.com
SUMMARY:Worship Service
DESCRIPTION:
URL:https://shbcfamily.com/event/worship-service-35/2026-03-29/
END:VEVENT
END:VCALENDAR