BEGIN:VCALENDAR
VERSION:2.0
PRODID:-//Shawnee Hills Baptist Church - ECPv6.15.20//NONSGML v1.0//EN
CALSCALE:GREGORIAN
METHOD:PUBLISH
X-ORIGINAL-URL:https://shbcfamily.com
X-WR-CALDESC:Events for Shawnee Hills Baptist Church
REFRESH-INTERVAL;VALUE=DURATION:PT1H
X-Robots-Tag:noindex
X-PUBLISHED-TTL:PT1H
BEGIN:VTIMEZONE
TZID:America/Detroit
BEGIN:DAYLIGHT
TZOFFSETFROM:-0500
TZOFFSETTO:-0400
TZNAME:EDT
DTSTART:20250309T070000
END:DAYLIGHT
BEGIN:STANDARD
TZOFFSETFROM:-0400
TZOFFSETTO:-0500
TZNAME:EST
DTSTART:20251102T060000
END:STANDARD
BEGIN:DAYLIGHT
TZOFFSETFROM:-0500
TZOFFSETTO:-0400
TZNAME:EDT
DTSTART:20260308T070000
END:DAYLIGHT
BEGIN:STANDARD
TZOFFSETFROM:-0400
TZOFFSETTO:-0500
TZNAME:EST
DTSTART:20261101T060000
END:STANDARD
BEGIN:DAYLIGHT
TZOFFSETFROM:-0500
TZOFFSETTO:-0400
TZNAME:EDT
DTSTART:20270314T070000
END:DAYLIGHT
BEGIN:STANDARD
TZOFFSETFROM:-0400
TZOFFSETTO:-0500
TZNAME:EST
DTSTART:20271107T060000
END:STANDARD
END:VTIMEZONE
BEGIN:VEVENT
DTSTART;TZID=America/Detroit:20260923T190000
DTEND;TZID=America/Detroit:20260923T200000
DTSTAMP:20260425T080222
CREATED:20241209T143548Z
LAST-MODIFIED:20241209T143548Z
UID:10003859-1790190000-1790193600@shbcfamily.com
SUMMARY:Prayer Meeting
DESCRIPTION:
URL:https://shbcfamily.com/event/prayer-meeting-18/2026-09-23/
END:VEVENT
BEGIN:VEVENT
DTSTART;TZID=America/Detroit:20260927T083000
DTEND;TZID=America/Detroit:20260927T093000
DTSTAMP:20260425T080222
CREATED:20260113T145327Z
LAST-MODIFIED:20260113T145327Z
UID:10004227-1790497800-1790501400@shbcfamily.com
SUMMARY:Worship Service
DESCRIPTION:
URL:https://shbcfamily.com/event/worship-service-35/2026-09-27/
END:VEVENT
BEGIN:VEVENT
DTSTART;TZID=America/Detroit:20260927T094500
DTEND;TZID=America/Detroit:20260927T104500
DTSTAMP:20260425T080222
CREATED:20260113T145202Z
LAST-MODIFIED:20260113T145202Z
UID:10004157-1790502300-1790505900@shbcfamily.com
SUMMARY:ABF/SS
DESCRIPTION:
URL:https://shbcfamily.com/event/abf-ss-12/2026-09-27/
END:VEVENT
BEGIN:VEVENT
DTSTART;TZID=America/Detroit:20260927T110000
DTEND;TZID=America/Detroit:20260927T123000
DTSTAMP:20260425T080222
CREATED:20260113T145435Z
LAST-MODIFIED:20260113T145435Z
UID:10004297-1790506800-1790512200@shbcfamily.com
SUMMARY:Worship Service
DESCRIPTION:
URL:https://shbcfamily.com/event/worship-service-36/2026-09-27/
END:VEVENT
BEGIN:VEVENT
DTSTART;TZID=America/Detroit:20260927T180000
DTEND;TZID=America/Detroit:20260927T190000
DTSTAMP:20260425T080222
CREATED:20260113T145546Z
LAST-MODIFIED:20260113T145546Z
UID:10004365-1790532000-1790535600@shbcfamily.com
SUMMARY:Equip
DESCRIPTION:
URL:https://shbcfamily.com/event/equip-2/2026-09-27/
END:VEVENT
BEGIN:VEVENT
DTSTART;TZID=America/Detroit:20260928T090000
DTEND;TZID=America/Detroit:20260928T100000
DTSTAMP:20260425T080222
CREATED:20241209T142712Z
LAST-MODIFIED:20241209T142712Z
UID:10003739-1790586000-1790589600@shbcfamily.com
SUMMARY:Aerobics
DESCRIPTION:
URL:https://shbcfamily.com/event/aerobics/2026-09-28/
END:VEVENT
BEGIN:VEVENT
DTSTART;TZID=America/Detroit:20260930T090000
DTEND;TZID=America/Detroit:20260930T100000
DTSTAMP:20260425T080222
CREATED:20241209T142712Z
LAST-MODIFIED:20241209T142712Z
UID:10003740-1790758800-1790762400@shbcfamily.com
SUMMARY:Aerobics
DESCRIPTION:
URL:https://shbcfamily.com/event/aerobics/2026-09-30/
END:VEVENT
BEGIN:VEVENT
DTSTART;TZID=America/Detroit:20260930T190000
DTEND;TZID=America/Detroit:20260930T200000
DTSTAMP:20260425T080222
CREATED:20241209T143548Z
LAST-MODIFIED:20241209T143548Z
UID:10003860-1790794800-1790798400@shbcfamily.com
SUMMARY:Prayer Meeting
DESCRIPTION:
URL:https://shbcfamily.com/event/prayer-meeting-18/2026-09-30/
END:VEVENT
BEGIN:VEVENT
DTSTART;TZID=America/Detroit:20261004T083000
DTEND;TZID=America/Detroit:20261004T093000
DTSTAMP:20260425T080222
CREATED:20260113T145327Z
LAST-MODIFIED:20260113T145327Z
UID:10004228-1791102600-1791106200@shbcfamily.com
SUMMARY:Worship Service
DESCRIPTION:
URL:https://shbcfamily.com/event/worship-service-35/2026-10-04/
END:VEVENT
BEGIN:VEVENT
DTSTART;TZID=America/Detroit:20261004T094500
DTEND;TZID=America/Detroit:20261004T104500
DTSTAMP:20260425T080222
CREATED:20260113T145202Z
LAST-MODIFIED:20260113T145202Z
UID:10004158-1791107100-1791110700@shbcfamily.com
SUMMARY:ABF/SS
DESCRIPTION:
URL:https://shbcfamily.com/event/abf-ss-12/2026-10-04/
END:VEVENT
BEGIN:VEVENT
DTSTART;TZID=America/Detroit:20261004T110000
DTEND;TZID=America/Detroit:20261004T123000
DTSTAMP:20260425T080222
CREATED:20260113T145435Z
LAST-MODIFIED:20260113T145435Z
UID:10004298-1791111600-1791117000@shbcfamily.com
SUMMARY:Worship Service
DESCRIPTION:
URL:https://shbcfamily.com/event/worship-service-36/2026-10-04/
END:VEVENT
BEGIN:VEVENT
DTSTART;TZID=America/Detroit:20261004T180000
DTEND;TZID=America/Detroit:20261004T190000
DTSTAMP:20260425T080222
CREATED:20260113T145546Z
LAST-MODIFIED:20260113T145546Z
UID:10004366-1791136800-1791140400@shbcfamily.com
SUMMARY:Equip
DESCRIPTION:
URL:https://shbcfamily.com/event/equip-2/2026-10-04/
END:VEVENT
BEGIN:VEVENT
DTSTART;TZID=America/Detroit:20261005T090000
DTEND;TZID=America/Detroit:20261005T100000
DTSTAMP:20260425T080222
CREATED:20241209T142712Z
LAST-MODIFIED:20241209T142712Z
UID:10003741-1791190800-1791194400@shbcfamily.com
SUMMARY:Aerobics
DESCRIPTION:
URL:https://shbcfamily.com/event/aerobics/2026-10-05/
END:VEVENT
BEGIN:VEVENT
DTSTART;TZID=America/Detroit:20261007T090000
DTEND;TZID=America/Detroit:20261007T100000
DTSTAMP:20260425T080222
CREATED:20241209T142712Z
LAST-MODIFIED:20241209T142712Z
UID:10003742-1791363600-1791367200@shbcfamily.com
SUMMARY:Aerobics
DESCRIPTION:
URL:https://shbcfamily.com/event/aerobics/2026-10-07/
END:VEVENT
BEGIN:VEVENT
DTSTART;TZID=America/Detroit:20261007T190000
DTEND;TZID=America/Detroit:20261007T200000
DTSTAMP:20260425T080222
CREATED:20241209T143548Z
LAST-MODIFIED:20241209T143548Z
UID:10003861-1791399600-1791403200@shbcfamily.com
SUMMARY:Prayer Meeting
DESCRIPTION:
URL:https://shbcfamily.com/event/prayer-meeting-18/2026-10-07/
END:VEVENT
BEGIN:VEVENT
DTSTART;TZID=America/Detroit:20261011T083000
DTEND;TZID=America/Detroit:20261011T093000
DTSTAMP:20260425T080222
CREATED:20260113T145327Z
LAST-MODIFIED:20260113T145327Z
UID:10004229-1791707400-1791711000@shbcfamily.com
SUMMARY:Worship Service
DESCRIPTION:
URL:https://shbcfamily.com/event/worship-service-35/2026-10-11/
END:VEVENT
BEGIN:VEVENT
DTSTART;TZID=America/Detroit:20261011T094500
DTEND;TZID=America/Detroit:20261011T104500
DTSTAMP:20260425T080222
CREATED:20260113T145202Z
LAST-MODIFIED:20260113T145202Z
UID:10004159-1791711900-1791715500@shbcfamily.com
SUMMARY:ABF/SS
DESCRIPTION:
URL:https://shbcfamily.com/event/abf-ss-12/2026-10-11/
END:VEVENT
BEGIN:VEVENT
DTSTART;TZID=America/Detroit:20261011T110000
DTEND;TZID=America/Detroit:20261011T123000
DTSTAMP:20260425T080222
CREATED:20260113T145435Z
LAST-MODIFIED:20260113T145435Z
UID:10004299-1791716400-1791721800@shbcfamily.com
SUMMARY:Worship Service
DESCRIPTION:
URL:https://shbcfamily.com/event/worship-service-36/2026-10-11/
END:VEVENT
BEGIN:VEVENT
DTSTART;TZID=America/Detroit:20261011T180000
DTEND;TZID=America/Detroit:20261011T190000
DTSTAMP:20260425T080222
CREATED:20260113T145546Z
LAST-MODIFIED:20260113T145546Z
UID:10004367-1791741600-1791745200@shbcfamily.com
SUMMARY:Equip
DESCRIPTION:
URL:https://shbcfamily.com/event/equip-2/2026-10-11/
END:VEVENT
BEGIN:VEVENT
DTSTART;TZID=America/Detroit:20261012T090000
DTEND;TZID=America/Detroit:20261012T100000
DTSTAMP:20260425T080222
CREATED:20241209T142712Z
LAST-MODIFIED:20241209T142712Z
UID:10003743-1791795600-1791799200@shbcfamily.com
SUMMARY:Aerobics
DESCRIPTION:
URL:https://shbcfamily.com/event/aerobics/2026-10-12/
END:VEVENT
BEGIN:VEVENT
DTSTART;TZID=America/Detroit:20261014T090000
DTEND;TZID=America/Detroit:20261014T100000
DTSTAMP:20260425T080222
CREATED:20241209T142712Z
LAST-MODIFIED:20241209T142712Z
UID:10003744-1791968400-1791972000@shbcfamily.com
SUMMARY:Aerobics
DESCRIPTION:
URL:https://shbcfamily.com/event/aerobics/2026-10-14/
END:VEVENT
BEGIN:VEVENT
DTSTART;TZID=America/Detroit:20261014T190000
DTEND;TZID=America/Detroit:20261014T200000
DTSTAMP:20260425T080222
CREATED:20241209T143548Z
LAST-MODIFIED:20241209T143548Z
UID:10003862-1792004400-1792008000@shbcfamily.com
SUMMARY:Prayer Meeting
DESCRIPTION:
URL:https://shbcfamily.com/event/prayer-meeting-18/2026-10-14/
END:VEVENT
BEGIN:VEVENT
DTSTART;TZID=America/Detroit:20261018T083000
DTEND;TZID=America/Detroit:20261018T093000
DTSTAMP:20260425T080222
CREATED:20260113T145327Z
LAST-MODIFIED:20260113T145327Z
UID:10004230-1792312200-1792315800@shbcfamily.com
SUMMARY:Worship Service
DESCRIPTION:
URL:https://shbcfamily.com/event/worship-service-35/2026-10-18/
END:VEVENT
BEGIN:VEVENT
DTSTART;TZID=America/Detroit:20261018T094500
DTEND;TZID=America/Detroit:20261018T104500
DTSTAMP:20260425T080222
CREATED:20260113T145202Z
LAST-MODIFIED:20260113T145202Z
UID:10004160-1792316700-1792320300@shbcfamily.com
SUMMARY:ABF/SS
DESCRIPTION:
URL:https://shbcfamily.com/event/abf-ss-12/2026-10-18/
END:VEVENT
BEGIN:VEVENT
DTSTART;TZID=America/Detroit:20261018T110000
DTEND;TZID=America/Detroit:20261018T123000
DTSTAMP:20260425T080222
CREATED:20260113T145435Z
LAST-MODIFIED:20260113T145435Z
UID:10004300-1792321200-1792326600@shbcfamily.com
SUMMARY:Worship Service
DESCRIPTION:
URL:https://shbcfamily.com/event/worship-service-36/2026-10-18/
END:VEVENT
BEGIN:VEVENT
DTSTART;TZID=America/Detroit:20261018T180000
DTEND;TZID=America/Detroit:20261018T190000
DTSTAMP:20260425T080222
CREATED:20260113T145546Z
LAST-MODIFIED:20260113T145546Z
UID:10004368-1792346400-1792350000@shbcfamily.com
SUMMARY:Equip
DESCRIPTION:
URL:https://shbcfamily.com/event/equip-2/2026-10-18/
END:VEVENT
BEGIN:VEVENT
DTSTART;TZID=America/Detroit:20261019T090000
DTEND;TZID=America/Detroit:20261019T100000
DTSTAMP:20260425T080222
CREATED:20241209T142712Z
LAST-MODIFIED:20241209T142712Z
UID:10003745-1792400400-1792404000@shbcfamily.com
SUMMARY:Aerobics
DESCRIPTION:
URL:https://shbcfamily.com/event/aerobics/2026-10-19/
END:VEVENT
BEGIN:VEVENT
DTSTART;TZID=America/Detroit:20261021T090000
DTEND;TZID=America/Detroit:20261021T100000
DTSTAMP:20260425T080222
CREATED:20241209T142712Z
LAST-MODIFIED:20241209T142712Z
UID:10003746-1792573200-1792576800@shbcfamily.com
SUMMARY:Aerobics
DESCRIPTION:
URL:https://shbcfamily.com/event/aerobics/2026-10-21/
END:VEVENT
BEGIN:VEVENT
DTSTART;TZID=America/Detroit:20261021T190000
DTEND;TZID=America/Detroit:20261021T200000
DTSTAMP:20260425T080222
CREATED:20241209T143548Z
LAST-MODIFIED:20241209T143548Z
UID:10003863-1792609200-1792612800@shbcfamily.com
SUMMARY:Prayer Meeting
DESCRIPTION:
URL:https://shbcfamily.com/event/prayer-meeting-18/2026-10-21/
END:VEVENT
BEGIN:VEVENT
DTSTART;TZID=America/Detroit:20261025T083000
DTEND;TZID=America/Detroit:20261025T093000
DTSTAMP:20260425T080222
CREATED:20260113T145327Z
LAST-MODIFIED:20260113T145327Z
UID:10004231-1792917000-1792920600@shbcfamily.com
SUMMARY:Worship Service
DESCRIPTION:
URL:https://shbcfamily.com/event/worship-service-35/2026-10-25/
END:VEVENT
END:VCALENDAR