BEGIN:VCALENDAR
VERSION:2.0
PRODID:-//Shawnee Hills Baptist Church - ECPv6.15.20//NONSGML v1.0//EN
CALSCALE:GREGORIAN
METHOD:PUBLISH
X-WR-CALNAME:Shawnee Hills Baptist Church
X-ORIGINAL-URL:https://shbcfamily.com
X-WR-CALDESC:Events for Shawnee Hills Baptist Church
REFRESH-INTERVAL;VALUE=DURATION:PT1H
X-Robots-Tag:noindex
X-PUBLISHED-TTL:PT1H
BEGIN:VTIMEZONE
TZID:America/Detroit
BEGIN:DAYLIGHT
TZOFFSETFROM:-0500
TZOFFSETTO:-0400
TZNAME:EDT
DTSTART:20170312T070000
END:DAYLIGHT
BEGIN:STANDARD
TZOFFSETFROM:-0400
TZOFFSETTO:-0500
TZNAME:EST
DTSTART:20171105T060000
END:STANDARD
BEGIN:DAYLIGHT
TZOFFSETFROM:-0500
TZOFFSETTO:-0400
TZNAME:EDT
DTSTART:20180311T070000
END:DAYLIGHT
BEGIN:STANDARD
TZOFFSETFROM:-0400
TZOFFSETTO:-0500
TZNAME:EST
DTSTART:20181104T060000
END:STANDARD
BEGIN:DAYLIGHT
TZOFFSETFROM:-0500
TZOFFSETTO:-0400
TZNAME:EDT
DTSTART:20190310T070000
END:DAYLIGHT
BEGIN:STANDARD
TZOFFSETFROM:-0400
TZOFFSETTO:-0500
TZNAME:EST
DTSTART:20191103T060000
END:STANDARD
END:VTIMEZONE
BEGIN:VEVENT
DTSTART;TZID=America/Detroit:20181024T181500
DTEND;TZID=America/Detroit:20181024T200000
DTSTAMP:20260425T084909
CREATED:20181022T214416Z
LAST-MODIFIED:20190315T201435Z
UID:10000308-1540404900-1540411200@shbcfamily.com
SUMMARY:AWANA
DESCRIPTION:AWANA is a weekly club for kids packed with Bible learning and awesome games! Children four years old through sixth grade can attend.\nAWANA is on Wednesdays from 6:15 – 8:00 pm. Please check in with the AWANA secretaries in the Shawnee Hills foyer.
URL:https://shbcfamily.com/event/awana/2018-10-24/
ATTACH;FMTTYPE=image/png:https://shbcfamily.com/wp-content/uploads/2019/03/2430.png
END:VEVENT
BEGIN:VEVENT
DTSTART;TZID=America/Detroit:20181031T181500
DTEND;TZID=America/Detroit:20181031T200000
DTSTAMP:20260425T084909
CREATED:20181022T214416Z
LAST-MODIFIED:20190315T201435Z
UID:10000309-1541009700-1541016000@shbcfamily.com
SUMMARY:AWANA
DESCRIPTION:AWANA is a weekly club for kids packed with Bible learning and awesome games! Children four years old through sixth grade can attend.\nAWANA is on Wednesdays from 6:15 – 8:00 pm. Please check in with the AWANA secretaries in the Shawnee Hills foyer.
URL:https://shbcfamily.com/event/awana/2018-10-31/
ATTACH;FMTTYPE=image/png:https://shbcfamily.com/wp-content/uploads/2019/03/2430.png
END:VEVENT
BEGIN:VEVENT
DTSTART;TZID=America/Detroit:20181031T183000
DTEND;TZID=America/Detroit:20181031T200000
DTSTAMP:20260425T084909
CREATED:20181031T191943Z
LAST-MODIFIED:20181101T190118Z
UID:10000357-1541010600-1541016000@shbcfamily.com
SUMMARY:Youth Group
DESCRIPTION:
URL:https://shbcfamily.com/event/youth-group/2018-10-31/
END:VEVENT
BEGIN:VEVENT
DTSTART;TZID=America/Detroit:20181031T190000
DTEND;TZID=America/Detroit:20181031T200000
DTSTAMP:20260425T084909
CREATED:20181031T191632Z
LAST-MODIFIED:20181031T191632Z
UID:10000335-1541012400-1541016000@shbcfamily.com
SUMMARY:Prayer Meeting
DESCRIPTION:
URL:https://shbcfamily.com/event/prayer-meeting/2018-10-31/
END:VEVENT
BEGIN:VEVENT
DTSTART;TZID=America/Detroit:20181101T093000
DTEND;TZID=America/Detroit:20181101T113000
DTSTAMP:20260425T084909
CREATED:20181101T185931Z
LAST-MODIFIED:20181101T185931Z
UID:10000386-1541064600-1541071800@shbcfamily.com
SUMMARY:Ladies' Bible Study Class
DESCRIPTION:
URL:https://shbcfamily.com/event/ladies-bible-study-class/2018-11-01/
END:VEVENT
BEGIN:VEVENT
DTSTART;TZID=America/Detroit:20181101T183000
DTEND;TZID=America/Detroit:20181101T200000
DTSTAMP:20260425T084909
CREATED:20181101T190327Z
LAST-MODIFIED:20181101T190327Z
UID:10000388-1541097000-1541102400@shbcfamily.com
SUMMARY:Karate
DESCRIPTION:
URL:https://shbcfamily.com/event/karate/2018-11-01/
END:VEVENT
BEGIN:VEVENT
DTSTART;TZID=America/Detroit:20181102T083000
DTEND;TZID=America/Detroit:20181102T093000
DTSTAMP:20260425T084909
CREATED:20181101T192108Z
LAST-MODIFIED:20181101T192108Z
UID:10000397-1541147400-1541151000@shbcfamily.com
SUMMARY:Community Aerobics
DESCRIPTION:
URL:https://shbcfamily.com/event/community-aerobics-2/2018-11-02/
END:VEVENT
BEGIN:VEVENT
DTSTART;TZID=America/Detroit:20181104T090000
DTEND;TZID=America/Detroit:20181104T101500
DTSTAMP:20260425T084909
CREATED:20181101T201723Z
LAST-MODIFIED:20181101T201723Z
UID:10000409-1541322000-1541326500@shbcfamily.com
SUMMARY:Sunday School classes
DESCRIPTION:
URL:https://shbcfamily.com/event/sunday-school-classes/2018-11-04/
END:VEVENT
BEGIN:VEVENT
DTSTART;TZID=America/Detroit:20181104T090000
DTEND;TZID=America/Detroit:20181104T101500
DTSTAMP:20260425T084909
CREATED:20181101T201205Z
LAST-MODIFIED:20181101T201618Z
UID:10000402-1541322000-1541326500@shbcfamily.com
SUMMARY:Adult Bible Fellowships
DESCRIPTION:ADULT BIBLE FELLOWSHIPS\nGreat opportunities to gather and grow in the Word\nBEREANS – Steve Gollmer and Caleb Blouse will guide this fellowship through a study of wisdom from the Book of Proverbs. Want to go for a walk on the wise side? This fellowship is for you! – Classroom A1\nBYKOTA (Be Ye Kind One to Another) – Led by Kevin and Cheryl Sims\, this fellowship studies the Book of 1 Peter and encourages one another to honor God while living in a culture that is going through all kinds of crises. — Conference Room\nDISCOVER – Led by Jeff and Sandy Shortt\, this fellowship surveys the New Testament in chronological format. This is a great study for those interested in seeing how the entire Bible fits together. — Classroom A4\nEXPLORE – Led by Pastor Adam\, this fellowship will study the Book of James in a verse-by-verse format. Learn how to put your faith into motion through this challenging book. — Classroom A2\nSTARTING POINT – This fellowship\, led by Russel Slate\, takes a slower pace and looks at the basic truths of God’s Word. If you’ve never been a part of any ABF before\, this is a great… Starting Point!  — Library Annex\nWOMEN’S FELLOWSHIP – Led by Jody Combs\, this intergenerational fellowship is designed to encourage women of all ages to trust and follow Jesus while also forming the unique bonds of sisterhood in Christ. –Classroom A3
URL:https://shbcfamily.com/event/adult-bible-fellowships/2018-11-04/
END:VEVENT
BEGIN:VEVENT
DTSTART;TZID=America/Detroit:20181104T103000
DTEND;TZID=America/Detroit:20181104T120000
DTSTAMP:20260425T084909
CREATED:20181101T201813Z
LAST-MODIFIED:20181128T172436Z
UID:10000256-1541327400-1541332800@shbcfamily.com
SUMMARY:Morning Worship Service
DESCRIPTION:
URL:https://shbcfamily.com/event/morning-worship-service/2018-11-04/
END:VEVENT
BEGIN:VEVENT
DTSTART;TZID=America/Detroit:20181104T163000
DTEND;TZID=America/Detroit:20181104T180000
DTSTAMP:20260425T084909
CREATED:20181101T182456Z
LAST-MODIFIED:20181101T182456Z
UID:10000360-1541349000-1541354400@shbcfamily.com
SUMMARY:Choir Rehearsal
DESCRIPTION:
URL:https://shbcfamily.com/event/choir-rehearsal/2018-11-04/
END:VEVENT
BEGIN:VEVENT
DTSTART;TZID=America/Detroit:20181105T083000
DTEND;TZID=America/Detroit:20181105T093000
DTSTAMP:20260425T084909
CREATED:20181101T191458Z
LAST-MODIFIED:20181101T191458Z
UID:10000391-1541406600-1541410200@shbcfamily.com
SUMMARY:Community Aerobics
DESCRIPTION:
URL:https://shbcfamily.com/event/community-aerobics/2018-11-05/
END:VEVENT
BEGIN:VEVENT
DTSTART;TZID=America/Detroit:20181106T160000
DTEND;TZID=America/Detroit:20181106T170000
DTSTAMP:20260425T084909
CREATED:20181101T183438Z
LAST-MODIFIED:20181101T183438Z
UID:10000383-1541520000-1541523600@shbcfamily.com
SUMMARY:Whiz Kids
DESCRIPTION:
URL:https://shbcfamily.com/event/whiz-kids/2018-11-06/
END:VEVENT
BEGIN:VEVENT
DTSTART;TZID=America/Detroit:20181107T083000
DTEND;TZID=America/Detroit:20181107T093000
DTSTAMP:20260425T084909
CREATED:20181101T191555Z
LAST-MODIFIED:20181101T191730Z
UID:10000394-1541579400-1541583000@shbcfamily.com
SUMMARY:Community Aerobics
DESCRIPTION:
URL:https://shbcfamily.com/event/leadership-team-meeting/2018-11-07/
END:VEVENT
BEGIN:VEVENT
DTSTART;TZID=America/Detroit:20181107T181500
DTEND;TZID=America/Detroit:20181107T200000
DTSTAMP:20260425T084909
CREATED:20181022T214416Z
LAST-MODIFIED:20190315T201435Z
UID:10000310-1541614500-1541620800@shbcfamily.com
SUMMARY:AWANA
DESCRIPTION:AWANA is a weekly club for kids packed with Bible learning and awesome games! Children four years old through sixth grade can attend.\nAWANA is on Wednesdays from 6:15 – 8:00 pm. Please check in with the AWANA secretaries in the Shawnee Hills foyer.
URL:https://shbcfamily.com/event/awana/2018-11-07/
ATTACH;FMTTYPE=image/png:https://shbcfamily.com/wp-content/uploads/2019/03/2430.png
END:VEVENT
BEGIN:VEVENT
DTSTART;TZID=America/Detroit:20181107T183000
DTEND;TZID=America/Detroit:20181107T200000
DTSTAMP:20260425T084909
CREATED:20181101T183600Z
LAST-MODIFIED:20181101T190011Z
UID:10000384-1541615400-1541620800@shbcfamily.com
SUMMARY:Time Out for Women
DESCRIPTION:
URL:https://shbcfamily.com/event/time-out-for-women/2018-11-07/
END:VEVENT
BEGIN:VEVENT
DTSTART;TZID=America/Detroit:20181107T183000
DTEND;TZID=America/Detroit:20181107T200000
DTSTAMP:20260425T084909
CREATED:20181031T191943Z
LAST-MODIFIED:20181101T190118Z
UID:10000358-1541615400-1541620800@shbcfamily.com
SUMMARY:Youth Group
DESCRIPTION:
URL:https://shbcfamily.com/event/youth-group/2018-11-07/
END:VEVENT
BEGIN:VEVENT
DTSTART;TZID=America/Detroit:20181108T093000
DTEND;TZID=America/Detroit:20181108T113000
DTSTAMP:20260425T084909
CREATED:20181101T185931Z
LAST-MODIFIED:20181101T185931Z
UID:10000387-1541669400-1541676600@shbcfamily.com
SUMMARY:Ladies' Bible Study Class
DESCRIPTION:
URL:https://shbcfamily.com/event/ladies-bible-study-class/2018-11-08/
END:VEVENT
BEGIN:VEVENT
DTSTART;TZID=America/Detroit:20181108T183000
DTEND;TZID=America/Detroit:20181108T200000
DTSTAMP:20260425T084909
CREATED:20181101T190327Z
LAST-MODIFIED:20181101T190327Z
UID:10000389-1541701800-1541707200@shbcfamily.com
SUMMARY:Karate
DESCRIPTION:
URL:https://shbcfamily.com/event/karate/2018-11-08/
END:VEVENT
BEGIN:VEVENT
DTSTART;TZID=America/Detroit:20181109T083000
DTEND;TZID=America/Detroit:20181109T093000
DTSTAMP:20260425T084909
CREATED:20181101T192108Z
LAST-MODIFIED:20181101T192108Z
UID:10000398-1541752200-1541755800@shbcfamily.com
SUMMARY:Community Aerobics
DESCRIPTION:
URL:https://shbcfamily.com/event/community-aerobics-2/2018-11-09/
END:VEVENT
BEGIN:VEVENT
DTSTART;TZID=America/Detroit:20181111T090000
DTEND;TZID=America/Detroit:20181111T101500
DTSTAMP:20260425T084909
CREATED:20181101T201723Z
LAST-MODIFIED:20181101T201723Z
UID:10000410-1541926800-1541931300@shbcfamily.com
SUMMARY:Sunday School classes
DESCRIPTION:
URL:https://shbcfamily.com/event/sunday-school-classes/2018-11-11/
END:VEVENT
BEGIN:VEVENT
DTSTART;TZID=America/Detroit:20181111T090000
DTEND;TZID=America/Detroit:20181111T101500
DTSTAMP:20260425T084909
CREATED:20181101T201205Z
LAST-MODIFIED:20181101T201618Z
UID:10000403-1541926800-1541931300@shbcfamily.com
SUMMARY:Adult Bible Fellowships
DESCRIPTION:ADULT BIBLE FELLOWSHIPS\nGreat opportunities to gather and grow in the Word\nBEREANS – Steve Gollmer and Caleb Blouse will guide this fellowship through a study of wisdom from the Book of Proverbs. Want to go for a walk on the wise side? This fellowship is for you! – Classroom A1\nBYKOTA (Be Ye Kind One to Another) – Led by Kevin and Cheryl Sims\, this fellowship studies the Book of 1 Peter and encourages one another to honor God while living in a culture that is going through all kinds of crises. — Conference Room\nDISCOVER – Led by Jeff and Sandy Shortt\, this fellowship surveys the New Testament in chronological format. This is a great study for those interested in seeing how the entire Bible fits together. — Classroom A4\nEXPLORE – Led by Pastor Adam\, this fellowship will study the Book of James in a verse-by-verse format. Learn how to put your faith into motion through this challenging book. — Classroom A2\nSTARTING POINT – This fellowship\, led by Russel Slate\, takes a slower pace and looks at the basic truths of God’s Word. If you’ve never been a part of any ABF before\, this is a great… Starting Point!  — Library Annex\nWOMEN’S FELLOWSHIP – Led by Jody Combs\, this intergenerational fellowship is designed to encourage women of all ages to trust and follow Jesus while also forming the unique bonds of sisterhood in Christ. –Classroom A3
URL:https://shbcfamily.com/event/adult-bible-fellowships/2018-11-11/
END:VEVENT
BEGIN:VEVENT
DTSTART;TZID=America/Detroit:20181111T103000
DTEND;TZID=America/Detroit:20181111T120000
DTSTAMP:20260425T084909
CREATED:20181101T201813Z
LAST-MODIFIED:20181128T172436Z
UID:10000257-1541932200-1541937600@shbcfamily.com
SUMMARY:Morning Worship Service
DESCRIPTION:
URL:https://shbcfamily.com/event/morning-worship-service/2018-11-11/
END:VEVENT
BEGIN:VEVENT
DTSTART;TZID=America/Detroit:20181112T083000
DTEND;TZID=America/Detroit:20181112T093000
DTSTAMP:20260425T084909
CREATED:20181101T191458Z
LAST-MODIFIED:20181101T191458Z
UID:10000392-1542011400-1542015000@shbcfamily.com
SUMMARY:Community Aerobics
DESCRIPTION:
URL:https://shbcfamily.com/event/community-aerobics/2018-11-12/
END:VEVENT
BEGIN:VEVENT
DTSTART;TZID=America/Detroit:20181114T083000
DTEND;TZID=America/Detroit:20181114T093000
DTSTAMP:20260425T084909
CREATED:20181101T191555Z
LAST-MODIFIED:20181101T191730Z
UID:10000395-1542184200-1542187800@shbcfamily.com
SUMMARY:Community Aerobics
DESCRIPTION:
URL:https://shbcfamily.com/event/leadership-team-meeting/2018-11-14/
END:VEVENT
BEGIN:VEVENT
DTSTART;TZID=America/Detroit:20181114T181500
DTEND;TZID=America/Detroit:20181114T200000
DTSTAMP:20260425T084909
CREATED:20181022T214416Z
LAST-MODIFIED:20190315T201435Z
UID:10000311-1542219300-1542225600@shbcfamily.com
SUMMARY:AWANA
DESCRIPTION:AWANA is a weekly club for kids packed with Bible learning and awesome games! Children four years old through sixth grade can attend.\nAWANA is on Wednesdays from 6:15 – 8:00 pm. Please check in with the AWANA secretaries in the Shawnee Hills foyer.
URL:https://shbcfamily.com/event/awana/2018-11-14/
ATTACH;FMTTYPE=image/png:https://shbcfamily.com/wp-content/uploads/2019/03/2430.png
END:VEVENT
BEGIN:VEVENT
DTSTART;TZID=America/Detroit:20181114T183000
DTEND;TZID=America/Detroit:20181114T200000
DTSTAMP:20260425T084909
CREATED:20181101T183600Z
LAST-MODIFIED:20181101T190011Z
UID:10000385-1542220200-1542225600@shbcfamily.com
SUMMARY:Time Out for Women
DESCRIPTION:
URL:https://shbcfamily.com/event/time-out-for-women/2018-11-14/
END:VEVENT
BEGIN:VEVENT
DTSTART;TZID=America/Detroit:20181114T183000
DTEND;TZID=America/Detroit:20181114T200000
DTSTAMP:20260425T084909
CREATED:20181031T191943Z
LAST-MODIFIED:20181101T190118Z
UID:10000359-1542220200-1542225600@shbcfamily.com
SUMMARY:Youth Group
DESCRIPTION:
URL:https://shbcfamily.com/event/youth-group/2018-11-14/
END:VEVENT
BEGIN:VEVENT
DTSTART;TZID=America/Detroit:20181115T183000
DTEND;TZID=America/Detroit:20181115T200000
DTSTAMP:20260425T084909
CREATED:20181101T190327Z
LAST-MODIFIED:20181101T190327Z
UID:10000390-1542306600-1542312000@shbcfamily.com
SUMMARY:Karate
DESCRIPTION:
URL:https://shbcfamily.com/event/karate/2018-11-15/
END:VEVENT
BEGIN:VEVENT
DTSTART;TZID=America/Detroit:20181116T083000
DTEND;TZID=America/Detroit:20181116T093000
DTSTAMP:20260425T084909
CREATED:20181101T192108Z
LAST-MODIFIED:20181101T192108Z
UID:10000399-1542357000-1542360600@shbcfamily.com
SUMMARY:Community Aerobics
DESCRIPTION:
URL:https://shbcfamily.com/event/community-aerobics-2/2018-11-16/
END:VEVENT
END:VCALENDAR