BEGIN:VCALENDAR
VERSION:2.0
PRODID:-//Shawnee Hills Baptist Church - ECPv6.15.20//NONSGML v1.0//EN
CALSCALE:GREGORIAN
METHOD:PUBLISH
X-WR-CALNAME:Shawnee Hills Baptist Church
X-ORIGINAL-URL:https://shbcfamily.com
X-WR-CALDESC:Events for Shawnee Hills Baptist Church
REFRESH-INTERVAL;VALUE=DURATION:PT1H
X-Robots-Tag:noindex
X-PUBLISHED-TTL:PT1H
BEGIN:VTIMEZONE
TZID:America/Detroit
BEGIN:DAYLIGHT
TZOFFSETFROM:-0500
TZOFFSETTO:-0400
TZNAME:EDT
DTSTART:20180311T070000
END:DAYLIGHT
BEGIN:STANDARD
TZOFFSETFROM:-0400
TZOFFSETTO:-0500
TZNAME:EST
DTSTART:20181104T060000
END:STANDARD
BEGIN:DAYLIGHT
TZOFFSETFROM:-0500
TZOFFSETTO:-0400
TZNAME:EDT
DTSTART:20190310T070000
END:DAYLIGHT
BEGIN:STANDARD
TZOFFSETFROM:-0400
TZOFFSETTO:-0500
TZNAME:EST
DTSTART:20191103T060000
END:STANDARD
BEGIN:DAYLIGHT
TZOFFSETFROM:-0500
TZOFFSETTO:-0400
TZNAME:EDT
DTSTART:20200308T070000
END:DAYLIGHT
BEGIN:STANDARD
TZOFFSETFROM:-0400
TZOFFSETTO:-0500
TZNAME:EST
DTSTART:20201101T060000
END:STANDARD
END:VTIMEZONE
BEGIN:VEVENT
DTSTART;TZID=America/Detroit:20190214T183000
DTEND;TZID=America/Detroit:20190214T203000
DTSTAMP:20260425T070222
CREATED:20190123T174231Z
LAST-MODIFIED:20190604T195045Z
UID:10000005-1550169000-1550176200@shbcfamily.com
SUMMARY:Karate
DESCRIPTION:
URL:https://shbcfamily.com/event/karate-3/2019-02-14/
END:VEVENT
BEGIN:VEVENT
DTSTART;TZID=America/Detroit:20190215T083000
DTEND;TZID=America/Detroit:20190215T093000
DTSTAMP:20260425T070222
CREATED:20190123T193600Z
LAST-MODIFIED:20190416T180722Z
UID:10000734-1550219400-1550223000@shbcfamily.com
SUMMARY:Community Aerobics
DESCRIPTION:
URL:https://shbcfamily.com/event/community-aerobics-9/2019-02-15/
END:VEVENT
BEGIN:VEVENT
DTSTART;TZID=America/Detroit:20190217T090000
DTEND;TZID=America/Detroit:20190217T101500
DTSTAMP:20260425T070222
CREATED:20190123T175048Z
LAST-MODIFIED:20190123T175048Z
UID:10000690-1550394000-1550398500@shbcfamily.com
SUMMARY:Membership Class
DESCRIPTION:
URL:https://shbcfamily.com/event/membership-class/2019-02-17/
END:VEVENT
BEGIN:VEVENT
DTSTART;TZID=America/Detroit:20190217T090000
DTEND;TZID=America/Detroit:20190217T101500
DTSTAMP:20260425T070222
CREATED:20181128T173041Z
LAST-MODIFIED:20190710T155952Z
UID:10000131-1550394000-1550398500@shbcfamily.com
SUMMARY:Sunday School Classes
DESCRIPTION:Sunday School classes are provided for kids ages newborn through 6th grade. \nTeens in grades 7-12 will meet in the Fellowship Hall.
URL:https://shbcfamily.com/event/sunday-school-classes-2/2019-02-17/
END:VEVENT
BEGIN:VEVENT
DTSTART;TZID=America/Detroit:20190217T090000
DTEND;TZID=America/Detroit:20190217T101500
DTSTAMP:20260425T070222
CREATED:20181128T172944Z
LAST-MODIFIED:20181128T172944Z
UID:10000111-1550394000-1550398500@shbcfamily.com
SUMMARY:Adult Bible Fellowships
DESCRIPTION:
URL:https://shbcfamily.com/event/adult-bible-fellowships-2/2019-02-17/
END:VEVENT
BEGIN:VEVENT
DTSTART;TZID=America/Detroit:20190217T103000
DTEND;TZID=America/Detroit:20190217T120000
DTSTAMP:20260425T070222
CREATED:20181101T201813Z
LAST-MODIFIED:20181128T172436Z
UID:10000271-1550399400-1550404800@shbcfamily.com
SUMMARY:Morning Worship Service
DESCRIPTION:
URL:https://shbcfamily.com/event/morning-worship-service/2019-02-17/
END:VEVENT
BEGIN:VEVENT
DTSTART;TZID=America/Detroit:20190217T163000
DTEND;TZID=America/Detroit:20190217T174500
DTSTAMP:20260425T070222
CREATED:20181211T152928Z
LAST-MODIFIED:20181211T152928Z
UID:10000067-1550421000-1550425500@shbcfamily.com
SUMMARY:Choir Rehearsal
DESCRIPTION:
URL:https://shbcfamily.com/event/choir-rehearsal-3/2019-02-17/
END:VEVENT
BEGIN:VEVENT
DTSTART;TZID=America/Detroit:20190217T180000
DTEND;TZID=America/Detroit:20190217T191500
DTSTAMP:20260425T070222
CREATED:20190123T190033Z
LAST-MODIFIED:20190123T190033Z
UID:10000694-1550426400-1550430900@shbcfamily.com
SUMMARY:Equip Classes for Men and Women
DESCRIPTION:
URL:https://shbcfamily.com/event/equip-classes-for-men-and-women/2019-02-17/
END:VEVENT
BEGIN:VEVENT
DTSTART;TZID=America/Detroit:20190218T083000
DTEND;TZID=America/Detroit:20190218T213000
DTSTAMP:20260425T070222
CREATED:20190123T193712Z
LAST-MODIFIED:20190416T181050Z
UID:10000757-1550478600-1550525400@shbcfamily.com
SUMMARY:Community Aerobics
DESCRIPTION:
URL:https://shbcfamily.com/event/community-aerobics-10/2019-02-18/
END:VEVENT
BEGIN:VEVENT
DTSTART;TZID=America/Detroit:20190218T184500
DTEND;TZID=America/Detroit:20190218T200000
DTSTAMP:20260425T070222
CREATED:20190123T193403Z
LAST-MODIFIED:20190123T193403Z
UID:10000708-1550515500-1550520000@shbcfamily.com
SUMMARY:Nursing Home Ministry at Jamestown Place
DESCRIPTION:
URL:https://shbcfamily.com/event/nursing-home-ministry-at-jamestown-place-2/
END:VEVENT
BEGIN:VEVENT
DTSTART;TZID=America/Detroit:20190219T183000
DTEND;TZID=America/Detroit:20190219T203000
DTSTAMP:20260425T070222
CREATED:20190123T193313Z
LAST-MODIFIED:20190123T193313Z
UID:10000707-1550601000-1550608200@shbcfamily.com
SUMMARY:Leadership Team Meeting
DESCRIPTION:
URL:https://shbcfamily.com/event/leadership-team-meeting-4/
END:VEVENT
BEGIN:VEVENT
DTSTART;TZID=America/Detroit:20190220T083000
DTEND;TZID=America/Detroit:20190220T093000
DTSTAMP:20260425T070222
CREATED:20190123T193510Z
LAST-MODIFIED:20190416T180406Z
UID:10000717-1550651400-1550655000@shbcfamily.com
SUMMARY:Community Aerobics
DESCRIPTION:
URL:https://shbcfamily.com/event/community-aerobics-8/2019-02-20/
END:VEVENT
BEGIN:VEVENT
DTSTART;TZID=America/Detroit:20190220T181500
DTEND;TZID=America/Detroit:20190220T200000
DTSTAMP:20260425T070222
CREATED:20181022T214416Z
LAST-MODIFIED:20190315T201435Z
UID:10000322-1550686500-1550692800@shbcfamily.com
SUMMARY:AWANA
DESCRIPTION:AWANA is a weekly club for kids packed with Bible learning and awesome games! Children four years old through sixth grade can attend.\nAWANA is on Wednesdays from 6:15 – 8:00 pm. Please check in with the AWANA secretaries in the Shawnee Hills foyer.
URL:https://shbcfamily.com/event/awana/2019-02-20/
ATTACH;FMTTYPE=image/png:https://shbcfamily.com/wp-content/uploads/2019/03/2430.png
END:VEVENT
BEGIN:VEVENT
DTSTART;TZID=America/Detroit:20190220T183000
DTEND;TZID=America/Detroit:20190220T200000
DTSTAMP:20260425T070223
CREATED:20181128T173605Z
LAST-MODIFIED:20181128T173605Z
UID:10000095-1550687400-1550692800@shbcfamily.com
SUMMARY:Time Out for Women
DESCRIPTION:
URL:https://shbcfamily.com/event/time-out-for-women-3/2019-02-20/
LOCATION:Conference Room
END:VEVENT
BEGIN:VEVENT
DTSTART;TZID=America/Detroit:20190220T183000
DTEND;TZID=America/Detroit:20190220T200000
DTSTAMP:20260425T070223
CREATED:20181128T173459Z
LAST-MODIFIED:20181128T173459Z
UID:10000182-1550687400-1550692800@shbcfamily.com
SUMMARY:Youth Group
DESCRIPTION:
URL:https://shbcfamily.com/event/youth-group-4/2019-02-20/
LOCATION:Fellowship Hall
END:VEVENT
BEGIN:VEVENT
DTSTART;TZID=America/Detroit:20190220T190000
DTEND;TZID=America/Detroit:20190220T200000
DTSTAMP:20260425T070223
CREATED:20190206T185149Z
LAST-MODIFIED:20190710T155243Z
UID:10000836-1550689200-1550692800@shbcfamily.com
SUMMARY:Prayer Meeting
DESCRIPTION:Join us to focus on and pray for God’s work.
URL:https://shbcfamily.com/event/prayer-meeting-3/2019-02-20/
END:VEVENT
BEGIN:VEVENT
DTSTART;TZID=America/Detroit:20190221T183000
DTEND;TZID=America/Detroit:20190221T203000
DTSTAMP:20260425T070223
CREATED:20190123T174231Z
LAST-MODIFIED:20190604T195045Z
UID:10000006-1550773800-1550781000@shbcfamily.com
SUMMARY:Karate
DESCRIPTION:
URL:https://shbcfamily.com/event/karate-3/2019-02-21/
END:VEVENT
BEGIN:VEVENT
DTSTART;TZID=America/Detroit:20190222T083000
DTEND;TZID=America/Detroit:20190222T093000
DTSTAMP:20260425T070223
CREATED:20190123T193600Z
LAST-MODIFIED:20190416T180722Z
UID:10000735-1550824200-1550827800@shbcfamily.com
SUMMARY:Community Aerobics
DESCRIPTION:
URL:https://shbcfamily.com/event/community-aerobics-9/2019-02-22/
END:VEVENT
BEGIN:VEVENT
DTSTART;TZID=America/Detroit:20190224T090000
DTEND;TZID=America/Detroit:20190224T101500
DTSTAMP:20260425T070223
CREATED:20190123T175048Z
LAST-MODIFIED:20190123T175048Z
UID:10000691-1550998800-1551003300@shbcfamily.com
SUMMARY:Membership Class
DESCRIPTION:
URL:https://shbcfamily.com/event/membership-class/2019-02-24/
END:VEVENT
BEGIN:VEVENT
DTSTART;TZID=America/Detroit:20190224T090000
DTEND;TZID=America/Detroit:20190224T101500
DTSTAMP:20260425T070223
CREATED:20181128T173041Z
LAST-MODIFIED:20190710T155952Z
UID:10000132-1550998800-1551003300@shbcfamily.com
SUMMARY:Sunday School Classes
DESCRIPTION:Sunday School classes are provided for kids ages newborn through 6th grade. \nTeens in grades 7-12 will meet in the Fellowship Hall.
URL:https://shbcfamily.com/event/sunday-school-classes-2/2019-02-24/
END:VEVENT
BEGIN:VEVENT
DTSTART;TZID=America/Detroit:20190224T090000
DTEND;TZID=America/Detroit:20190224T101500
DTSTAMP:20260425T070223
CREATED:20181128T172944Z
LAST-MODIFIED:20181128T172944Z
UID:10000112-1550998800-1551003300@shbcfamily.com
SUMMARY:Adult Bible Fellowships
DESCRIPTION:
URL:https://shbcfamily.com/event/adult-bible-fellowships-2/2019-02-24/
END:VEVENT
BEGIN:VEVENT
DTSTART;TZID=America/Detroit:20190224T103000
DTEND;TZID=America/Detroit:20190224T120000
DTSTAMP:20260425T070223
CREATED:20181101T201813Z
LAST-MODIFIED:20181128T172436Z
UID:10000272-1551004200-1551009600@shbcfamily.com
SUMMARY:Morning Worship Service
DESCRIPTION:
URL:https://shbcfamily.com/event/morning-worship-service/2019-02-24/
END:VEVENT
BEGIN:VEVENT
DTSTART;TZID=America/Detroit:20190224T163000
DTEND;TZID=America/Detroit:20190224T174500
DTSTAMP:20260425T070223
CREATED:20181211T152928Z
LAST-MODIFIED:20181211T152928Z
UID:10000068-1551025800-1551030300@shbcfamily.com
SUMMARY:Choir Rehearsal
DESCRIPTION:
URL:https://shbcfamily.com/event/choir-rehearsal-3/2019-02-24/
END:VEVENT
BEGIN:VEVENT
DTSTART;TZID=America/Detroit:20190224T170000
DTEND;TZID=America/Detroit:20190224T175000
DTSTAMP:20260425T070223
CREATED:20190218T171055Z
LAST-MODIFIED:20190218T171055Z
UID:10000917-1551027600-1551030600@shbcfamily.com
SUMMARY:Child Abuse Prevention (CAP) Renewal Training
DESCRIPTION:
URL:https://shbcfamily.com/event/child-abuse-prevention-cap-renewal-training/2019-02-24/
END:VEVENT
BEGIN:VEVENT
DTSTART;TZID=America/Detroit:20190224T180000
DTEND;TZID=America/Detroit:20190224T191500
DTSTAMP:20260425T070223
CREATED:20190123T190033Z
LAST-MODIFIED:20190123T190033Z
UID:10000695-1551031200-1551035700@shbcfamily.com
SUMMARY:Equip Classes for Men and Women
DESCRIPTION:
URL:https://shbcfamily.com/event/equip-classes-for-men-and-women/2019-02-24/
END:VEVENT
BEGIN:VEVENT
DTSTART;TZID=America/Detroit:20190225T083000
DTEND;TZID=America/Detroit:20190225T213000
DTSTAMP:20260425T070223
CREATED:20190123T193712Z
LAST-MODIFIED:20190416T181050Z
UID:10000758-1551083400-1551130200@shbcfamily.com
SUMMARY:Community Aerobics
DESCRIPTION:
URL:https://shbcfamily.com/event/community-aerobics-10/2019-02-25/
END:VEVENT
BEGIN:VEVENT
DTSTART;TZID=America/Detroit:20190226T154500
DTEND;TZID=America/Detroit:20190226T170000
DTSTAMP:20260425T070223
CREATED:20190206T185934Z
LAST-MODIFIED:20190206T190036Z
UID:10000906-1551195900-1551200400@shbcfamily.com
SUMMARY:Whiz Kids
DESCRIPTION:
URL:https://shbcfamily.com/event/whiz-kids-6/2019-02-26/
END:VEVENT
BEGIN:VEVENT
DTSTART;TZID=America/Detroit:20190227T083000
DTEND;TZID=America/Detroit:20190227T093000
DTSTAMP:20260425T070223
CREATED:20190123T193510Z
LAST-MODIFIED:20190416T180406Z
UID:10000718-1551256200-1551259800@shbcfamily.com
SUMMARY:Community Aerobics
DESCRIPTION:
URL:https://shbcfamily.com/event/community-aerobics-8/2019-02-27/
END:VEVENT
BEGIN:VEVENT
DTSTART;TZID=America/Detroit:20190227T181500
DTEND;TZID=America/Detroit:20190227T200000
DTSTAMP:20260425T070223
CREATED:20181022T214416Z
LAST-MODIFIED:20190315T201435Z
UID:10000323-1551291300-1551297600@shbcfamily.com
SUMMARY:AWANA
DESCRIPTION:AWANA is a weekly club for kids packed with Bible learning and awesome games! Children four years old through sixth grade can attend.\nAWANA is on Wednesdays from 6:15 – 8:00 pm. Please check in with the AWANA secretaries in the Shawnee Hills foyer.
URL:https://shbcfamily.com/event/awana/2019-02-27/
ATTACH;FMTTYPE=image/png:https://shbcfamily.com/wp-content/uploads/2019/03/2430.png
END:VEVENT
BEGIN:VEVENT
DTSTART;TZID=America/Detroit:20190227T183000
DTEND;TZID=America/Detroit:20190227T200000
DTSTAMP:20260425T070223
CREATED:20181128T173605Z
LAST-MODIFIED:20181128T173605Z
UID:10000096-1551292200-1551297600@shbcfamily.com
SUMMARY:Time Out for Women
DESCRIPTION:
URL:https://shbcfamily.com/event/time-out-for-women-3/2019-02-27/
LOCATION:Conference Room
END:VEVENT
END:VCALENDAR