BEGIN:VCALENDAR
VERSION:2.0
PRODID:-//Shawnee Hills Baptist Church - ECPv6.15.20//NONSGML v1.0//EN
CALSCALE:GREGORIAN
METHOD:PUBLISH
X-WR-CALNAME:Shawnee Hills Baptist Church
X-ORIGINAL-URL:https://shbcfamily.com
X-WR-CALDESC:Events for Shawnee Hills Baptist Church
REFRESH-INTERVAL;VALUE=DURATION:PT1H
X-Robots-Tag:noindex
X-PUBLISHED-TTL:PT1H
BEGIN:VTIMEZONE
TZID:America/Detroit
BEGIN:DAYLIGHT
TZOFFSETFROM:-0500
TZOFFSETTO:-0400
TZNAME:EDT
DTSTART:20180311T070000
END:DAYLIGHT
BEGIN:STANDARD
TZOFFSETFROM:-0400
TZOFFSETTO:-0500
TZNAME:EST
DTSTART:20181104T060000
END:STANDARD
BEGIN:DAYLIGHT
TZOFFSETFROM:-0500
TZOFFSETTO:-0400
TZNAME:EDT
DTSTART:20190310T070000
END:DAYLIGHT
BEGIN:STANDARD
TZOFFSETFROM:-0400
TZOFFSETTO:-0500
TZNAME:EST
DTSTART:20191103T060000
END:STANDARD
BEGIN:DAYLIGHT
TZOFFSETFROM:-0500
TZOFFSETTO:-0400
TZNAME:EDT
DTSTART:20200308T070000
END:DAYLIGHT
BEGIN:STANDARD
TZOFFSETFROM:-0400
TZOFFSETTO:-0500
TZNAME:EST
DTSTART:20201101T060000
END:STANDARD
END:VTIMEZONE
BEGIN:VEVENT
DTSTART;TZID=America/Detroit:20190331T090000
DTEND;TZID=America/Detroit:20190331T120000
DTSTAMP:20260426T001046
CREATED:20190226T224144Z
LAST-MODIFIED:20190326T205808Z
UID:10000187-1554022800-1554033600@shbcfamily.com
SUMMARY:Missions Emphasis
DESCRIPTION:We will welcome two missionary families as special guests for our Spring Missions Emphasis this Sunday morning. \n\nThe Howders\, going to Asia\, will present their ministry in the 9:00 combined ABF/teen class which will meet in the auditorium.\nThe Davises\, going to Ireland\, will share their ministry in the 10:30 worship service.\nA love offering to be divided among the two families will be received at the close of the 10:30 service.
URL:https://shbcfamily.com/event/missions-emphasis/
END:VEVENT
BEGIN:VEVENT
DTSTART;TZID=America/Detroit:20190331T103000
DTEND;TZID=America/Detroit:20190331T120000
DTSTAMP:20260426T001046
CREATED:20190123T194139Z
LAST-MODIFIED:20200314T155636Z
UID:10000774-1554028200-1554033600@shbcfamily.com
SUMMARY:Morning Worship Service
DESCRIPTION:
URL:https://shbcfamily.com/event/morning-worship-service-2/2019-03-31/
END:VEVENT
BEGIN:VEVENT
DTSTART;TZID=America/Detroit:20190331T160000
DTEND;TZID=America/Detroit:20190331T174500
DTSTAMP:20260426T001046
CREATED:20181211T152928Z
LAST-MODIFIED:20190226T224025Z
UID:10000075-1554048000-1554054300@shbcfamily.com
SUMMARY:Choir Rehearsal
DESCRIPTION:
URL:https://shbcfamily.com/event/choir-rehearsal-3-2019-03-31/
END:VEVENT
BEGIN:VEVENT
DTSTART;TZID=America/Detroit:20190331T180000
DTEND;TZID=America/Detroit:20190331T191500
DTSTAMP:20260426T001046
CREATED:20190123T190033Z
LAST-MODIFIED:20190123T190033Z
UID:10000700-1554055200-1554059700@shbcfamily.com
SUMMARY:Equip Classes for Men and Women
DESCRIPTION:
URL:https://shbcfamily.com/event/equip-classes-for-men-and-women/2019-03-31/
END:VEVENT
BEGIN:VEVENT
DTSTART;TZID=America/Detroit:20190401T183000
DTEND;TZID=America/Detroit:20190401T200000
DTSTAMP:20260426T001046
CREATED:20190306T164742Z
LAST-MODIFIED:20190306T164742Z
UID:10001016-1554143400-1554148800@shbcfamily.com
SUMMARY:CARE Team Meeting
DESCRIPTION:
URL:https://shbcfamily.com/event/care-team-meeting-3/
END:VEVENT
BEGIN:VEVENT
DTSTART;TZID=America/Detroit:20190401T184500
DTEND;TZID=America/Detroit:20190401T200000
DTSTAMP:20260426T001046
CREATED:20190306T164841Z
LAST-MODIFIED:20190306T164841Z
UID:10001017-1554144300-1554148800@shbcfamily.com
SUMMARY:Nursing Home Ministry at Jamestown Place
DESCRIPTION:
URL:https://shbcfamily.com/event/nursing-home-ministry-at-jamestown-place-5/
END:VEVENT
BEGIN:VEVENT
DTSTART;TZID=America/Detroit:20190401T190000
DTEND;TZID=America/Detroit:20190401T200000
DTSTAMP:20260426T001046
CREATED:20190319T175458Z
LAST-MODIFIED:20190319T175458Z
UID:10001022-1554145200-1554148800@shbcfamily.com
SUMMARY:Jamestown Football and Cheer Registration
DESCRIPTION:
URL:https://shbcfamily.com/event/jamestown-football-and-cheer-registration/
END:VEVENT
BEGIN:VEVENT
DTSTART;TZID=America/Detroit:20190402T150000
DTEND;TZID=America/Detroit:20190402T190000
DTSTAMP:20260426T001046
CREATED:20190206T192423Z
LAST-MODIFIED:20190206T192423Z
UID:10000914-1554217200-1554231600@shbcfamily.com
SUMMARY:Community Blood Drive
DESCRIPTION:Please register at www.donortime.com for an appointment to donate blood.
URL:https://shbcfamily.com/event/community-blood-drive-2/
END:VEVENT
BEGIN:VEVENT
DTSTART;TZID=America/Detroit:20190402T154500
DTEND;TZID=America/Detroit:20190402T170000
DTSTAMP:20260426T001046
CREATED:20190226T224410Z
LAST-MODIFIED:20190226T224410Z
UID:10000189-1554219900-1554224400@shbcfamily.com
SUMMARY:Whiz Kids
DESCRIPTION:
URL:https://shbcfamily.com/event/whiz-kids-8/2019-04-02/
END:VEVENT
BEGIN:VEVENT
DTSTART;TZID=America/Detroit:20190403T181500
DTEND;TZID=America/Detroit:20190403T200000
DTSTAMP:20260426T001047
CREATED:20181022T214416Z
LAST-MODIFIED:20190315T201435Z
UID:10000327-1554315300-1554321600@shbcfamily.com
SUMMARY:AWANA
DESCRIPTION:AWANA is a weekly club for kids packed with Bible learning and awesome games! Children four years old through sixth grade can attend.\nAWANA is on Wednesdays from 6:15 – 8:00 pm. Please check in with the AWANA secretaries in the Shawnee Hills foyer.
URL:https://shbcfamily.com/event/awana/2019-04-03/
ATTACH;FMTTYPE=image/png:https://shbcfamily.com/wp-content/uploads/2019/03/2430.png
END:VEVENT
BEGIN:VEVENT
DTSTART;TZID=America/Detroit:20190403T183000
DTEND;TZID=America/Detroit:20190403T200000
DTSTAMP:20260426T001047
CREATED:20190226T224536Z
LAST-MODIFIED:20190416T192755Z
UID:10000200-1554316200-1554321600@shbcfamily.com
SUMMARY:Youth Group
DESCRIPTION:
URL:https://shbcfamily.com/event/youth-group-5/2019-04-03/
END:VEVENT
BEGIN:VEVENT
DTSTART;TZID=America/Detroit:20190403T184500
DTEND;TZID=America/Detroit:20190403T200000
DTSTAMP:20260426T001047
CREATED:20190226T224841Z
LAST-MODIFIED:20190226T224841Z
UID:10000207-1554317100-1554321600@shbcfamily.com
SUMMARY:Time Out for Women
DESCRIPTION:
URL:https://shbcfamily.com/event/time-out-for-women-4/2019-04-03/
END:VEVENT
BEGIN:VEVENT
DTSTART;TZID=America/Detroit:20190403T190000
DTEND;TZID=America/Detroit:20190403T200000
DTSTAMP:20260426T001047
CREATED:20190206T185149Z
LAST-MODIFIED:20190710T155243Z
UID:10000841-1554318000-1554321600@shbcfamily.com
SUMMARY:Prayer Meeting
DESCRIPTION:Join us to focus on and pray for God’s work.
URL:https://shbcfamily.com/event/prayer-meeting-3/2019-04-03/
END:VEVENT
BEGIN:VEVENT
DTSTART;TZID=America/Detroit:20190404T093000
DTEND;TZID=America/Detroit:20190404T113000
DTSTAMP:20260426T001047
CREATED:20190326T200320Z
LAST-MODIFIED:20190326T200320Z
UID:10001027-1554370200-1554377400@shbcfamily.com
SUMMARY:Mothers Uplifting Mothers
DESCRIPTION:Mothers and children of all ages are invited to join others in a time of instruction\, encouragement\, and fellowship. Sandy Shortt will share a teaching devotional for the last time this school year. Free childcare is available. Please contact Michelle McCune at mccune1022@yahoo.com with any questions.
URL:https://shbcfamily.com/event/mothers-uplifting-mothers-5/
END:VEVENT
BEGIN:VEVENT
DTSTART;TZID=America/Detroit:20190404T183000
DTEND;TZID=America/Detroit:20190404T203000
DTSTAMP:20260426T001047
CREATED:20190123T174231Z
LAST-MODIFIED:20190604T195045Z
UID:10000012-1554402600-1554409800@shbcfamily.com
SUMMARY:Karate
DESCRIPTION:
URL:https://shbcfamily.com/event/karate-3/2019-04-04/
END:VEVENT
BEGIN:VEVENT
DTSTART;TZID=America/Detroit:20190406T100000
DTEND;TZID=America/Detroit:20190406T120000
DTSTAMP:20260426T001047
CREATED:20190226T225013Z
LAST-MODIFIED:20190314T180652Z
UID:10000211-1554544800-1554552000@shbcfamily.com
SUMMARY:Ladies' Brunch
DESCRIPTION:Ladies and girls of all ages are invited to this lovely event focusing on Showers of Blessings. There is no charge\, but sign-up is requested. Call 937.675.4121 or email secretary@shbcfamily.com to register or to get more information.
URL:https://shbcfamily.com/event/ladies-brunch/
END:VEVENT
BEGIN:VEVENT
DTSTART;TZID=America/Detroit:20190407T090000
DTEND;TZID=America/Detroit:20190407T101500
DTSTAMP:20260426T001047
CREATED:20181128T173041Z
LAST-MODIFIED:20190710T155952Z
UID:10000138-1554627600-1554632100@shbcfamily.com
SUMMARY:Sunday School Classes
DESCRIPTION:Sunday School classes are provided for kids ages newborn through 6th grade. \nTeens in grades 7-12 will meet in the Fellowship Hall.
URL:https://shbcfamily.com/event/sunday-school-classes-2/2019-04-07/
END:VEVENT
BEGIN:VEVENT
DTSTART;TZID=America/Detroit:20190407T090000
DTEND;TZID=America/Detroit:20190407T101500
DTSTAMP:20260426T001047
CREATED:20181128T172944Z
LAST-MODIFIED:20181128T172944Z
UID:10000118-1554627600-1554632100@shbcfamily.com
SUMMARY:Adult Bible Fellowships
DESCRIPTION:
URL:https://shbcfamily.com/event/adult-bible-fellowships-2/2019-04-07/
END:VEVENT
BEGIN:VEVENT
DTSTART;TZID=America/Detroit:20190407T103000
DTEND;TZID=America/Detroit:20190407T120000
DTSTAMP:20260426T001047
CREATED:20190123T194139Z
LAST-MODIFIED:20190320T201032Z
UID:10000072-1554633000-1554638400@shbcfamily.com
SUMMARY:Morning Worship Service
DESCRIPTION:Since Jesus walked this earth as “the Word made flesh\,” there has been debate as to whether he was the God-man\, or just a man\, or just a spirit in human form (i.e. a phantom-like being).  Any doubt as to the humanity of Jesus Christ was dispelled when from Calvary’s cross He said\, “I thirst.”  After six hours on the cross\, the dehydrating effects of crucifixion had taken its toll\, leaving Jesus drained of fluids and thirsting.  But\, is there more to this fifth saying of the Savior (just one word in the Greek) than evidence of dehydration?  At least three realities were affirmed when Jesus spoke this.  Read John 19:28-30 in preparation for Pastor Dave’s message based on v. 28\, The Word of Agony.
URL:https://shbcfamily.com/event/morning-worship-service-2-2019-04-07/
END:VEVENT
BEGIN:VEVENT
DTSTART;TZID=America/Detroit:20190407T163000
DTEND;TZID=America/Detroit:20190407T174500
DTSTAMP:20260426T001047
CREATED:20190306T165044Z
LAST-MODIFIED:20190306T165044Z
UID:10001018-1554654600-1554659100@shbcfamily.com
SUMMARY:Choir Rehearsal
DESCRIPTION:
URL:https://shbcfamily.com/event/choir-rehearsal-4/
END:VEVENT
BEGIN:VEVENT
DTSTART;TZID=America/Detroit:20190407T171500
DTEND;TZID=America/Detroit:20190407T180000
DTSTAMP:20260426T001047
CREATED:20190320T200743Z
LAST-MODIFIED:20190320T200743Z
UID:10001025-1554657300-1554660000@shbcfamily.com
SUMMARY:Drive-Thru Prayer Meeting
DESCRIPTION:The third summer of Drive-Thru Prayer will begin in June.  An information and training meeting led by our director of outreach\, Russel Slate\, will be held on Sunday\, April 7\, at 5:15pm in classroom A-4.  If you have served in this ministry the past two years\, or would like to know more about it\, please plan to attend this important meeting.  It is the only one being offered before Drive-Thru Prayer begins.
URL:https://shbcfamily.com/event/drive-thru-prayer-meeting/
END:VEVENT
BEGIN:VEVENT
DTSTART;TZID=America/Detroit:20190407T180000
DTEND;TZID=America/Detroit:20190407T191500
DTSTAMP:20260426T001047
CREATED:20190123T190033Z
LAST-MODIFIED:20190123T190033Z
UID:10000701-1554660000-1554664500@shbcfamily.com
SUMMARY:Equip Classes for Men and Women
DESCRIPTION:
URL:https://shbcfamily.com/event/equip-classes-for-men-and-women/2019-04-07/
END:VEVENT
BEGIN:VEVENT
DTSTART;TZID=America/Detroit:20190408T083000
DTEND;TZID=America/Detroit:20190408T213000
DTSTAMP:20260426T001047
CREATED:20190123T193712Z
LAST-MODIFIED:20190416T181050Z
UID:10000763-1554712200-1554759000@shbcfamily.com
SUMMARY:Community Aerobics
DESCRIPTION:
URL:https://shbcfamily.com/event/community-aerobics-10/2019-04-08/
END:VEVENT
BEGIN:VEVENT
DTSTART;TZID=America/Detroit:20190409T154500
DTEND;TZID=America/Detroit:20190409T170000
DTSTAMP:20260426T001047
CREATED:20190226T224410Z
LAST-MODIFIED:20190226T224410Z
UID:10000190-1554824700-1554829200@shbcfamily.com
SUMMARY:Whiz Kids
DESCRIPTION:
URL:https://shbcfamily.com/event/whiz-kids-8/2019-04-09/
END:VEVENT
BEGIN:VEVENT
DTSTART;TZID=America/Detroit:20190409T183000
DTEND;TZID=America/Detroit:20190409T200000
DTSTAMP:20260426T001047
CREATED:20190226T224920Z
LAST-MODIFIED:20190226T224920Z
UID:10000210-1554834600-1554840000@shbcfamily.com
SUMMARY:Advanced Karate
DESCRIPTION:
URL:https://shbcfamily.com/event/advanced-karate-3/
END:VEVENT
BEGIN:VEVENT
DTSTART;TZID=America/Detroit:20190409T183000
DTEND;TZID=America/Detroit:20190409T203000
DTSTAMP:20260426T001047
CREATED:20190326T204443Z
LAST-MODIFIED:20190326T205319Z
UID:10001029-1554834600-1554841800@shbcfamily.com
SUMMARY:Leadership Team Meeting
DESCRIPTION:
URL:https://shbcfamily.com/event/leadership-team-meeting-6/
END:VEVENT
BEGIN:VEVENT
DTSTART;TZID=America/Detroit:20190410T083000
DTEND;TZID=America/Detroit:20190410T093000
DTSTAMP:20260426T001047
CREATED:20190123T193510Z
LAST-MODIFIED:20190416T180406Z
UID:10000722-1554885000-1554888600@shbcfamily.com
SUMMARY:Community Aerobics
DESCRIPTION:
URL:https://shbcfamily.com/event/community-aerobics-8/2019-04-10/
END:VEVENT
BEGIN:VEVENT
DTSTART;TZID=America/Detroit:20190410T181500
DTEND;TZID=America/Detroit:20190410T200000
DTSTAMP:20260426T001047
CREATED:20181022T214416Z
LAST-MODIFIED:20190315T201435Z
UID:10000328-1554920100-1554926400@shbcfamily.com
SUMMARY:AWANA
DESCRIPTION:AWANA is a weekly club for kids packed with Bible learning and awesome games! Children four years old through sixth grade can attend.\nAWANA is on Wednesdays from 6:15 – 8:00 pm. Please check in with the AWANA secretaries in the Shawnee Hills foyer.
URL:https://shbcfamily.com/event/awana/2019-04-10/
ATTACH;FMTTYPE=image/png:https://shbcfamily.com/wp-content/uploads/2019/03/2430.png
END:VEVENT
BEGIN:VEVENT
DTSTART;TZID=America/Detroit:20190410T183000
DTEND;TZID=America/Detroit:20190410T200000
DTSTAMP:20260426T001047
CREATED:20190226T224536Z
LAST-MODIFIED:20190416T192755Z
UID:10000201-1554921000-1554926400@shbcfamily.com
SUMMARY:Youth Group
DESCRIPTION:
URL:https://shbcfamily.com/event/youth-group-5/2019-04-10/
END:VEVENT
BEGIN:VEVENT
DTSTART;TZID=America/Detroit:20190410T184500
DTEND;TZID=America/Detroit:20190410T200000
DTSTAMP:20260426T001047
CREATED:20190226T224841Z
LAST-MODIFIED:20190226T224841Z
UID:10000208-1554921900-1554926400@shbcfamily.com
SUMMARY:Time Out for Women
DESCRIPTION:
URL:https://shbcfamily.com/event/time-out-for-women-4/2019-04-10/
END:VEVENT
END:VCALENDAR