BEGIN:VCALENDAR
VERSION:2.0
PRODID:-//Shawnee Hills Baptist Church - ECPv6.15.20//NONSGML v1.0//EN
CALSCALE:GREGORIAN
METHOD:PUBLISH
X-WR-CALNAME:Shawnee Hills Baptist Church
X-ORIGINAL-URL:https://shbcfamily.com
X-WR-CALDESC:Events for Shawnee Hills Baptist Church
REFRESH-INTERVAL;VALUE=DURATION:PT1H
X-Robots-Tag:noindex
X-PUBLISHED-TTL:PT1H
BEGIN:VTIMEZONE
TZID:America/Detroit
BEGIN:DAYLIGHT
TZOFFSETFROM:-0500
TZOFFSETTO:-0400
TZNAME:EDT
DTSTART:20180311T070000
END:DAYLIGHT
BEGIN:STANDARD
TZOFFSETFROM:-0400
TZOFFSETTO:-0500
TZNAME:EST
DTSTART:20181104T060000
END:STANDARD
BEGIN:DAYLIGHT
TZOFFSETFROM:-0500
TZOFFSETTO:-0400
TZNAME:EDT
DTSTART:20190310T070000
END:DAYLIGHT
BEGIN:STANDARD
TZOFFSETFROM:-0400
TZOFFSETTO:-0500
TZNAME:EST
DTSTART:20191103T060000
END:STANDARD
BEGIN:DAYLIGHT
TZOFFSETFROM:-0500
TZOFFSETTO:-0400
TZNAME:EDT
DTSTART:20200308T070000
END:DAYLIGHT
BEGIN:STANDARD
TZOFFSETFROM:-0400
TZOFFSETTO:-0500
TZNAME:EST
DTSTART:20201101T060000
END:STANDARD
END:VTIMEZONE
BEGIN:VEVENT
DTSTART;TZID=America/Detroit:20190505T103000
DTEND;TZID=America/Detroit:20190505T120000
DTSTAMP:20260425T211645
CREATED:20190123T194139Z
LAST-MODIFIED:20190501T223216Z
UID:10000076-1557052200-1557057600@shbcfamily.com
SUMMARY:Morning Worship Service
DESCRIPTION:The good news of the gospel is that\, because of Jesus\, our relationship with God has been restored. The gospel also shapes the way we relate to each other\, especially when difficult relational circumstances threaten our fellowship with each other. This Sunday\, we will begin a series on the book of Philemon called\, Runaway Slave: From Useless to Useful. In it\, we’ll see how the gospel shaped Paul as he faced a sticky situation confronting a church family. They’re going to need the truth of the gospel to help them through their trial\, and we need it when our trials come. Please read the book of Philemon this week and ask God to prepare your heart to learn from and grow in Christ. \n 
URL:https://shbcfamily.com/event/morning-worship-service-2-2019-05-05/
END:VEVENT
BEGIN:VEVENT
DTSTART;TZID=America/Detroit:20190505T170000
DTEND;TZID=America/Detroit:20190505T180000
DTSTAMP:20260425T211645
CREATED:20190416T190249Z
LAST-MODIFIED:20190501T140610Z
UID:10001033-1557075600-1557079200@shbcfamily.com
SUMMARY:Child Abuse Prevention Training
DESCRIPTION:
URL:https://shbcfamily.com/event/child-abuse-prevention-training/
END:VEVENT
BEGIN:VEVENT
DTSTART;TZID=America/Detroit:20190506T083000
DTEND;TZID=America/Detroit:20190506T213000
DTSTAMP:20260425T211645
CREATED:20190123T193712Z
LAST-MODIFIED:20190416T181050Z
UID:10000767-1557131400-1557178200@shbcfamily.com
SUMMARY:Community Aerobics
DESCRIPTION:
URL:https://shbcfamily.com/event/community-aerobics-10/2019-05-06/
END:VEVENT
BEGIN:VEVENT
DTSTART;TZID=America/Detroit:20190506T120000
DTEND;TZID=America/Detroit:20190506T143000
DTSTAMP:20260425T211645
CREATED:20190501T140846Z
LAST-MODIFIED:20190501T141646Z
UID:10000361-1557144000-1557153000@shbcfamily.com
SUMMARY:Drive-Thru Prayer
DESCRIPTION:Caring people are available to pray for specific needs of folks in the community. \nCome as you are; stay in your car \nas others pray for you and show the love of Jesus Christ.
URL:https://shbcfamily.com/event/drive-thru-prayer/2019-05-06/
END:VEVENT
BEGIN:VEVENT
DTSTART;TZID=America/Detroit:20190507T120000
DTEND;TZID=America/Detroit:20190507T143000
DTSTAMP:20260425T211646
CREATED:20190501T141308Z
LAST-MODIFIED:20190501T141308Z
UID:10000286-1557230400-1557239400@shbcfamily.com
SUMMARY:Drive-Thru Prayer
DESCRIPTION:Caring people are available to pray for specific needs of folks in the community. \nCome as you are; stay in your car \nas others pray for you and show the love of Jesus Christ.
URL:https://shbcfamily.com/event/drive-thru-prayer-2/2019-05-07/
END:VEVENT
BEGIN:VEVENT
DTSTART;TZID=America/Detroit:20190508T083000
DTEND;TZID=America/Detroit:20190508T093000
DTSTAMP:20260425T211646
CREATED:20190123T193510Z
LAST-MODIFIED:20190416T180406Z
UID:10000726-1557304200-1557307800@shbcfamily.com
SUMMARY:Community Aerobics
DESCRIPTION:
URL:https://shbcfamily.com/event/community-aerobics-8/2019-05-08/
END:VEVENT
BEGIN:VEVENT
DTSTART;TZID=America/Detroit:20190508T180000
DTEND;TZID=America/Detroit:20190508T200000
DTSTAMP:20260425T211646
CREATED:20190501T142545Z
LAST-MODIFIED:20190501T142545Z
UID:10000282-1557338400-1557345600@shbcfamily.com
SUMMARY:Dinner for Step 2 accountability groups
DESCRIPTION:
URL:https://shbcfamily.com/event/dinner-for-step-2-accountability-groups/
END:VEVENT
BEGIN:VEVENT
DTSTART;TZID=America/Detroit:20190508T181500
DTEND;TZID=America/Detroit:20190508T200000
DTSTAMP:20260425T211646
CREATED:20181022T214416Z
LAST-MODIFIED:20190315T201435Z
UID:10000331-1557339300-1557345600@shbcfamily.com
SUMMARY:AWANA
DESCRIPTION:AWANA is a weekly club for kids packed with Bible learning and awesome games! Children four years old through sixth grade can attend.\nAWANA is on Wednesdays from 6:15 – 8:00 pm. Please check in with the AWANA secretaries in the Shawnee Hills foyer.
URL:https://shbcfamily.com/event/awana/2019-05-08/
ATTACH;FMTTYPE=image/png:https://shbcfamily.com/wp-content/uploads/2019/03/2430.png
END:VEVENT
BEGIN:VEVENT
DTSTART;TZID=America/Detroit:20190508T190000
DTEND;TZID=America/Detroit:20190508T200000
DTSTAMP:20260425T211646
CREATED:20190206T185149Z
LAST-MODIFIED:20190710T155243Z
UID:10000846-1557342000-1557345600@shbcfamily.com
SUMMARY:Prayer Meeting
DESCRIPTION:Join us to focus on and pray for God’s work.
URL:https://shbcfamily.com/event/prayer-meeting-3/2019-05-08/
END:VEVENT
BEGIN:VEVENT
DTSTART;TZID=America/Detroit:20190509T120000
DTEND;TZID=America/Detroit:20190509T143000
DTSTAMP:20260425T211646
CREATED:20190501T141426Z
LAST-MODIFIED:20190501T141426Z
UID:10000336-1557403200-1557412200@shbcfamily.com
SUMMARY:Drive-Thru Prayer
DESCRIPTION:Caring people are available to pray for specific needs of folks in the community. \nCome as you are; stay in your car \nas others pray for you and show the love of Jesus Christ.
URL:https://shbcfamily.com/event/drive-thru-prayer-3/2019-05-09/
END:VEVENT
BEGIN:VEVENT
DTSTART;TZID=America/Detroit:20190509T183000
DTEND;TZID=America/Detroit:20190509T203000
DTSTAMP:20260425T211646
CREATED:20190123T174231Z
LAST-MODIFIED:20190604T195045Z
UID:10000017-1557426600-1557433800@shbcfamily.com
SUMMARY:Karate
DESCRIPTION:
URL:https://shbcfamily.com/event/karate-3/2019-05-09/
END:VEVENT
BEGIN:VEVENT
DTSTART;TZID=America/Detroit:20190510T083000
DTEND;TZID=America/Detroit:20190510T093000
DTSTAMP:20260425T211646
CREATED:20190123T193600Z
LAST-MODIFIED:20190416T180722Z
UID:10000744-1557477000-1557480600@shbcfamily.com
SUMMARY:Community Aerobics
DESCRIPTION:
URL:https://shbcfamily.com/event/community-aerobics-9/2019-05-10/
END:VEVENT
BEGIN:VEVENT
DTSTART;TZID=America/Detroit:20190512T090000
DTEND;TZID=America/Detroit:20190512T101500
DTSTAMP:20260425T211646
CREATED:20181128T173041Z
LAST-MODIFIED:20190710T155952Z
UID:10000142-1557651600-1557656100@shbcfamily.com
SUMMARY:Sunday School Classes
DESCRIPTION:Sunday School classes are provided for kids ages newborn through 6th grade. \nTeens in grades 7-12 will meet in the Fellowship Hall.
URL:https://shbcfamily.com/event/sunday-school-classes-2/2019-05-12/
END:VEVENT
BEGIN:VEVENT
DTSTART;TZID=America/Detroit:20190512T090000
DTEND;TZID=America/Detroit:20190512T101500
DTSTAMP:20260425T211646
CREATED:20181128T172944Z
LAST-MODIFIED:20181128T172944Z
UID:10000122-1557651600-1557656100@shbcfamily.com
SUMMARY:Adult Bible Fellowships
DESCRIPTION:
URL:https://shbcfamily.com/event/adult-bible-fellowships-2/2019-05-12/
END:VEVENT
BEGIN:VEVENT
DTSTART;TZID=America/Detroit:20190512T103000
DTEND;TZID=America/Detroit:20190512T120000
DTSTAMP:20260425T211646
CREATED:20190123T194139Z
LAST-MODIFIED:20190501T222836Z
UID:10000082-1557657000-1557662400@shbcfamily.com
SUMMARY:Morning Worship Service
DESCRIPTION:When’s the last time you were refreshed — not by a tall glass of iced tea\, but by another believer in Jesus Christ?  When’s the last time someone was refreshed by you\, either by a phone call\, or a hand-written note\, or by you praying with him or her spontaneously over the phone or at church?  The sermon series on Philemon Runaway Slave: Useless to Useful continues this Sunday with a message by Pastor Dave entitled\, “Refreshing Love\,” based on verses 7 and 20.  Philemon\, the master of Onesimus the runaway slave\, refreshed others\, including Paul\, with his Christlike love.  What is refreshing love and how is it to be experienced?  Read the letter to Philemon again this week and look for the ways love refreshes.
URL:https://shbcfamily.com/event/morning-worship-service-2-2019-05-12/
END:VEVENT
BEGIN:VEVENT
DTSTART;TZID=America/Detroit:20190512T121500
DTEND;TZID=America/Detroit:20190512T124500
DTSTAMP:20260425T211646
CREATED:20190417T141018Z
LAST-MODIFIED:20190417T141037Z
UID:10001057-1557663300-1557665100@shbcfamily.com
SUMMARY:Mission Builders' Informational Meeting
DESCRIPTION:Can you travel with us to Purcell\, Missouri\, June 22-29 to help a church rebuild part of their facility? Original construction didn’t allow for water runoff\, and it caused significant damage to the foundation and floor joists to several classrooms. In addition to the main project\, we expect to have other projects that assist widows and elderly. \nConstruction experience isn’t required to participate.  Please sign-up in the foyer if you have interest and are prayerfully considering participation in assisting the Purcell Baptist Church and their community. Direct questions to Ryan McClure (ryan4osu@ yahoo.com) or Gary Hull (hullg@cedarville.edu).
URL:https://shbcfamily.com/event/mission-builders-informational-meeting/
END:VEVENT
BEGIN:VEVENT
DTSTART;TZID=America/Detroit:20190513T083000
DTEND;TZID=America/Detroit:20190513T213000
DTSTAMP:20260425T211646
CREATED:20190123T193712Z
LAST-MODIFIED:20190416T181050Z
UID:10000768-1557736200-1557783000@shbcfamily.com
SUMMARY:Community Aerobics
DESCRIPTION:
URL:https://shbcfamily.com/event/community-aerobics-10/2019-05-13/
END:VEVENT
BEGIN:VEVENT
DTSTART;TZID=America/Detroit:20190513T120000
DTEND;TZID=America/Detroit:20190513T143000
DTSTAMP:20260425T211646
CREATED:20190501T140846Z
LAST-MODIFIED:20190501T141646Z
UID:10000362-1557748800-1557757800@shbcfamily.com
SUMMARY:Drive-Thru Prayer
DESCRIPTION:Caring people are available to pray for specific needs of folks in the community. \nCome as you are; stay in your car \nas others pray for you and show the love of Jesus Christ.
URL:https://shbcfamily.com/event/drive-thru-prayer/2019-05-13/
END:VEVENT
BEGIN:VEVENT
DTSTART;TZID=America/Detroit:20190513T183000
DTEND;TZID=America/Detroit:20190513T200000
DTSTAMP:20260425T211646
CREATED:20190416T194611Z
LAST-MODIFIED:20190416T194611Z
UID:10000214-1557772200-1557777600@shbcfamily.com
SUMMARY:CARE Team Meeting
DESCRIPTION:
URL:https://shbcfamily.com/event/care-team-meeting-4/
END:VEVENT
BEGIN:VEVENT
DTSTART;TZID=America/Detroit:20190514T120000
DTEND;TZID=America/Detroit:20190514T143000
DTSTAMP:20260425T211646
CREATED:20190501T141308Z
LAST-MODIFIED:20190501T141308Z
UID:10000287-1557835200-1557844200@shbcfamily.com
SUMMARY:Drive-Thru Prayer
DESCRIPTION:Caring people are available to pray for specific needs of folks in the community. \nCome as you are; stay in your car \nas others pray for you and show the love of Jesus Christ.
URL:https://shbcfamily.com/event/drive-thru-prayer-2/2019-05-14/
END:VEVENT
BEGIN:VEVENT
DTSTART;TZID=America/Detroit:20190514T183000
DTEND;TZID=America/Detroit:20190514T200000
DTSTAMP:20260425T211646
CREATED:20190416T194751Z
LAST-MODIFIED:20190416T194751Z
UID:10000217-1557858600-1557864000@shbcfamily.com
SUMMARY:Advanced Karate
DESCRIPTION:
URL:https://shbcfamily.com/event/advanced-karate-4/
END:VEVENT
BEGIN:VEVENT
DTSTART;TZID=America/Detroit:20190514T183000
DTEND;TZID=America/Detroit:20190514T203000
DTSTAMP:20260425T211646
CREATED:20190416T194701Z
LAST-MODIFIED:20190416T194701Z
UID:10000215-1557858600-1557865800@shbcfamily.com
SUMMARY:Leadership Team Meeting
DESCRIPTION:
URL:https://shbcfamily.com/event/leadership-team-meeting-7/
END:VEVENT
BEGIN:VEVENT
DTSTART;TZID=America/Detroit:20190515T083000
DTEND;TZID=America/Detroit:20190515T093000
DTSTAMP:20260425T211646
CREATED:20190123T193510Z
LAST-MODIFIED:20190416T180406Z
UID:10000727-1557909000-1557912600@shbcfamily.com
SUMMARY:Community Aerobics
DESCRIPTION:
URL:https://shbcfamily.com/event/community-aerobics-8/2019-05-15/
END:VEVENT
BEGIN:VEVENT
DTSTART;TZID=America/Detroit:20190515T190000
DTEND;TZID=America/Detroit:20190515T200000
DTSTAMP:20260425T211646
CREATED:20190206T185149Z
LAST-MODIFIED:20190710T155243Z
UID:10000847-1557946800-1557950400@shbcfamily.com
SUMMARY:Prayer Meeting
DESCRIPTION:Join us to focus on and pray for God’s work.
URL:https://shbcfamily.com/event/prayer-meeting-3/2019-05-15/
END:VEVENT
BEGIN:VEVENT
DTSTART;TZID=America/Detroit:20190516T120000
DTEND;TZID=America/Detroit:20190516T143000
DTSTAMP:20260425T211646
CREATED:20190501T141426Z
LAST-MODIFIED:20190501T141426Z
UID:10000337-1558008000-1558017000@shbcfamily.com
SUMMARY:Drive-Thru Prayer
DESCRIPTION:Caring people are available to pray for specific needs of folks in the community. \nCome as you are; stay in your car \nas others pray for you and show the love of Jesus Christ.
URL:https://shbcfamily.com/event/drive-thru-prayer-3/2019-05-16/
END:VEVENT
BEGIN:VEVENT
DTSTART;TZID=America/Detroit:20190516T123000
DTEND;TZID=America/Detroit:20190516T140000
DTSTAMP:20260425T211646
CREATED:20190416T194924Z
LAST-MODIFIED:20190416T194924Z
UID:10000218-1558009800-1558015200@shbcfamily.com
SUMMARY:Sisters in Spirit Luncheon
DESCRIPTION:Retirement age ladies are invited to a luncheon in the foyer of the Shawnee Hills Baptist Church building. Please join us at 12:30.
URL:https://shbcfamily.com/event/sisters-in-spirit-luncheon-2/
END:VEVENT
BEGIN:VEVENT
DTSTART;TZID=America/Detroit:20190516T183000
DTEND;TZID=America/Detroit:20190516T203000
DTSTAMP:20260425T211646
CREATED:20190123T174231Z
LAST-MODIFIED:20190604T195045Z
UID:10000018-1558031400-1558038600@shbcfamily.com
SUMMARY:Karate
DESCRIPTION:
URL:https://shbcfamily.com/event/karate-3/2019-05-16/
END:VEVENT
BEGIN:VEVENT
DTSTART;TZID=America/Detroit:20190517T083000
DTEND;TZID=America/Detroit:20190517T093000
DTSTAMP:20260425T211646
CREATED:20190123T193600Z
LAST-MODIFIED:20190416T180722Z
UID:10000745-1558081800-1558085400@shbcfamily.com
SUMMARY:Community Aerobics
DESCRIPTION:
URL:https://shbcfamily.com/event/community-aerobics-9/2019-05-17/
END:VEVENT
BEGIN:VEVENT
DTSTART;TZID=America/Detroit:20190518T100000
DTEND;TZID=America/Detroit:20190518T120000
DTSTAMP:20260425T211646
CREATED:20190416T194114Z
LAST-MODIFIED:20190501T143224Z
UID:10000216-1558173600-1558180800@shbcfamily.com
SUMMARY:Baby Shower for Vivas Family
DESCRIPTION:Ladies and girls are invited to celebrate the birth of an infant daughter. Please review the registry at target.com.
URL:https://shbcfamily.com/event/baby-shower-for-vivas-family/
END:VEVENT
BEGIN:VEVENT
DTSTART;TZID=America/Detroit:20190519T090000
DTEND;TZID=America/Detroit:20190519T101500
DTSTAMP:20260425T211646
CREATED:20181128T173041Z
LAST-MODIFIED:20190710T155952Z
UID:10000143-1558256400-1558260900@shbcfamily.com
SUMMARY:Sunday School Classes
DESCRIPTION:Sunday School classes are provided for kids ages newborn through 6th grade. \nTeens in grades 7-12 will meet in the Fellowship Hall.
URL:https://shbcfamily.com/event/sunday-school-classes-2/2019-05-19/
END:VEVENT
END:VCALENDAR