BEGIN:VCALENDAR
VERSION:2.0
PRODID:-//Shawnee Hills Baptist Church - ECPv6.15.20//NONSGML v1.0//EN
CALSCALE:GREGORIAN
METHOD:PUBLISH
X-WR-CALNAME:Shawnee Hills Baptist Church
X-ORIGINAL-URL:https://shbcfamily.com
X-WR-CALDESC:Events for Shawnee Hills Baptist Church
REFRESH-INTERVAL;VALUE=DURATION:PT1H
X-Robots-Tag:noindex
X-PUBLISHED-TTL:PT1H
BEGIN:VTIMEZONE
TZID:America/Detroit
BEGIN:DAYLIGHT
TZOFFSETFROM:-0500
TZOFFSETTO:-0400
TZNAME:EDT
DTSTART:20240310T070000
END:DAYLIGHT
BEGIN:STANDARD
TZOFFSETFROM:-0400
TZOFFSETTO:-0500
TZNAME:EST
DTSTART:20241103T060000
END:STANDARD
BEGIN:DAYLIGHT
TZOFFSETFROM:-0500
TZOFFSETTO:-0400
TZNAME:EDT
DTSTART:20250309T070000
END:DAYLIGHT
BEGIN:STANDARD
TZOFFSETFROM:-0400
TZOFFSETTO:-0500
TZNAME:EST
DTSTART:20251102T060000
END:STANDARD
BEGIN:DAYLIGHT
TZOFFSETFROM:-0500
TZOFFSETTO:-0400
TZNAME:EDT
DTSTART:20260308T070000
END:DAYLIGHT
BEGIN:STANDARD
TZOFFSETFROM:-0400
TZOFFSETTO:-0500
TZNAME:EST
DTSTART:20261101T060000
END:STANDARD
BEGIN:DAYLIGHT
TZOFFSETFROM:-0500
TZOFFSETTO:-0400
TZNAME:EDT
DTSTART:20270314T070000
END:DAYLIGHT
BEGIN:STANDARD
TZOFFSETFROM:-0400
TZOFFSETTO:-0500
TZNAME:EST
DTSTART:20271107T060000
END:STANDARD
END:VTIMEZONE
BEGIN:VEVENT
DTSTART;TZID=America/Detroit:20251203T090000
DTEND;TZID=America/Detroit:20251203T100000
DTSTAMP:20260425T062540
CREATED:20241209T142712Z
LAST-MODIFIED:20241209T142712Z
UID:10003654-1764752400-1764756000@shbcfamily.com
SUMMARY:Aerobics
DESCRIPTION:
URL:https://shbcfamily.com/event/aerobics/2025-12-03/
END:VEVENT
BEGIN:VEVENT
DTSTART;TZID=America/Detroit:20251203T183000
DTEND;TZID=America/Detroit:20251203T200000
DTSTAMP:20260425T062540
CREATED:20250702T195045Z
LAST-MODIFIED:20250702T195045Z
UID:10004091-1764786600-1764792000@shbcfamily.com
SUMMARY:AWANA
DESCRIPTION:
URL:https://shbcfamily.com/event/awana-13/2025-12-03/
END:VEVENT
BEGIN:VEVENT
DTSTART;TZID=America/Detroit:20251203T190000
DTEND;TZID=America/Detroit:20251203T200000
DTSTAMP:20260425T062540
CREATED:20241209T143548Z
LAST-MODIFIED:20241209T143548Z
UID:10003817-1764788400-1764792000@shbcfamily.com
SUMMARY:Prayer Meeting
DESCRIPTION:
URL:https://shbcfamily.com/event/prayer-meeting-18/2025-12-03/
END:VEVENT
BEGIN:VEVENT
DTSTART;TZID=America/Detroit:20251207T090000
DTEND;TZID=America/Detroit:20251207T101500
DTSTAMP:20260425T062540
CREATED:20250702T195834Z
LAST-MODIFIED:20250702T195834Z
UID:10004106-1765098000-1765102500@shbcfamily.com
SUMMARY:ABF/SS
DESCRIPTION:
URL:https://shbcfamily.com/event/abf-ss-11/2025-12-07/
END:VEVENT
BEGIN:VEVENT
DTSTART;TZID=America/Detroit:20251207T103000
DTEND;TZID=America/Detroit:20251207T120000
DTSTAMP:20260425T062540
CREATED:20250702T195948Z
LAST-MODIFIED:20250702T195948Z
UID:10004112-1765103400-1765108800@shbcfamily.com
SUMMARY:Worship Service
DESCRIPTION:
URL:https://shbcfamily.com/event/worship-service-34/2025-12-07/
END:VEVENT
BEGIN:VEVENT
DTSTART;TZID=America/Detroit:20251208T090000
DTEND;TZID=America/Detroit:20251208T100000
DTSTAMP:20260425T062540
CREATED:20241209T142712Z
LAST-MODIFIED:20241209T142712Z
UID:10003655-1765184400-1765188000@shbcfamily.com
SUMMARY:Aerobics
DESCRIPTION:
URL:https://shbcfamily.com/event/aerobics/2025-12-08/
END:VEVENT
BEGIN:VEVENT
DTSTART;TZID=America/Detroit:20251210T090000
DTEND;TZID=America/Detroit:20251210T100000
DTSTAMP:20260425T062540
CREATED:20241209T142712Z
LAST-MODIFIED:20241209T142712Z
UID:10003656-1765357200-1765360800@shbcfamily.com
SUMMARY:Aerobics
DESCRIPTION:
URL:https://shbcfamily.com/event/aerobics/2025-12-10/
END:VEVENT
BEGIN:VEVENT
DTSTART;TZID=America/Detroit:20251210T183000
DTEND;TZID=America/Detroit:20251210T200000
DTSTAMP:20260425T062540
CREATED:20250702T195045Z
LAST-MODIFIED:20250702T195045Z
UID:10004092-1765391400-1765396800@shbcfamily.com
SUMMARY:AWANA
DESCRIPTION:
URL:https://shbcfamily.com/event/awana-13/2025-12-10/
END:VEVENT
BEGIN:VEVENT
DTSTART;TZID=America/Detroit:20251210T190000
DTEND;TZID=America/Detroit:20251210T200000
DTSTAMP:20260425T062540
CREATED:20241209T143548Z
LAST-MODIFIED:20241209T143548Z
UID:10003818-1765393200-1765396800@shbcfamily.com
SUMMARY:Prayer Meeting
DESCRIPTION:
URL:https://shbcfamily.com/event/prayer-meeting-18/2025-12-10/
END:VEVENT
BEGIN:VEVENT
DTSTART;TZID=America/Detroit:20251213T190000
DTEND;TZID=America/Detroit:20251213T200000
DTSTAMP:20260425T062540
CREATED:20250702T200101Z
LAST-MODIFIED:20250702T200101Z
UID:10004117-1765652400-1765656000@shbcfamily.com
SUMMARY:Choir Cantata
DESCRIPTION:
URL:https://shbcfamily.com/event/choir-cantata-2/
END:VEVENT
BEGIN:VEVENT
DTSTART;TZID=America/Detroit:20251214T090000
DTEND;TZID=America/Detroit:20251214T101500
DTSTAMP:20260425T062540
CREATED:20250702T195834Z
LAST-MODIFIED:20250702T195834Z
UID:10004107-1765702800-1765707300@shbcfamily.com
SUMMARY:ABF/SS
DESCRIPTION:
URL:https://shbcfamily.com/event/abf-ss-11/2025-12-14/
END:VEVENT
BEGIN:VEVENT
DTSTART;TZID=America/Detroit:20251214T103000
DTEND;TZID=America/Detroit:20251214T120000
DTSTAMP:20260425T062540
CREATED:20250702T195948Z
LAST-MODIFIED:20250702T195948Z
UID:10004113-1765708200-1765713600@shbcfamily.com
SUMMARY:Worship Service
DESCRIPTION:
URL:https://shbcfamily.com/event/worship-service-34/2025-12-14/
END:VEVENT
BEGIN:VEVENT
DTSTART;TZID=America/Detroit:20251214T103000
DTEND;TZID=America/Detroit:20251214T120000
DTSTAMP:20260425T062540
CREATED:20250702T200148Z
LAST-MODIFIED:20250702T200148Z
UID:10004118-1765708200-1765713600@shbcfamily.com
SUMMARY:Choir Cantata
DESCRIPTION:
URL:https://shbcfamily.com/event/choir-cantata-3/
END:VEVENT
BEGIN:VEVENT
DTSTART;TZID=America/Detroit:20251215T090000
DTEND;TZID=America/Detroit:20251215T100000
DTSTAMP:20260425T062540
CREATED:20241209T142712Z
LAST-MODIFIED:20241209T142712Z
UID:10003657-1765789200-1765792800@shbcfamily.com
SUMMARY:Aerobics
DESCRIPTION:
URL:https://shbcfamily.com/event/aerobics/2025-12-15/
END:VEVENT
BEGIN:VEVENT
DTSTART;TZID=America/Detroit:20251217T090000
DTEND;TZID=America/Detroit:20251217T100000
DTSTAMP:20260425T062540
CREATED:20241209T142712Z
LAST-MODIFIED:20241209T142712Z
UID:10003658-1765962000-1765965600@shbcfamily.com
SUMMARY:Aerobics
DESCRIPTION:
URL:https://shbcfamily.com/event/aerobics/2025-12-17/
END:VEVENT
BEGIN:VEVENT
DTSTART;TZID=America/Detroit:20251217T183000
DTEND;TZID=America/Detroit:20251217T200000
DTSTAMP:20260425T062540
CREATED:20250702T195045Z
LAST-MODIFIED:20250702T195045Z
UID:10004093-1765996200-1766001600@shbcfamily.com
SUMMARY:AWANA
DESCRIPTION:
URL:https://shbcfamily.com/event/awana-13/2025-12-17/
END:VEVENT
BEGIN:VEVENT
DTSTART;TZID=America/Detroit:20251217T190000
DTEND;TZID=America/Detroit:20251217T200000
DTSTAMP:20260425T062540
CREATED:20241209T143548Z
LAST-MODIFIED:20241209T143548Z
UID:10003819-1765998000-1766001600@shbcfamily.com
SUMMARY:Prayer Meeting
DESCRIPTION:
URL:https://shbcfamily.com/event/prayer-meeting-18/2025-12-17/
END:VEVENT
BEGIN:VEVENT
DTSTART;TZID=America/Detroit:20251221T090000
DTEND;TZID=America/Detroit:20251221T101500
DTSTAMP:20260425T062540
CREATED:20250702T195834Z
LAST-MODIFIED:20250702T195834Z
UID:10004108-1766307600-1766312100@shbcfamily.com
SUMMARY:ABF/SS
DESCRIPTION:
URL:https://shbcfamily.com/event/abf-ss-11/2025-12-21/
END:VEVENT
BEGIN:VEVENT
DTSTART;TZID=America/Detroit:20251221T103000
DTEND;TZID=America/Detroit:20251221T120000
DTSTAMP:20260425T062540
CREATED:20250702T195948Z
LAST-MODIFIED:20250702T195948Z
UID:10004114-1766313000-1766318400@shbcfamily.com
SUMMARY:Worship Service
DESCRIPTION:
URL:https://shbcfamily.com/event/worship-service-34/2025-12-21/
END:VEVENT
BEGIN:VEVENT
DTSTART;TZID=America/Detroit:20251222T090000
DTEND;TZID=America/Detroit:20251222T100000
DTSTAMP:20260425T062540
CREATED:20241209T142712Z
LAST-MODIFIED:20241209T142712Z
UID:10003659-1766394000-1766397600@shbcfamily.com
SUMMARY:Aerobics
DESCRIPTION:
URL:https://shbcfamily.com/event/aerobics/2025-12-22/
END:VEVENT
BEGIN:VEVENT
DTSTART;TZID=America/Detroit:20251224T090000
DTEND;TZID=America/Detroit:20251224T100000
DTSTAMP:20260425T062540
CREATED:20241209T142712Z
LAST-MODIFIED:20241209T142712Z
UID:10003660-1766566800-1766570400@shbcfamily.com
SUMMARY:Aerobics
DESCRIPTION:
URL:https://shbcfamily.com/event/aerobics/2025-12-24/
END:VEVENT
BEGIN:VEVENT
DTSTART;TZID=America/Detroit:20251224T190000
DTEND;TZID=America/Detroit:20251224T200000
DTSTAMP:20260425T062540
CREATED:20241209T143548Z
LAST-MODIFIED:20241209T143548Z
UID:10003820-1766602800-1766606400@shbcfamily.com
SUMMARY:Prayer Meeting
DESCRIPTION:
URL:https://shbcfamily.com/event/prayer-meeting-18/2025-12-24/
END:VEVENT
BEGIN:VEVENT
DTSTART;TZID=America/Detroit:20251224T190000
DTEND;TZID=America/Detroit:20251224T200000
DTSTAMP:20260425T062540
CREATED:20250702T200304Z
LAST-MODIFIED:20250702T200304Z
UID:10004119-1766602800-1766606400@shbcfamily.com
SUMMARY:Christmas Eve Service
DESCRIPTION:
URL:https://shbcfamily.com/event/christmas-eve-service-4/
END:VEVENT
BEGIN:VEVENT
DTSTART;TZID=America/Detroit:20251228T090000
DTEND;TZID=America/Detroit:20251228T101500
DTSTAMP:20260425T062540
CREATED:20250702T195834Z
LAST-MODIFIED:20250702T195834Z
UID:10004109-1766912400-1766916900@shbcfamily.com
SUMMARY:ABF/SS
DESCRIPTION:
URL:https://shbcfamily.com/event/abf-ss-11/2025-12-28/
END:VEVENT
BEGIN:VEVENT
DTSTART;TZID=America/Detroit:20251228T103000
DTEND;TZID=America/Detroit:20251228T120000
DTSTAMP:20260425T062540
CREATED:20250702T195948Z
LAST-MODIFIED:20250702T195948Z
UID:10004115-1766917800-1766923200@shbcfamily.com
SUMMARY:Worship Service
DESCRIPTION:
URL:https://shbcfamily.com/event/worship-service-34/2025-12-28/
END:VEVENT
BEGIN:VEVENT
DTSTART;TZID=America/Detroit:20251229T090000
DTEND;TZID=America/Detroit:20251229T100000
DTSTAMP:20260425T062540
CREATED:20241209T142712Z
LAST-MODIFIED:20241209T142712Z
UID:10003661-1766998800-1767002400@shbcfamily.com
SUMMARY:Aerobics
DESCRIPTION:
URL:https://shbcfamily.com/event/aerobics/2025-12-29/
END:VEVENT
BEGIN:VEVENT
DTSTART;TZID=America/Detroit:20251231T090000
DTEND;TZID=America/Detroit:20251231T100000
DTSTAMP:20260425T062540
CREATED:20241209T142712Z
LAST-MODIFIED:20241209T142712Z
UID:10003662-1767171600-1767175200@shbcfamily.com
SUMMARY:Aerobics
DESCRIPTION:
URL:https://shbcfamily.com/event/aerobics/2025-12-31/
END:VEVENT
BEGIN:VEVENT
DTSTART;TZID=America/Detroit:20251231T190000
DTEND;TZID=America/Detroit:20251231T200000
DTSTAMP:20260425T062540
CREATED:20241209T143548Z
LAST-MODIFIED:20241209T143548Z
UID:10003821-1767207600-1767211200@shbcfamily.com
SUMMARY:Prayer Meeting
DESCRIPTION:
URL:https://shbcfamily.com/event/prayer-meeting-18/2025-12-31/
END:VEVENT
BEGIN:VEVENT
DTSTART;TZID=America/Detroit:20260104T090000
DTEND;TZID=America/Detroit:20260104T101500
DTSTAMP:20260425T062540
CREATED:20250702T195834Z
LAST-MODIFIED:20250702T195834Z
UID:10004110-1767517200-1767521700@shbcfamily.com
SUMMARY:ABF/SS
DESCRIPTION:
URL:https://shbcfamily.com/event/abf-ss-11/2026-01-04/
END:VEVENT
BEGIN:VEVENT
DTSTART;TZID=America/Detroit:20260104T103000
DTEND;TZID=America/Detroit:20260104T120000
DTSTAMP:20260425T062540
CREATED:20250702T195948Z
LAST-MODIFIED:20250702T195948Z
UID:10004116-1767522600-1767528000@shbcfamily.com
SUMMARY:Worship Service
DESCRIPTION:
URL:https://shbcfamily.com/event/worship-service-34/2026-01-04/
END:VEVENT
END:VCALENDAR