BEGIN:VCALENDAR
VERSION:2.0
PRODID:-//Shawnee Hills Baptist Church - ECPv6.15.20//NONSGML v1.0//EN
CALSCALE:GREGORIAN
METHOD:PUBLISH
X-WR-CALNAME:Shawnee Hills Baptist Church
X-ORIGINAL-URL:https://shbcfamily.com
X-WR-CALDESC:Events for Shawnee Hills Baptist Church
REFRESH-INTERVAL;VALUE=DURATION:PT1H
X-Robots-Tag:noindex
X-PUBLISHED-TTL:PT1H
BEGIN:VTIMEZONE
TZID:America/Detroit
BEGIN:DAYLIGHT
TZOFFSETFROM:-0500
TZOFFSETTO:-0400
TZNAME:EDT
DTSTART:20240310T070000
END:DAYLIGHT
BEGIN:STANDARD
TZOFFSETFROM:-0400
TZOFFSETTO:-0500
TZNAME:EST
DTSTART:20241103T060000
END:STANDARD
BEGIN:DAYLIGHT
TZOFFSETFROM:-0500
TZOFFSETTO:-0400
TZNAME:EDT
DTSTART:20250309T070000
END:DAYLIGHT
BEGIN:STANDARD
TZOFFSETFROM:-0400
TZOFFSETTO:-0500
TZNAME:EST
DTSTART:20251102T060000
END:STANDARD
BEGIN:DAYLIGHT
TZOFFSETFROM:-0500
TZOFFSETTO:-0400
TZNAME:EDT
DTSTART:20260308T070000
END:DAYLIGHT
BEGIN:STANDARD
TZOFFSETFROM:-0400
TZOFFSETTO:-0500
TZNAME:EST
DTSTART:20261101T060000
END:STANDARD
BEGIN:DAYLIGHT
TZOFFSETFROM:-0500
TZOFFSETTO:-0400
TZNAME:EDT
DTSTART:20270314T070000
END:DAYLIGHT
BEGIN:STANDARD
TZOFFSETFROM:-0400
TZOFFSETTO:-0500
TZNAME:EST
DTSTART:20271107T060000
END:STANDARD
END:VTIMEZONE
BEGIN:VEVENT
DTSTART;TZID=America/Detroit:20251221T090000
DTEND;TZID=America/Detroit:20251221T101500
DTSTAMP:20260425T084910
CREATED:20250702T195834Z
LAST-MODIFIED:20250702T195834Z
UID:10004108-1766307600-1766312100@shbcfamily.com
SUMMARY:ABF/SS
DESCRIPTION:
URL:https://shbcfamily.com/event/abf-ss-11/2025-12-21/
END:VEVENT
BEGIN:VEVENT
DTSTART;TZID=America/Detroit:20251221T103000
DTEND;TZID=America/Detroit:20251221T120000
DTSTAMP:20260425T084910
CREATED:20250702T195948Z
LAST-MODIFIED:20250702T195948Z
UID:10004114-1766313000-1766318400@shbcfamily.com
SUMMARY:Worship Service
DESCRIPTION:
URL:https://shbcfamily.com/event/worship-service-34/2025-12-21/
END:VEVENT
BEGIN:VEVENT
DTSTART;TZID=America/Detroit:20251222T090000
DTEND;TZID=America/Detroit:20251222T100000
DTSTAMP:20260425T084910
CREATED:20241209T142712Z
LAST-MODIFIED:20241209T142712Z
UID:10003659-1766394000-1766397600@shbcfamily.com
SUMMARY:Aerobics
DESCRIPTION:
URL:https://shbcfamily.com/event/aerobics/2025-12-22/
END:VEVENT
BEGIN:VEVENT
DTSTART;TZID=America/Detroit:20251224T090000
DTEND;TZID=America/Detroit:20251224T100000
DTSTAMP:20260425T084910
CREATED:20241209T142712Z
LAST-MODIFIED:20241209T142712Z
UID:10003660-1766566800-1766570400@shbcfamily.com
SUMMARY:Aerobics
DESCRIPTION:
URL:https://shbcfamily.com/event/aerobics/2025-12-24/
END:VEVENT
BEGIN:VEVENT
DTSTART;TZID=America/Detroit:20251224T190000
DTEND;TZID=America/Detroit:20251224T200000
DTSTAMP:20260425T084910
CREATED:20241209T143548Z
LAST-MODIFIED:20241209T143548Z
UID:10003820-1766602800-1766606400@shbcfamily.com
SUMMARY:Prayer Meeting
DESCRIPTION:
URL:https://shbcfamily.com/event/prayer-meeting-18/2025-12-24/
END:VEVENT
BEGIN:VEVENT
DTSTART;TZID=America/Detroit:20251224T190000
DTEND;TZID=America/Detroit:20251224T200000
DTSTAMP:20260425T084910
CREATED:20250702T200304Z
LAST-MODIFIED:20250702T200304Z
UID:10004119-1766602800-1766606400@shbcfamily.com
SUMMARY:Christmas Eve Service
DESCRIPTION:
URL:https://shbcfamily.com/event/christmas-eve-service-4/
END:VEVENT
BEGIN:VEVENT
DTSTART;TZID=America/Detroit:20251228T090000
DTEND;TZID=America/Detroit:20251228T101500
DTSTAMP:20260425T084910
CREATED:20250702T195834Z
LAST-MODIFIED:20250702T195834Z
UID:10004109-1766912400-1766916900@shbcfamily.com
SUMMARY:ABF/SS
DESCRIPTION:
URL:https://shbcfamily.com/event/abf-ss-11/2025-12-28/
END:VEVENT
BEGIN:VEVENT
DTSTART;TZID=America/Detroit:20251228T103000
DTEND;TZID=America/Detroit:20251228T120000
DTSTAMP:20260425T084910
CREATED:20250702T195948Z
LAST-MODIFIED:20250702T195948Z
UID:10004115-1766917800-1766923200@shbcfamily.com
SUMMARY:Worship Service
DESCRIPTION:
URL:https://shbcfamily.com/event/worship-service-34/2025-12-28/
END:VEVENT
BEGIN:VEVENT
DTSTART;TZID=America/Detroit:20251229T090000
DTEND;TZID=America/Detroit:20251229T100000
DTSTAMP:20260425T084910
CREATED:20241209T142712Z
LAST-MODIFIED:20241209T142712Z
UID:10003661-1766998800-1767002400@shbcfamily.com
SUMMARY:Aerobics
DESCRIPTION:
URL:https://shbcfamily.com/event/aerobics/2025-12-29/
END:VEVENT
BEGIN:VEVENT
DTSTART;TZID=America/Detroit:20251231T090000
DTEND;TZID=America/Detroit:20251231T100000
DTSTAMP:20260425T084910
CREATED:20241209T142712Z
LAST-MODIFIED:20241209T142712Z
UID:10003662-1767171600-1767175200@shbcfamily.com
SUMMARY:Aerobics
DESCRIPTION:
URL:https://shbcfamily.com/event/aerobics/2025-12-31/
END:VEVENT
BEGIN:VEVENT
DTSTART;TZID=America/Detroit:20251231T190000
DTEND;TZID=America/Detroit:20251231T200000
DTSTAMP:20260425T084910
CREATED:20241209T143548Z
LAST-MODIFIED:20241209T143548Z
UID:10003821-1767207600-1767211200@shbcfamily.com
SUMMARY:Prayer Meeting
DESCRIPTION:
URL:https://shbcfamily.com/event/prayer-meeting-18/2025-12-31/
END:VEVENT
BEGIN:VEVENT
DTSTART;TZID=America/Detroit:20260104T090000
DTEND;TZID=America/Detroit:20260104T101500
DTSTAMP:20260425T084910
CREATED:20250702T195834Z
LAST-MODIFIED:20250702T195834Z
UID:10004110-1767517200-1767521700@shbcfamily.com
SUMMARY:ABF/SS
DESCRIPTION:
URL:https://shbcfamily.com/event/abf-ss-11/2026-01-04/
END:VEVENT
BEGIN:VEVENT
DTSTART;TZID=America/Detroit:20260104T103000
DTEND;TZID=America/Detroit:20260104T120000
DTSTAMP:20260425T084910
CREATED:20250702T195948Z
LAST-MODIFIED:20250702T195948Z
UID:10004116-1767522600-1767528000@shbcfamily.com
SUMMARY:Worship Service
DESCRIPTION:
URL:https://shbcfamily.com/event/worship-service-34/2026-01-04/
END:VEVENT
BEGIN:VEVENT
DTSTART;TZID=America/Detroit:20260105T090000
DTEND;TZID=America/Detroit:20260105T100000
DTSTAMP:20260425T084910
CREATED:20241209T142712Z
LAST-MODIFIED:20241209T142712Z
UID:10003663-1767603600-1767607200@shbcfamily.com
SUMMARY:Aerobics
DESCRIPTION:
URL:https://shbcfamily.com/event/aerobics/2026-01-05/
END:VEVENT
BEGIN:VEVENT
DTSTART;TZID=America/Detroit:20260107T090000
DTEND;TZID=America/Detroit:20260107T100000
DTSTAMP:20260425T084910
CREATED:20241209T142712Z
LAST-MODIFIED:20241209T142712Z
UID:10003664-1767776400-1767780000@shbcfamily.com
SUMMARY:Aerobics
DESCRIPTION:
URL:https://shbcfamily.com/event/aerobics/2026-01-07/
END:VEVENT
BEGIN:VEVENT
DTSTART;TZID=America/Detroit:20260107T190000
DTEND;TZID=America/Detroit:20260107T200000
DTSTAMP:20260425T084910
CREATED:20241209T143548Z
LAST-MODIFIED:20241209T143548Z
UID:10003822-1767812400-1767816000@shbcfamily.com
SUMMARY:Prayer Meeting
DESCRIPTION:
URL:https://shbcfamily.com/event/prayer-meeting-18/2026-01-07/
END:VEVENT
BEGIN:VEVENT
DTSTART;TZID=America/Detroit:20260111T083000
DTEND;TZID=America/Detroit:20260111T093000
DTSTAMP:20260425T084910
CREATED:20260113T145327Z
LAST-MODIFIED:20260113T145327Z
UID:10004190-1768120200-1768123800@shbcfamily.com
SUMMARY:Worship Service
DESCRIPTION:
URL:https://shbcfamily.com/event/worship-service-35/2026-01-11/
END:VEVENT
BEGIN:VEVENT
DTSTART;TZID=America/Detroit:20260111T094500
DTEND;TZID=America/Detroit:20260111T104500
DTSTAMP:20260425T084910
CREATED:20260113T145202Z
LAST-MODIFIED:20260113T145202Z
UID:10004120-1768124700-1768128300@shbcfamily.com
SUMMARY:ABF/SS
DESCRIPTION:
URL:https://shbcfamily.com/event/abf-ss-12/2026-01-11/
END:VEVENT
BEGIN:VEVENT
DTSTART;TZID=America/Detroit:20260111T110000
DTEND;TZID=America/Detroit:20260111T123000
DTSTAMP:20260425T084910
CREATED:20260113T145435Z
LAST-MODIFIED:20260113T145435Z
UID:10004260-1768129200-1768134600@shbcfamily.com
SUMMARY:Worship Service
DESCRIPTION:
URL:https://shbcfamily.com/event/worship-service-36/2026-01-11/
END:VEVENT
BEGIN:VEVENT
DTSTART;TZID=America/Detroit:20260112T090000
DTEND;TZID=America/Detroit:20260112T100000
DTSTAMP:20260425T084910
CREATED:20241209T142712Z
LAST-MODIFIED:20241209T142712Z
UID:10003665-1768208400-1768212000@shbcfamily.com
SUMMARY:Aerobics
DESCRIPTION:
URL:https://shbcfamily.com/event/aerobics/2026-01-12/
END:VEVENT
BEGIN:VEVENT
DTSTART;TZID=America/Detroit:20260114T090000
DTEND;TZID=America/Detroit:20260114T100000
DTSTAMP:20260425T084910
CREATED:20241209T142712Z
LAST-MODIFIED:20241209T142712Z
UID:10003666-1768381200-1768384800@shbcfamily.com
SUMMARY:Aerobics
DESCRIPTION:
URL:https://shbcfamily.com/event/aerobics/2026-01-14/
END:VEVENT
BEGIN:VEVENT
DTSTART;TZID=America/Detroit:20260114T190000
DTEND;TZID=America/Detroit:20260114T200000
DTSTAMP:20260425T084910
CREATED:20241209T143548Z
LAST-MODIFIED:20241209T143548Z
UID:10003823-1768417200-1768420800@shbcfamily.com
SUMMARY:Prayer Meeting
DESCRIPTION:
URL:https://shbcfamily.com/event/prayer-meeting-18/2026-01-14/
END:VEVENT
BEGIN:VEVENT
DTSTART;TZID=America/Detroit:20260118T083000
DTEND;TZID=America/Detroit:20260118T093000
DTSTAMP:20260425T084910
CREATED:20260113T145327Z
LAST-MODIFIED:20260113T145327Z
UID:10004191-1768725000-1768728600@shbcfamily.com
SUMMARY:Worship Service
DESCRIPTION:
URL:https://shbcfamily.com/event/worship-service-35/2026-01-18/
END:VEVENT
BEGIN:VEVENT
DTSTART;TZID=America/Detroit:20260118T094500
DTEND;TZID=America/Detroit:20260118T104500
DTSTAMP:20260425T084910
CREATED:20260113T145202Z
LAST-MODIFIED:20260113T145202Z
UID:10004121-1768729500-1768733100@shbcfamily.com
SUMMARY:ABF/SS
DESCRIPTION:
URL:https://shbcfamily.com/event/abf-ss-12/2026-01-18/
END:VEVENT
BEGIN:VEVENT
DTSTART;TZID=America/Detroit:20260118T110000
DTEND;TZID=America/Detroit:20260118T123000
DTSTAMP:20260425T084910
CREATED:20260113T145435Z
LAST-MODIFIED:20260113T145435Z
UID:10004261-1768734000-1768739400@shbcfamily.com
SUMMARY:Worship Service
DESCRIPTION:
URL:https://shbcfamily.com/event/worship-service-36/2026-01-18/
END:VEVENT
BEGIN:VEVENT
DTSTART;TZID=America/Detroit:20260119T090000
DTEND;TZID=America/Detroit:20260119T100000
DTSTAMP:20260425T084910
CREATED:20241209T142712Z
LAST-MODIFIED:20241209T142712Z
UID:10003667-1768813200-1768816800@shbcfamily.com
SUMMARY:Aerobics
DESCRIPTION:
URL:https://shbcfamily.com/event/aerobics/2026-01-19/
END:VEVENT
BEGIN:VEVENT
DTSTART;TZID=America/Detroit:20260120T150000
DTEND;TZID=America/Detroit:20260120T190000
DTSTAMP:20260425T084910
CREATED:20260113T145656Z
LAST-MODIFIED:20260113T145656Z
UID:10004392-1768921200-1768935600@shbcfamily.com
SUMMARY:Community Blood Drive
DESCRIPTION:
URL:https://shbcfamily.com/event/community-blood-drive-29/
END:VEVENT
BEGIN:VEVENT
DTSTART;TZID=America/Detroit:20260121T090000
DTEND;TZID=America/Detroit:20260121T100000
DTSTAMP:20260425T084910
CREATED:20241209T142712Z
LAST-MODIFIED:20241209T142712Z
UID:10003668-1768986000-1768989600@shbcfamily.com
SUMMARY:Aerobics
DESCRIPTION:
URL:https://shbcfamily.com/event/aerobics/2026-01-21/
END:VEVENT
BEGIN:VEVENT
DTSTART;TZID=America/Detroit:20260121T190000
DTEND;TZID=America/Detroit:20260121T200000
DTSTAMP:20260425T084910
CREATED:20241209T143548Z
LAST-MODIFIED:20241209T143548Z
UID:10003824-1769022000-1769025600@shbcfamily.com
SUMMARY:Prayer Meeting
DESCRIPTION:
URL:https://shbcfamily.com/event/prayer-meeting-18/2026-01-21/
END:VEVENT
BEGIN:VEVENT
DTSTART;TZID=America/Detroit:20260125T083000
DTEND;TZID=America/Detroit:20260125T093000
DTSTAMP:20260425T084910
CREATED:20260113T145327Z
LAST-MODIFIED:20260113T145327Z
UID:10004192-1769329800-1769333400@shbcfamily.com
SUMMARY:Worship Service
DESCRIPTION:
URL:https://shbcfamily.com/event/worship-service-35/2026-01-25/
END:VEVENT
END:VCALENDAR