BEGIN:VCALENDAR
VERSION:2.0
PRODID:-//Shawnee Hills Baptist Church - ECPv6.15.20//NONSGML v1.0//EN
CALSCALE:GREGORIAN
METHOD:PUBLISH
X-WR-CALNAME:Shawnee Hills Baptist Church
X-ORIGINAL-URL:https://shbcfamily.com
X-WR-CALDESC:Events for Shawnee Hills Baptist Church
REFRESH-INTERVAL;VALUE=DURATION:PT1H
X-Robots-Tag:noindex
X-PUBLISHED-TTL:PT1H
BEGIN:VTIMEZONE
TZID:America/Detroit
BEGIN:DAYLIGHT
TZOFFSETFROM:-0500
TZOFFSETTO:-0400
TZNAME:EDT
DTSTART:20250309T070000
END:DAYLIGHT
BEGIN:STANDARD
TZOFFSETFROM:-0400
TZOFFSETTO:-0500
TZNAME:EST
DTSTART:20251102T060000
END:STANDARD
BEGIN:DAYLIGHT
TZOFFSETFROM:-0500
TZOFFSETTO:-0400
TZNAME:EDT
DTSTART:20260308T070000
END:DAYLIGHT
BEGIN:STANDARD
TZOFFSETFROM:-0400
TZOFFSETTO:-0500
TZNAME:EST
DTSTART:20261101T060000
END:STANDARD
BEGIN:DAYLIGHT
TZOFFSETFROM:-0500
TZOFFSETTO:-0400
TZNAME:EDT
DTSTART:20270314T070000
END:DAYLIGHT
BEGIN:STANDARD
TZOFFSETFROM:-0400
TZOFFSETTO:-0500
TZNAME:EST
DTSTART:20271107T060000
END:STANDARD
END:VTIMEZONE
BEGIN:VEVENT
DTSTART;TZID=America/Detroit:20260121T190000
DTEND;TZID=America/Detroit:20260121T200000
DTSTAMP:20260425T115500
CREATED:20241209T143548Z
LAST-MODIFIED:20241209T143548Z
UID:10003824-1769022000-1769025600@shbcfamily.com
SUMMARY:Prayer Meeting
DESCRIPTION:
URL:https://shbcfamily.com/event/prayer-meeting-18/2026-01-21/
END:VEVENT
BEGIN:VEVENT
DTSTART;TZID=America/Detroit:20260125T083000
DTEND;TZID=America/Detroit:20260125T093000
DTSTAMP:20260425T115500
CREATED:20260113T145327Z
LAST-MODIFIED:20260113T145327Z
UID:10004192-1769329800-1769333400@shbcfamily.com
SUMMARY:Worship Service
DESCRIPTION:
URL:https://shbcfamily.com/event/worship-service-35/2026-01-25/
END:VEVENT
BEGIN:VEVENT
DTSTART;TZID=America/Detroit:20260125T094500
DTEND;TZID=America/Detroit:20260125T104500
DTSTAMP:20260425T115500
CREATED:20260113T145202Z
LAST-MODIFIED:20260113T145202Z
UID:10004122-1769334300-1769337900@shbcfamily.com
SUMMARY:ABF/SS
DESCRIPTION:
URL:https://shbcfamily.com/event/abf-ss-12/2026-01-25/
END:VEVENT
BEGIN:VEVENT
DTSTART;TZID=America/Detroit:20260125T110000
DTEND;TZID=America/Detroit:20260125T123000
DTSTAMP:20260425T115500
CREATED:20260113T145435Z
LAST-MODIFIED:20260113T145435Z
UID:10004262-1769338800-1769344200@shbcfamily.com
SUMMARY:Worship Service
DESCRIPTION:
URL:https://shbcfamily.com/event/worship-service-36/2026-01-25/
END:VEVENT
BEGIN:VEVENT
DTSTART;TZID=America/Detroit:20260125T180000
DTEND;TZID=America/Detroit:20260125T190000
DTSTAMP:20260425T115500
CREATED:20260113T145546Z
LAST-MODIFIED:20260113T145546Z
UID:10004330-1769364000-1769367600@shbcfamily.com
SUMMARY:Equip
DESCRIPTION:
URL:https://shbcfamily.com/event/equip-2/2026-01-25/
END:VEVENT
BEGIN:VEVENT
DTSTART;TZID=America/Detroit:20260126T090000
DTEND;TZID=America/Detroit:20260126T100000
DTSTAMP:20260425T115500
CREATED:20241209T142712Z
LAST-MODIFIED:20241209T142712Z
UID:10003669-1769418000-1769421600@shbcfamily.com
SUMMARY:Aerobics
DESCRIPTION:
URL:https://shbcfamily.com/event/aerobics/2026-01-26/
END:VEVENT
BEGIN:VEVENT
DTSTART;TZID=America/Detroit:20260128T090000
DTEND;TZID=America/Detroit:20260128T100000
DTSTAMP:20260425T115500
CREATED:20241209T142712Z
LAST-MODIFIED:20241209T142712Z
UID:10003670-1769590800-1769594400@shbcfamily.com
SUMMARY:Aerobics
DESCRIPTION:
URL:https://shbcfamily.com/event/aerobics/2026-01-28/
END:VEVENT
BEGIN:VEVENT
DTSTART;TZID=America/Detroit:20260128T190000
DTEND;TZID=America/Detroit:20260128T200000
DTSTAMP:20260425T115500
CREATED:20241209T143548Z
LAST-MODIFIED:20241209T143548Z
UID:10003825-1769626800-1769630400@shbcfamily.com
SUMMARY:Prayer Meeting
DESCRIPTION:
URL:https://shbcfamily.com/event/prayer-meeting-18/2026-01-28/
END:VEVENT
BEGIN:VEVENT
DTSTART;TZID=America/Detroit:20260131T120000
DTEND;TZID=America/Detroit:20260131T200000
DTSTAMP:20260425T115500
CREATED:20260113T145805Z
LAST-MODIFIED:20260113T145805Z
UID:10004393-1769860800-1769889600@shbcfamily.com
SUMMARY:Sportsman's Classic
DESCRIPTION:
URL:https://shbcfamily.com/event/sportsmans-classic-4/
END:VEVENT
BEGIN:VEVENT
DTSTART;TZID=America/Detroit:20260201T083000
DTEND;TZID=America/Detroit:20260201T093000
DTSTAMP:20260425T115500
CREATED:20260113T145327Z
LAST-MODIFIED:20260113T145327Z
UID:10004193-1769934600-1769938200@shbcfamily.com
SUMMARY:Worship Service
DESCRIPTION:
URL:https://shbcfamily.com/event/worship-service-35/2026-02-01/
END:VEVENT
BEGIN:VEVENT
DTSTART;TZID=America/Detroit:20260201T094500
DTEND;TZID=America/Detroit:20260201T104500
DTSTAMP:20260425T115500
CREATED:20260113T145202Z
LAST-MODIFIED:20260113T145202Z
UID:10004123-1769939100-1769942700@shbcfamily.com
SUMMARY:ABF/SS
DESCRIPTION:
URL:https://shbcfamily.com/event/abf-ss-12/2026-02-01/
END:VEVENT
BEGIN:VEVENT
DTSTART;TZID=America/Detroit:20260201T110000
DTEND;TZID=America/Detroit:20260201T123000
DTSTAMP:20260425T115500
CREATED:20260113T145435Z
LAST-MODIFIED:20260113T145435Z
UID:10004263-1769943600-1769949000@shbcfamily.com
SUMMARY:Worship Service
DESCRIPTION:
URL:https://shbcfamily.com/event/worship-service-36/2026-02-01/
END:VEVENT
BEGIN:VEVENT
DTSTART;TZID=America/Detroit:20260201T180000
DTEND;TZID=America/Detroit:20260201T190000
DTSTAMP:20260425T115500
CREATED:20260113T145546Z
LAST-MODIFIED:20260113T145546Z
UID:10004331-1769968800-1769972400@shbcfamily.com
SUMMARY:Equip
DESCRIPTION:
URL:https://shbcfamily.com/event/equip-2/2026-02-01/
END:VEVENT
BEGIN:VEVENT
DTSTART;TZID=America/Detroit:20260202T090000
DTEND;TZID=America/Detroit:20260202T100000
DTSTAMP:20260425T115500
CREATED:20241209T142712Z
LAST-MODIFIED:20241209T142712Z
UID:10003671-1770022800-1770026400@shbcfamily.com
SUMMARY:Aerobics
DESCRIPTION:
URL:https://shbcfamily.com/event/aerobics/2026-02-02/
END:VEVENT
BEGIN:VEVENT
DTSTART;TZID=America/Detroit:20260204T090000
DTEND;TZID=America/Detroit:20260204T100000
DTSTAMP:20260425T115500
CREATED:20241209T142712Z
LAST-MODIFIED:20241209T142712Z
UID:10003672-1770195600-1770199200@shbcfamily.com
SUMMARY:Aerobics
DESCRIPTION:
URL:https://shbcfamily.com/event/aerobics/2026-02-04/
END:VEVENT
BEGIN:VEVENT
DTSTART;TZID=America/Detroit:20260204T190000
DTEND;TZID=America/Detroit:20260204T200000
DTSTAMP:20260425T115500
CREATED:20241209T143548Z
LAST-MODIFIED:20241209T143548Z
UID:10003826-1770231600-1770235200@shbcfamily.com
SUMMARY:Prayer Meeting
DESCRIPTION:
URL:https://shbcfamily.com/event/prayer-meeting-18/2026-02-04/
END:VEVENT
BEGIN:VEVENT
DTSTART;TZID=America/Detroit:20260207T160000
DTEND;TZID=America/Detroit:20260207T200000
DTSTAMP:20260425T115500
CREATED:20260113T145859Z
LAST-MODIFIED:20260113T145859Z
UID:10004394-1770480000-1770494400@shbcfamily.com
SUMMARY:Women's Retreat
DESCRIPTION:
URL:https://shbcfamily.com/event/womens-retreat/
END:VEVENT
BEGIN:VEVENT
DTSTART;TZID=America/Detroit:20260208T083000
DTEND;TZID=America/Detroit:20260208T093000
DTSTAMP:20260425T115500
CREATED:20260113T145327Z
LAST-MODIFIED:20260113T145327Z
UID:10004194-1770539400-1770543000@shbcfamily.com
SUMMARY:Worship Service
DESCRIPTION:
URL:https://shbcfamily.com/event/worship-service-35/2026-02-08/
END:VEVENT
BEGIN:VEVENT
DTSTART;TZID=America/Detroit:20260208T094500
DTEND;TZID=America/Detroit:20260208T104500
DTSTAMP:20260425T115500
CREATED:20260113T145202Z
LAST-MODIFIED:20260113T145202Z
UID:10004124-1770543900-1770547500@shbcfamily.com
SUMMARY:ABF/SS
DESCRIPTION:
URL:https://shbcfamily.com/event/abf-ss-12/2026-02-08/
END:VEVENT
BEGIN:VEVENT
DTSTART;TZID=America/Detroit:20260208T110000
DTEND;TZID=America/Detroit:20260208T123000
DTSTAMP:20260425T115500
CREATED:20260113T145435Z
LAST-MODIFIED:20260113T145435Z
UID:10004264-1770548400-1770553800@shbcfamily.com
SUMMARY:Worship Service
DESCRIPTION:
URL:https://shbcfamily.com/event/worship-service-36/2026-02-08/
END:VEVENT
BEGIN:VEVENT
DTSTART;TZID=America/Detroit:20260208T180000
DTEND;TZID=America/Detroit:20260208T190000
DTSTAMP:20260425T115500
CREATED:20260113T145546Z
LAST-MODIFIED:20260113T145546Z
UID:10004332-1770573600-1770577200@shbcfamily.com
SUMMARY:Equip
DESCRIPTION:
URL:https://shbcfamily.com/event/equip-2/2026-02-08/
END:VEVENT
BEGIN:VEVENT
DTSTART;TZID=America/Detroit:20260209T090000
DTEND;TZID=America/Detroit:20260209T100000
DTSTAMP:20260425T115500
CREATED:20241209T142712Z
LAST-MODIFIED:20241209T142712Z
UID:10003673-1770627600-1770631200@shbcfamily.com
SUMMARY:Aerobics
DESCRIPTION:
URL:https://shbcfamily.com/event/aerobics/2026-02-09/
END:VEVENT
BEGIN:VEVENT
DTSTART;TZID=America/Detroit:20260211T090000
DTEND;TZID=America/Detroit:20260211T100000
DTSTAMP:20260425T115500
CREATED:20241209T142712Z
LAST-MODIFIED:20241209T142712Z
UID:10003674-1770800400-1770804000@shbcfamily.com
SUMMARY:Aerobics
DESCRIPTION:
URL:https://shbcfamily.com/event/aerobics/2026-02-11/
END:VEVENT
BEGIN:VEVENT
DTSTART;TZID=America/Detroit:20260211T190000
DTEND;TZID=America/Detroit:20260211T200000
DTSTAMP:20260425T115500
CREATED:20241209T143548Z
LAST-MODIFIED:20241209T143548Z
UID:10003827-1770836400-1770840000@shbcfamily.com
SUMMARY:Prayer Meeting
DESCRIPTION:
URL:https://shbcfamily.com/event/prayer-meeting-18/2026-02-11/
END:VEVENT
BEGIN:VEVENT
DTSTART;TZID=America/Detroit:20260215T083000
DTEND;TZID=America/Detroit:20260215T093000
DTSTAMP:20260425T115500
CREATED:20260113T145327Z
LAST-MODIFIED:20260113T145327Z
UID:10004195-1771144200-1771147800@shbcfamily.com
SUMMARY:Worship Service
DESCRIPTION:
URL:https://shbcfamily.com/event/worship-service-35/2026-02-15/
END:VEVENT
BEGIN:VEVENT
DTSTART;TZID=America/Detroit:20260215T094500
DTEND;TZID=America/Detroit:20260215T104500
DTSTAMP:20260425T115500
CREATED:20260113T145202Z
LAST-MODIFIED:20260113T145202Z
UID:10004125-1771148700-1771152300@shbcfamily.com
SUMMARY:ABF/SS
DESCRIPTION:
URL:https://shbcfamily.com/event/abf-ss-12/2026-02-15/
END:VEVENT
BEGIN:VEVENT
DTSTART;TZID=America/Detroit:20260215T110000
DTEND;TZID=America/Detroit:20260215T123000
DTSTAMP:20260425T115500
CREATED:20260113T145435Z
LAST-MODIFIED:20260113T145435Z
UID:10004265-1771153200-1771158600@shbcfamily.com
SUMMARY:Worship Service
DESCRIPTION:
URL:https://shbcfamily.com/event/worship-service-36/2026-02-15/
END:VEVENT
BEGIN:VEVENT
DTSTART;TZID=America/Detroit:20260215T180000
DTEND;TZID=America/Detroit:20260215T190000
DTSTAMP:20260425T115500
CREATED:20260113T145546Z
LAST-MODIFIED:20260113T145546Z
UID:10004333-1771178400-1771182000@shbcfamily.com
SUMMARY:Equip
DESCRIPTION:
URL:https://shbcfamily.com/event/equip-2/2026-02-15/
END:VEVENT
BEGIN:VEVENT
DTSTART;TZID=America/Detroit:20260216T090000
DTEND;TZID=America/Detroit:20260216T100000
DTSTAMP:20260425T115500
CREATED:20241209T142712Z
LAST-MODIFIED:20241209T142712Z
UID:10003675-1771232400-1771236000@shbcfamily.com
SUMMARY:Aerobics
DESCRIPTION:
URL:https://shbcfamily.com/event/aerobics/2026-02-16/
END:VEVENT
BEGIN:VEVENT
DTSTART;TZID=America/Detroit:20260218T090000
DTEND;TZID=America/Detroit:20260218T100000
DTSTAMP:20260425T115500
CREATED:20241209T142712Z
LAST-MODIFIED:20241209T142712Z
UID:10003676-1771405200-1771408800@shbcfamily.com
SUMMARY:Aerobics
DESCRIPTION:
URL:https://shbcfamily.com/event/aerobics/2026-02-18/
END:VEVENT
END:VCALENDAR