BEGIN:VCALENDAR
VERSION:2.0
PRODID:-//Shawnee Hills Baptist Church - ECPv6.15.20//NONSGML v1.0//EN
CALSCALE:GREGORIAN
METHOD:PUBLISH
X-WR-CALNAME:Shawnee Hills Baptist Church
X-ORIGINAL-URL:https://shbcfamily.com
X-WR-CALDESC:Events for Shawnee Hills Baptist Church
REFRESH-INTERVAL;VALUE=DURATION:PT1H
X-Robots-Tag:noindex
X-PUBLISHED-TTL:PT1H
BEGIN:VTIMEZONE
TZID:America/Detroit
BEGIN:DAYLIGHT
TZOFFSETFROM:-0500
TZOFFSETTO:-0400
TZNAME:EDT
DTSTART:20180311T070000
END:DAYLIGHT
BEGIN:STANDARD
TZOFFSETFROM:-0400
TZOFFSETTO:-0500
TZNAME:EST
DTSTART:20181104T060000
END:STANDARD
BEGIN:DAYLIGHT
TZOFFSETFROM:-0500
TZOFFSETTO:-0400
TZNAME:EDT
DTSTART:20190310T070000
END:DAYLIGHT
BEGIN:STANDARD
TZOFFSETFROM:-0400
TZOFFSETTO:-0500
TZNAME:EST
DTSTART:20191103T060000
END:STANDARD
BEGIN:DAYLIGHT
TZOFFSETFROM:-0500
TZOFFSETTO:-0400
TZNAME:EDT
DTSTART:20200308T070000
END:DAYLIGHT
BEGIN:STANDARD
TZOFFSETFROM:-0400
TZOFFSETTO:-0500
TZNAME:EST
DTSTART:20201101T060000
END:STANDARD
END:VTIMEZONE
BEGIN:VEVENT
DTSTART;TZID=America/Detroit:20190106T103000
DTEND;TZID=America/Detroit:20190106T120000
DTSTAMP:20260425T110439
CREATED:20181101T201813Z
LAST-MODIFIED:20181128T172436Z
UID:10000265-1546770600-1546776000@shbcfamily.com
SUMMARY:Morning Worship Service
DESCRIPTION:
URL:https://shbcfamily.com/event/morning-worship-service/2019-01-06/
END:VEVENT
BEGIN:VEVENT
DTSTART;TZID=America/Detroit:20190108T154500
DTEND;TZID=America/Detroit:20190108T170000
DTSTAMP:20260425T110439
CREATED:20181128T172754Z
LAST-MODIFIED:20181128T172754Z
UID:10000103-1546962300-1546966800@shbcfamily.com
SUMMARY:Whiz Kids
DESCRIPTION:
URL:https://shbcfamily.com/event/whiz-kids-4/2019-01-08/
LOCATION:Fellowship Hall
END:VEVENT
BEGIN:VEVENT
DTSTART;TZID=America/Detroit:20190109T083000
DTEND;TZID=America/Detroit:20190109T094500
DTSTAMP:20260425T110439
CREATED:20181211T152335Z
LAST-MODIFIED:20190123T191014Z
UID:10000078-1547022600-1547027100@shbcfamily.com
SUMMARY:Community Aerobics
DESCRIPTION:
URL:https://shbcfamily.com/event/community-aerobics-6/2019-01-09/
END:VEVENT
BEGIN:VEVENT
DTSTART;TZID=America/Detroit:20190109T181500
DTEND;TZID=America/Detroit:20190109T200000
DTSTAMP:20260425T110439
CREATED:20181022T214416Z
LAST-MODIFIED:20190315T201435Z
UID:10000316-1547057700-1547064000@shbcfamily.com
SUMMARY:AWANA
DESCRIPTION:AWANA is a weekly club for kids packed with Bible learning and awesome games! Children four years old through sixth grade can attend.\nAWANA is on Wednesdays from 6:15 – 8:00 pm. Please check in with the AWANA secretaries in the Shawnee Hills foyer.
URL:https://shbcfamily.com/event/awana/2019-01-09/
ATTACH;FMTTYPE=image/png:https://shbcfamily.com/wp-content/uploads/2019/03/2430.png
END:VEVENT
BEGIN:VEVENT
DTSTART;TZID=America/Detroit:20190109T183000
DTEND;TZID=America/Detroit:20190109T200000
DTSTAMP:20260425T110439
CREATED:20181128T173605Z
LAST-MODIFIED:20181128T173605Z
UID:10000089-1547058600-1547064000@shbcfamily.com
SUMMARY:Time Out for Women
DESCRIPTION:
URL:https://shbcfamily.com/event/time-out-for-women-3/2019-01-09/
LOCATION:Conference Room
END:VEVENT
BEGIN:VEVENT
DTSTART;TZID=America/Detroit:20190109T183000
DTEND;TZID=America/Detroit:20190109T200000
DTSTAMP:20260425T110439
CREATED:20181128T173459Z
LAST-MODIFIED:20181128T173459Z
UID:10000176-1547058600-1547064000@shbcfamily.com
SUMMARY:Youth Group
DESCRIPTION:
URL:https://shbcfamily.com/event/youth-group-4/2019-01-09/
LOCATION:Fellowship Hall
END:VEVENT
BEGIN:VEVENT
DTSTART;TZID=America/Detroit:20190109T190000
DTEND;TZID=America/Detroit:20190109T200000
DTSTAMP:20260425T110439
CREATED:20181128T163132Z
LAST-MODIFIED:20181128T163132Z
UID:10000247-1547060400-1547064000@shbcfamily.com
SUMMARY:Prayer Meeting
DESCRIPTION:
URL:https://shbcfamily.com/event/prayer-meeting-2/2019-01-09/
END:VEVENT
BEGIN:VEVENT
DTSTART;TZID=America/Detroit:20190113T090000
DTEND;TZID=America/Detroit:20190113T101500
DTSTAMP:20260425T110439
CREATED:20181128T173041Z
LAST-MODIFIED:20190710T155952Z
UID:10000126-1547370000-1547374500@shbcfamily.com
SUMMARY:Sunday School Classes
DESCRIPTION:Sunday School classes are provided for kids ages newborn through 6th grade. \nTeens in grades 7-12 will meet in the Fellowship Hall.
URL:https://shbcfamily.com/event/sunday-school-classes-2/2019-01-13/
END:VEVENT
BEGIN:VEVENT
DTSTART;TZID=America/Detroit:20190113T090000
DTEND;TZID=America/Detroit:20190113T101500
DTSTAMP:20260425T110439
CREATED:20181128T172944Z
LAST-MODIFIED:20181128T172944Z
UID:10000106-1547370000-1547374500@shbcfamily.com
SUMMARY:Adult Bible Fellowships
DESCRIPTION:
URL:https://shbcfamily.com/event/adult-bible-fellowships-2/2019-01-13/
END:VEVENT
BEGIN:VEVENT
DTSTART;TZID=America/Detroit:20190113T103000
DTEND;TZID=America/Detroit:20190113T120000
DTSTAMP:20260425T110439
CREATED:20181101T201813Z
LAST-MODIFIED:20181128T172436Z
UID:10000266-1547375400-1547380800@shbcfamily.com
SUMMARY:Morning Worship Service
DESCRIPTION:
URL:https://shbcfamily.com/event/morning-worship-service/2019-01-13/
END:VEVENT
BEGIN:VEVENT
DTSTART;TZID=America/Detroit:20190113T130000
DTEND;TZID=America/Detroit:20190113T160000
DTSTAMP:20260425T110439
CREATED:20181231T154418Z
LAST-MODIFIED:20181231T154418Z
UID:10000001-1547384400-1547395200@shbcfamily.com
SUMMARY:20 Somethings' Lunch
DESCRIPTION:
URL:https://shbcfamily.com/event/20-somethings-lunch/
LOCATION:Rogers’ Home\, 868 Osage Trail\, Jamestown\, OH\, 45335-9720\, United States
ORGANIZER;CN="Caleb Rogers":MAILTO:c.s.rogers1995@gmail.com
END:VEVENT
BEGIN:VEVENT
DTSTART;TZID=America/Detroit:20190113T163000
DTEND;TZID=America/Detroit:20190113T174500
DTSTAMP:20260425T110439
CREATED:20181211T152928Z
LAST-MODIFIED:20181211T152928Z
UID:10000062-1547397000-1547401500@shbcfamily.com
SUMMARY:Choir Rehearsal
DESCRIPTION:
URL:https://shbcfamily.com/event/choir-rehearsal-3/2019-01-13/
END:VEVENT
BEGIN:VEVENT
DTSTART;TZID=America/Detroit:20190113T180000
DTEND;TZID=America/Detroit:20190113T190000
DTSTAMP:20260425T110439
CREATED:20181211T162327Z
LAST-MODIFIED:20181211T162327Z
UID:10000048-1547402400-1547406000@shbcfamily.com
SUMMARY:EQUIP Classes
DESCRIPTION:
URL:https://shbcfamily.com/event/equip-classes/2019-01-13/
END:VEVENT
BEGIN:VEVENT
DTSTART;TZID=America/Detroit:20190113T191500
DTEND;TZID=America/Detroit:20190113T203000
DTSTAMP:20260425T110439
CREATED:20181211T153030Z
LAST-MODIFIED:20181211T153030Z
UID:10000046-1547406900-1547411400@shbcfamily.com
SUMMARY:Men's Ensemble Rehearsal
DESCRIPTION:
URL:https://shbcfamily.com/event/mens-ensemble-rehearsal/2019-01-13/
END:VEVENT
BEGIN:VEVENT
DTSTART;TZID=America/Detroit:20190115T150000
DTEND;TZID=America/Detroit:20190115T190000
DTSTAMP:20260425T110439
CREATED:20181128T173736Z
LAST-MODIFIED:20181128T173736Z
UID:10000100-1547564400-1547578800@shbcfamily.com
SUMMARY:Community Blood Drive
DESCRIPTION:
URL:https://shbcfamily.com/event/community-blood-drive/
LOCATION:Foyer
END:VEVENT
BEGIN:VEVENT
DTSTART;TZID=America/Detroit:20190115T154500
DTEND;TZID=America/Detroit:20190115T170000
DTSTAMP:20260425T110439
CREATED:20181128T172754Z
LAST-MODIFIED:20181128T172754Z
UID:10000104-1547567100-1547571600@shbcfamily.com
SUMMARY:Whiz Kids
DESCRIPTION:
URL:https://shbcfamily.com/event/whiz-kids-4/2019-01-15/
LOCATION:Fellowship Hall
END:VEVENT
BEGIN:VEVENT
DTSTART;TZID=America/Detroit:20190115T183000
DTEND;TZID=America/Detroit:20190115T203000
DTSTAMP:20260425T110439
CREATED:20181211T163037Z
LAST-MODIFIED:20181211T163037Z
UID:10000053-1547577000-1547584200@shbcfamily.com
SUMMARY:Leadership Team Meeting
DESCRIPTION:
URL:https://shbcfamily.com/event/leadership-team-meeting-3/
END:VEVENT
BEGIN:VEVENT
DTSTART;TZID=America/Detroit:20190116T083000
DTEND;TZID=America/Detroit:20190116T094500
DTSTAMP:20260425T110439
CREATED:20181211T152335Z
LAST-MODIFIED:20190123T191014Z
UID:10000079-1547627400-1547631900@shbcfamily.com
SUMMARY:Community Aerobics
DESCRIPTION:
URL:https://shbcfamily.com/event/community-aerobics-6/2019-01-16/
END:VEVENT
BEGIN:VEVENT
DTSTART;TZID=America/Detroit:20190116T181500
DTEND;TZID=America/Detroit:20190116T200000
DTSTAMP:20260425T110439
CREATED:20181022T214416Z
LAST-MODIFIED:20190315T201435Z
UID:10000317-1547662500-1547668800@shbcfamily.com
SUMMARY:AWANA
DESCRIPTION:AWANA is a weekly club for kids packed with Bible learning and awesome games! Children four years old through sixth grade can attend.\nAWANA is on Wednesdays from 6:15 – 8:00 pm. Please check in with the AWANA secretaries in the Shawnee Hills foyer.
URL:https://shbcfamily.com/event/awana/2019-01-16/
ATTACH;FMTTYPE=image/png:https://shbcfamily.com/wp-content/uploads/2019/03/2430.png
END:VEVENT
BEGIN:VEVENT
DTSTART;TZID=America/Detroit:20190116T183000
DTEND;TZID=America/Detroit:20190116T200000
DTSTAMP:20260425T110439
CREATED:20181128T173605Z
LAST-MODIFIED:20181128T173605Z
UID:10000090-1547663400-1547668800@shbcfamily.com
SUMMARY:Time Out for Women
DESCRIPTION:
URL:https://shbcfamily.com/event/time-out-for-women-3/2019-01-16/
LOCATION:Conference Room
END:VEVENT
BEGIN:VEVENT
DTSTART;TZID=America/Detroit:20190116T183000
DTEND;TZID=America/Detroit:20190116T200000
DTSTAMP:20260425T110439
CREATED:20181128T173459Z
LAST-MODIFIED:20181128T173459Z
UID:10000177-1547663400-1547668800@shbcfamily.com
SUMMARY:Youth Group
DESCRIPTION:
URL:https://shbcfamily.com/event/youth-group-4/2019-01-16/
LOCATION:Fellowship Hall
END:VEVENT
BEGIN:VEVENT
DTSTART;TZID=America/Detroit:20190116T190000
DTEND;TZID=America/Detroit:20190116T200000
DTSTAMP:20260425T110439
CREATED:20181128T163132Z
LAST-MODIFIED:20181128T163132Z
UID:10000248-1547665200-1547668800@shbcfamily.com
SUMMARY:Prayer Meeting
DESCRIPTION:
URL:https://shbcfamily.com/event/prayer-meeting-2/2019-01-16/
END:VEVENT
BEGIN:VEVENT
DTSTART;TZID=America/Detroit:20190117T093000
DTEND;TZID=America/Detroit:20190117T113000
DTSTAMP:20260425T110439
CREATED:20181211T162821Z
LAST-MODIFIED:20181211T162821Z
UID:10000052-1547717400-1547724600@shbcfamily.com
SUMMARY:Mothers Uplifting Mothers meeting
DESCRIPTION:
URL:https://shbcfamily.com/event/mothers-uplifting-mothers-meeting/
END:VEVENT
BEGIN:VEVENT
DTSTART;TZID=America/Detroit:20190120T090000
DTEND;TZID=America/Detroit:20190120T101500
DTSTAMP:20260425T110439
CREATED:20181128T173041Z
LAST-MODIFIED:20190710T155952Z
UID:10000127-1547974800-1547979300@shbcfamily.com
SUMMARY:Sunday School Classes
DESCRIPTION:Sunday School classes are provided for kids ages newborn through 6th grade. \nTeens in grades 7-12 will meet in the Fellowship Hall.
URL:https://shbcfamily.com/event/sunday-school-classes-2/2019-01-20/
END:VEVENT
BEGIN:VEVENT
DTSTART;TZID=America/Detroit:20190120T090000
DTEND;TZID=America/Detroit:20190120T101500
DTSTAMP:20260425T110439
CREATED:20181128T172944Z
LAST-MODIFIED:20181128T172944Z
UID:10000107-1547974800-1547979300@shbcfamily.com
SUMMARY:Adult Bible Fellowships
DESCRIPTION:
URL:https://shbcfamily.com/event/adult-bible-fellowships-2/2019-01-20/
END:VEVENT
BEGIN:VEVENT
DTSTART;TZID=America/Detroit:20190120T103000
DTEND;TZID=America/Detroit:20190120T120000
DTSTAMP:20260425T110439
CREATED:20181101T201813Z
LAST-MODIFIED:20181128T172436Z
UID:10000267-1547980200-1547985600@shbcfamily.com
SUMMARY:Morning Worship Service
DESCRIPTION:
URL:https://shbcfamily.com/event/morning-worship-service/2019-01-20/
END:VEVENT
BEGIN:VEVENT
DTSTART;TZID=America/Detroit:20190120T163000
DTEND;TZID=America/Detroit:20190120T174500
DTSTAMP:20260425T110439
CREATED:20181211T152928Z
LAST-MODIFIED:20181211T152928Z
UID:10000063-1548001800-1548006300@shbcfamily.com
SUMMARY:Choir Rehearsal
DESCRIPTION:
URL:https://shbcfamily.com/event/choir-rehearsal-3/2019-01-20/
END:VEVENT
BEGIN:VEVENT
DTSTART;TZID=America/Detroit:20190120T180000
DTEND;TZID=America/Detroit:20190120T190000
DTSTAMP:20260425T110439
CREATED:20181211T162327Z
LAST-MODIFIED:20181211T162327Z
UID:10000049-1548007200-1548010800@shbcfamily.com
SUMMARY:EQUIP Classes
DESCRIPTION:
URL:https://shbcfamily.com/event/equip-classes/2019-01-20/
END:VEVENT
BEGIN:VEVENT
DTSTART;TZID=America/Detroit:20190120T191500
DTEND;TZID=America/Detroit:20190120T203000
DTSTAMP:20260425T110439
CREATED:20181211T153030Z
LAST-MODIFIED:20181211T153030Z
UID:10000047-1548011700-1548016200@shbcfamily.com
SUMMARY:Men's Ensemble Rehearsal
DESCRIPTION:
URL:https://shbcfamily.com/event/mens-ensemble-rehearsal/2019-01-20/
END:VEVENT
BEGIN:VEVENT
DTSTART;TZID=America/Detroit:20190123T083000
DTEND;TZID=America/Detroit:20190123T094500
DTSTAMP:20260425T110439
CREATED:20181211T152335Z
LAST-MODIFIED:20190123T191014Z
UID:10000080-1548232200-1548236700@shbcfamily.com
SUMMARY:Community Aerobics
DESCRIPTION:
URL:https://shbcfamily.com/event/community-aerobics-6/2019-01-23/
END:VEVENT
END:VCALENDAR