BEGIN:VCALENDAR
VERSION:2.0
PRODID:-//Shawnee Hills Baptist Church - ECPv6.15.20//NONSGML v1.0//EN
CALSCALE:GREGORIAN
METHOD:PUBLISH
X-WR-CALNAME:Shawnee Hills Baptist Church
X-ORIGINAL-URL:https://shbcfamily.com
X-WR-CALDESC:Events for Shawnee Hills Baptist Church
REFRESH-INTERVAL;VALUE=DURATION:PT1H
X-Robots-Tag:noindex
X-PUBLISHED-TTL:PT1H
BEGIN:VTIMEZONE
TZID:America/Detroit
BEGIN:DAYLIGHT
TZOFFSETFROM:-0500
TZOFFSETTO:-0400
TZNAME:EDT
DTSTART:20250309T070000
END:DAYLIGHT
BEGIN:STANDARD
TZOFFSETFROM:-0400
TZOFFSETTO:-0500
TZNAME:EST
DTSTART:20251102T060000
END:STANDARD
BEGIN:DAYLIGHT
TZOFFSETFROM:-0500
TZOFFSETTO:-0400
TZNAME:EDT
DTSTART:20260308T070000
END:DAYLIGHT
BEGIN:STANDARD
TZOFFSETFROM:-0400
TZOFFSETTO:-0500
TZNAME:EST
DTSTART:20261101T060000
END:STANDARD
BEGIN:DAYLIGHT
TZOFFSETFROM:-0500
TZOFFSETTO:-0400
TZNAME:EDT
DTSTART:20270314T070000
END:DAYLIGHT
BEGIN:STANDARD
TZOFFSETFROM:-0400
TZOFFSETTO:-0500
TZNAME:EST
DTSTART:20271107T060000
END:STANDARD
BEGIN:DAYLIGHT
TZOFFSETFROM:-0500
TZOFFSETTO:-0400
TZNAME:EDT
DTSTART:20280312T070000
END:DAYLIGHT
BEGIN:STANDARD
TZOFFSETFROM:-0400
TZOFFSETTO:-0500
TZNAME:EST
DTSTART:20281105T060000
END:STANDARD
END:VTIMEZONE
BEGIN:VEVENT
DTSTART;TZID=America/Detroit:20261213T094500
DTEND;TZID=America/Detroit:20261213T104500
DTSTAMP:20260425T074831
CREATED:20260113T145202Z
LAST-MODIFIED:20260113T145202Z
UID:10004168-1797155100-1797158700@shbcfamily.com
SUMMARY:ABF/SS
DESCRIPTION:
URL:https://shbcfamily.com/event/abf-ss-12/2026-12-13/
END:VEVENT
BEGIN:VEVENT
DTSTART;TZID=America/Detroit:20261213T110000
DTEND;TZID=America/Detroit:20261213T123000
DTSTAMP:20260425T074831
CREATED:20260113T145435Z
LAST-MODIFIED:20260113T145435Z
UID:10004308-1797159600-1797165000@shbcfamily.com
SUMMARY:Worship Service
DESCRIPTION:
URL:https://shbcfamily.com/event/worship-service-36/2026-12-13/
END:VEVENT
BEGIN:VEVENT
DTSTART;TZID=America/Detroit:20261213T180000
DTEND;TZID=America/Detroit:20261213T190000
DTSTAMP:20260425T074831
CREATED:20260113T145546Z
LAST-MODIFIED:20260113T145546Z
UID:10004376-1797184800-1797188400@shbcfamily.com
SUMMARY:Equip
DESCRIPTION:
URL:https://shbcfamily.com/event/equip-2/2026-12-13/
END:VEVENT
BEGIN:VEVENT
DTSTART;TZID=America/Detroit:20261214T090000
DTEND;TZID=America/Detroit:20261214T100000
DTSTAMP:20260425T074831
CREATED:20241209T142712Z
LAST-MODIFIED:20241209T142712Z
UID:10003761-1797238800-1797242400@shbcfamily.com
SUMMARY:Aerobics
DESCRIPTION:
URL:https://shbcfamily.com/event/aerobics/2026-12-14/
END:VEVENT
BEGIN:VEVENT
DTSTART;TZID=America/Detroit:20261216T090000
DTEND;TZID=America/Detroit:20261216T100000
DTSTAMP:20260425T074831
CREATED:20241209T142712Z
LAST-MODIFIED:20241209T142712Z
UID:10003762-1797411600-1797415200@shbcfamily.com
SUMMARY:Aerobics
DESCRIPTION:
URL:https://shbcfamily.com/event/aerobics/2026-12-16/
END:VEVENT
BEGIN:VEVENT
DTSTART;TZID=America/Detroit:20261216T190000
DTEND;TZID=America/Detroit:20261216T200000
DTSTAMP:20260425T074831
CREATED:20241209T143548Z
LAST-MODIFIED:20241209T143548Z
UID:10003871-1797447600-1797451200@shbcfamily.com
SUMMARY:Prayer Meeting
DESCRIPTION:
URL:https://shbcfamily.com/event/prayer-meeting-18/2026-12-16/
END:VEVENT
BEGIN:VEVENT
DTSTART;TZID=America/Detroit:20261220T083000
DTEND;TZID=America/Detroit:20261220T093000
DTSTAMP:20260425T074831
CREATED:20260113T145327Z
LAST-MODIFIED:20260113T145327Z
UID:10004239-1797755400-1797759000@shbcfamily.com
SUMMARY:Worship Service
DESCRIPTION:
URL:https://shbcfamily.com/event/worship-service-35/2026-12-20/
END:VEVENT
BEGIN:VEVENT
DTSTART;TZID=America/Detroit:20261220T094500
DTEND;TZID=America/Detroit:20261220T104500
DTSTAMP:20260425T074831
CREATED:20260113T145202Z
LAST-MODIFIED:20260113T145202Z
UID:10004169-1797759900-1797763500@shbcfamily.com
SUMMARY:ABF/SS
DESCRIPTION:
URL:https://shbcfamily.com/event/abf-ss-12/2026-12-20/
END:VEVENT
BEGIN:VEVENT
DTSTART;TZID=America/Detroit:20261220T110000
DTEND;TZID=America/Detroit:20261220T123000
DTSTAMP:20260425T074831
CREATED:20260113T145435Z
LAST-MODIFIED:20260113T145435Z
UID:10004309-1797764400-1797769800@shbcfamily.com
SUMMARY:Worship Service
DESCRIPTION:
URL:https://shbcfamily.com/event/worship-service-36/2026-12-20/
END:VEVENT
BEGIN:VEVENT
DTSTART;TZID=America/Detroit:20261220T180000
DTEND;TZID=America/Detroit:20261220T190000
DTSTAMP:20260425T074831
CREATED:20260113T145546Z
LAST-MODIFIED:20260113T145546Z
UID:10004377-1797789600-1797793200@shbcfamily.com
SUMMARY:Equip
DESCRIPTION:
URL:https://shbcfamily.com/event/equip-2/2026-12-20/
END:VEVENT
BEGIN:VEVENT
DTSTART;TZID=America/Detroit:20261221T090000
DTEND;TZID=America/Detroit:20261221T100000
DTSTAMP:20260425T074831
CREATED:20241209T142712Z
LAST-MODIFIED:20241209T142712Z
UID:10003763-1797843600-1797847200@shbcfamily.com
SUMMARY:Aerobics
DESCRIPTION:
URL:https://shbcfamily.com/event/aerobics/2026-12-21/
END:VEVENT
BEGIN:VEVENT
DTSTART;TZID=America/Detroit:20261227T083000
DTEND;TZID=America/Detroit:20261227T093000
DTSTAMP:20260425T074831
CREATED:20260113T145327Z
LAST-MODIFIED:20260113T145327Z
UID:10004240-1798360200-1798363800@shbcfamily.com
SUMMARY:Worship Service
DESCRIPTION:
URL:https://shbcfamily.com/event/worship-service-35/2026-12-27/
END:VEVENT
BEGIN:VEVENT
DTSTART;TZID=America/Detroit:20261227T094500
DTEND;TZID=America/Detroit:20261227T104500
DTSTAMP:20260425T074831
CREATED:20260113T145202Z
LAST-MODIFIED:20260113T145202Z
UID:10004170-1798364700-1798368300@shbcfamily.com
SUMMARY:ABF/SS
DESCRIPTION:
URL:https://shbcfamily.com/event/abf-ss-12/2026-12-27/
END:VEVENT
BEGIN:VEVENT
DTSTART;TZID=America/Detroit:20261227T110000
DTEND;TZID=America/Detroit:20261227T123000
DTSTAMP:20260425T074831
CREATED:20260113T145435Z
LAST-MODIFIED:20260113T145435Z
UID:10004310-1798369200-1798374600@shbcfamily.com
SUMMARY:Worship Service
DESCRIPTION:
URL:https://shbcfamily.com/event/worship-service-36/2026-12-27/
END:VEVENT
BEGIN:VEVENT
DTSTART;TZID=America/Detroit:20261227T180000
DTEND;TZID=America/Detroit:20261227T190000
DTSTAMP:20260425T074831
CREATED:20260113T145546Z
LAST-MODIFIED:20260113T145546Z
UID:10004378-1798394400-1798398000@shbcfamily.com
SUMMARY:Equip
DESCRIPTION:
URL:https://shbcfamily.com/event/equip-2/2026-12-27/
END:VEVENT
BEGIN:VEVENT
DTSTART;TZID=America/Detroit:20270103T083000
DTEND;TZID=America/Detroit:20270103T093000
DTSTAMP:20260425T074831
CREATED:20260113T145327Z
LAST-MODIFIED:20260113T145327Z
UID:10004241-1798965000-1798968600@shbcfamily.com
SUMMARY:Worship Service
DESCRIPTION:
URL:https://shbcfamily.com/event/worship-service-35/2027-01-03/
END:VEVENT
BEGIN:VEVENT
DTSTART;TZID=America/Detroit:20270103T094500
DTEND;TZID=America/Detroit:20270103T104500
DTSTAMP:20260425T074831
CREATED:20260113T145202Z
LAST-MODIFIED:20260113T145202Z
UID:10004171-1798969500-1798973100@shbcfamily.com
SUMMARY:ABF/SS
DESCRIPTION:
URL:https://shbcfamily.com/event/abf-ss-12/2027-01-03/
END:VEVENT
BEGIN:VEVENT
DTSTART;TZID=America/Detroit:20270103T110000
DTEND;TZID=America/Detroit:20270103T123000
DTSTAMP:20260425T074831
CREATED:20260113T145435Z
LAST-MODIFIED:20260113T145435Z
UID:10004311-1798974000-1798979400@shbcfamily.com
SUMMARY:Worship Service
DESCRIPTION:
URL:https://shbcfamily.com/event/worship-service-36/2027-01-03/
END:VEVENT
BEGIN:VEVENT
DTSTART;TZID=America/Detroit:20270103T180000
DTEND;TZID=America/Detroit:20270103T190000
DTSTAMP:20260425T074831
CREATED:20260113T145546Z
LAST-MODIFIED:20260113T145546Z
UID:10004379-1798999200-1799002800@shbcfamily.com
SUMMARY:Equip
DESCRIPTION:
URL:https://shbcfamily.com/event/equip-2/2027-01-03/
END:VEVENT
BEGIN:VEVENT
DTSTART;TZID=America/Detroit:20270110T083000
DTEND;TZID=America/Detroit:20270110T093000
DTSTAMP:20260425T074831
CREATED:20260113T145327Z
LAST-MODIFIED:20260113T145327Z
UID:10004242-1799569800-1799573400@shbcfamily.com
SUMMARY:Worship Service
DESCRIPTION:
URL:https://shbcfamily.com/event/worship-service-35/2027-01-10/
END:VEVENT
BEGIN:VEVENT
DTSTART;TZID=America/Detroit:20270110T094500
DTEND;TZID=America/Detroit:20270110T104500
DTSTAMP:20260425T074831
CREATED:20260113T145202Z
LAST-MODIFIED:20260113T145202Z
UID:10004172-1799574300-1799577900@shbcfamily.com
SUMMARY:ABF/SS
DESCRIPTION:
URL:https://shbcfamily.com/event/abf-ss-12/2027-01-10/
END:VEVENT
BEGIN:VEVENT
DTSTART;TZID=America/Detroit:20270110T110000
DTEND;TZID=America/Detroit:20270110T123000
DTSTAMP:20260425T074831
CREATED:20260113T145435Z
LAST-MODIFIED:20260113T145435Z
UID:10004312-1799578800-1799584200@shbcfamily.com
SUMMARY:Worship Service
DESCRIPTION:
URL:https://shbcfamily.com/event/worship-service-36/2027-01-10/
END:VEVENT
BEGIN:VEVENT
DTSTART;TZID=America/Detroit:20270110T180000
DTEND;TZID=America/Detroit:20270110T190000
DTSTAMP:20260425T074831
CREATED:20260113T145546Z
LAST-MODIFIED:20260113T145546Z
UID:10004380-1799604000-1799607600@shbcfamily.com
SUMMARY:Equip
DESCRIPTION:
URL:https://shbcfamily.com/event/equip-2/2027-01-10/
END:VEVENT
BEGIN:VEVENT
DTSTART;TZID=America/Detroit:20270117T083000
DTEND;TZID=America/Detroit:20270117T093000
DTSTAMP:20260425T074831
CREATED:20260113T145327Z
LAST-MODIFIED:20260113T145327Z
UID:10004243-1800174600-1800178200@shbcfamily.com
SUMMARY:Worship Service
DESCRIPTION:
URL:https://shbcfamily.com/event/worship-service-35/2027-01-17/
END:VEVENT
BEGIN:VEVENT
DTSTART;TZID=America/Detroit:20270117T094500
DTEND;TZID=America/Detroit:20270117T104500
DTSTAMP:20260425T074831
CREATED:20260113T145202Z
LAST-MODIFIED:20260113T145202Z
UID:10004173-1800179100-1800182700@shbcfamily.com
SUMMARY:ABF/SS
DESCRIPTION:
URL:https://shbcfamily.com/event/abf-ss-12/2027-01-17/
END:VEVENT
BEGIN:VEVENT
DTSTART;TZID=America/Detroit:20270117T110000
DTEND;TZID=America/Detroit:20270117T123000
DTSTAMP:20260425T074831
CREATED:20260113T145435Z
LAST-MODIFIED:20260113T145435Z
UID:10004313-1800183600-1800189000@shbcfamily.com
SUMMARY:Worship Service
DESCRIPTION:
URL:https://shbcfamily.com/event/worship-service-36/2027-01-17/
END:VEVENT
BEGIN:VEVENT
DTSTART;TZID=America/Detroit:20270117T180000
DTEND;TZID=America/Detroit:20270117T190000
DTSTAMP:20260425T074831
CREATED:20260113T145546Z
LAST-MODIFIED:20260113T145546Z
UID:10004381-1800208800-1800212400@shbcfamily.com
SUMMARY:Equip
DESCRIPTION:
URL:https://shbcfamily.com/event/equip-2/2027-01-17/
END:VEVENT
BEGIN:VEVENT
DTSTART;TZID=America/Detroit:20270124T083000
DTEND;TZID=America/Detroit:20270124T093000
DTSTAMP:20260425T074831
CREATED:20260113T145327Z
LAST-MODIFIED:20260113T145327Z
UID:10004244-1800779400-1800783000@shbcfamily.com
SUMMARY:Worship Service
DESCRIPTION:
URL:https://shbcfamily.com/event/worship-service-35/2027-01-24/
END:VEVENT
BEGIN:VEVENT
DTSTART;TZID=America/Detroit:20270124T094500
DTEND;TZID=America/Detroit:20270124T104500
DTSTAMP:20260425T074831
CREATED:20260113T145202Z
LAST-MODIFIED:20260113T145202Z
UID:10004174-1800783900-1800787500@shbcfamily.com
SUMMARY:ABF/SS
DESCRIPTION:
URL:https://shbcfamily.com/event/abf-ss-12/2027-01-24/
END:VEVENT
BEGIN:VEVENT
DTSTART;TZID=America/Detroit:20270124T110000
DTEND;TZID=America/Detroit:20270124T123000
DTSTAMP:20260425T074831
CREATED:20260113T145435Z
LAST-MODIFIED:20260113T145435Z
UID:10004314-1800788400-1800793800@shbcfamily.com
SUMMARY:Worship Service
DESCRIPTION:
URL:https://shbcfamily.com/event/worship-service-36/2027-01-24/
END:VEVENT
END:VCALENDAR