BEGIN:VCALENDAR
VERSION:2.0
PRODID:-//Shawnee Hills Baptist Church - ECPv6.15.20//NONSGML v1.0//EN
CALSCALE:GREGORIAN
METHOD:PUBLISH
X-WR-CALNAME:Shawnee Hills Baptist Church
X-ORIGINAL-URL:https://shbcfamily.com
X-WR-CALDESC:Events for Shawnee Hills Baptist Church
REFRESH-INTERVAL;VALUE=DURATION:PT1H
X-Robots-Tag:noindex
X-PUBLISHED-TTL:PT1H
BEGIN:VTIMEZONE
TZID:America/Detroit
BEGIN:DAYLIGHT
TZOFFSETFROM:-0500
TZOFFSETTO:-0400
TZNAME:EDT
DTSTART:20180311T070000
END:DAYLIGHT
BEGIN:STANDARD
TZOFFSETFROM:-0400
TZOFFSETTO:-0500
TZNAME:EST
DTSTART:20181104T060000
END:STANDARD
BEGIN:DAYLIGHT
TZOFFSETFROM:-0500
TZOFFSETTO:-0400
TZNAME:EDT
DTSTART:20190310T070000
END:DAYLIGHT
BEGIN:STANDARD
TZOFFSETFROM:-0400
TZOFFSETTO:-0500
TZNAME:EST
DTSTART:20191103T060000
END:STANDARD
BEGIN:DAYLIGHT
TZOFFSETFROM:-0500
TZOFFSETTO:-0400
TZNAME:EDT
DTSTART:20200308T070000
END:DAYLIGHT
BEGIN:STANDARD
TZOFFSETFROM:-0400
TZOFFSETTO:-0500
TZNAME:EST
DTSTART:20201101T060000
END:STANDARD
END:VTIMEZONE
BEGIN:VEVENT
DTSTART;TZID=America/Detroit:20190127T090000
DTEND;TZID=America/Detroit:20190127T101500
DTSTAMP:20260425T121637
CREATED:20181128T172944Z
LAST-MODIFIED:20181128T172944Z
UID:10000108-1548579600-1548584100@shbcfamily.com
SUMMARY:Adult Bible Fellowships
DESCRIPTION:
URL:https://shbcfamily.com/event/adult-bible-fellowships-2/2019-01-27/
END:VEVENT
BEGIN:VEVENT
DTSTART;TZID=America/Detroit:20190127T103000
DTEND;TZID=America/Detroit:20190127T120000
DTSTAMP:20260425T121637
CREATED:20181101T201813Z
LAST-MODIFIED:20181128T172436Z
UID:10000268-1548585000-1548590400@shbcfamily.com
SUMMARY:Morning Worship Service
DESCRIPTION:
URL:https://shbcfamily.com/event/morning-worship-service/2019-01-27/
END:VEVENT
BEGIN:VEVENT
DTSTART;TZID=America/Detroit:20190127T163000
DTEND;TZID=America/Detroit:20190127T174500
DTSTAMP:20260425T121637
CREATED:20181211T152928Z
LAST-MODIFIED:20181211T152928Z
UID:10000064-1548606600-1548611100@shbcfamily.com
SUMMARY:Choir Rehearsal
DESCRIPTION:
URL:https://shbcfamily.com/event/choir-rehearsal-3/2019-01-27/
END:VEVENT
BEGIN:VEVENT
DTSTART;TZID=America/Detroit:20190127T173000
DTEND;TZID=America/Detroit:20190127T180000
DTSTAMP:20260425T121637
CREATED:20181211T162550Z
LAST-MODIFIED:20181211T162550Z
UID:10000050-1548610200-1548612000@shbcfamily.com
SUMMARY:Soup Supper
DESCRIPTION:
URL:https://shbcfamily.com/event/soup-supper/
END:VEVENT
BEGIN:VEVENT
DTSTART;TZID=America/Detroit:20190127T180000
DTEND;TZID=America/Detroit:20190127T190000
DTSTAMP:20260425T121637
CREATED:20181211T162640Z
LAST-MODIFIED:20181211T162640Z
UID:10000051-1548612000-1548615600@shbcfamily.com
SUMMARY:Annual Business Meeting
DESCRIPTION:
URL:https://shbcfamily.com/event/annual-business-meeting/
END:VEVENT
BEGIN:VEVENT
DTSTART;TZID=America/Detroit:20190129T154500
DTEND;TZID=America/Detroit:20190129T170000
DTSTAMP:20260425T121637
CREATED:20181211T152710Z
LAST-MODIFIED:20181211T152710Z
UID:10000058-1548776700-1548781200@shbcfamily.com
SUMMARY:Whiz Kids
DESCRIPTION:
URL:https://shbcfamily.com/event/whiz-kids-7/2019-01-29/
END:VEVENT
BEGIN:VEVENT
DTSTART;TZID=America/Detroit:20190130T083000
DTEND;TZID=America/Detroit:20190130T094500
DTSTAMP:20260425T121637
CREATED:20181211T152335Z
LAST-MODIFIED:20190123T191014Z
UID:10000081-1548837000-1548841500@shbcfamily.com
SUMMARY:Community Aerobics
DESCRIPTION:
URL:https://shbcfamily.com/event/community-aerobics-6/2019-01-30/
END:VEVENT
BEGIN:VEVENT
DTSTART;TZID=America/Detroit:20190130T181500
DTEND;TZID=America/Detroit:20190130T200000
DTSTAMP:20260425T121637
CREATED:20181022T214416Z
LAST-MODIFIED:20190315T201435Z
UID:10000319-1548872100-1548878400@shbcfamily.com
SUMMARY:AWANA
DESCRIPTION:AWANA is a weekly club for kids packed with Bible learning and awesome games! Children four years old through sixth grade can attend.\nAWANA is on Wednesdays from 6:15 – 8:00 pm. Please check in with the AWANA secretaries in the Shawnee Hills foyer.
URL:https://shbcfamily.com/event/awana/2019-01-30/
ATTACH;FMTTYPE=image/png:https://shbcfamily.com/wp-content/uploads/2019/03/2430.png
END:VEVENT
BEGIN:VEVENT
DTSTART;TZID=America/Detroit:20190130T183000
DTEND;TZID=America/Detroit:20190130T200000
DTSTAMP:20260425T121637
CREATED:20181128T173605Z
LAST-MODIFIED:20181128T173605Z
UID:10000092-1548873000-1548878400@shbcfamily.com
SUMMARY:Time Out for Women
DESCRIPTION:
URL:https://shbcfamily.com/event/time-out-for-women-3/2019-01-30/
LOCATION:Conference Room
END:VEVENT
BEGIN:VEVENT
DTSTART;TZID=America/Detroit:20190130T183000
DTEND;TZID=America/Detroit:20190130T200000
DTSTAMP:20260425T121637
CREATED:20181128T173459Z
LAST-MODIFIED:20181128T173459Z
UID:10000179-1548873000-1548878400@shbcfamily.com
SUMMARY:Youth Group
DESCRIPTION:
URL:https://shbcfamily.com/event/youth-group-4/2019-01-30/
LOCATION:Fellowship Hall
END:VEVENT
BEGIN:VEVENT
DTSTART;TZID=America/Detroit:20190130T190000
DTEND;TZID=America/Detroit:20190130T200000
DTSTAMP:20260425T121637
CREATED:20181128T163132Z
LAST-MODIFIED:20181128T163132Z
UID:10000250-1548874800-1548878400@shbcfamily.com
SUMMARY:Prayer Meeting
DESCRIPTION:
URL:https://shbcfamily.com/event/prayer-meeting-2/2019-01-30/
END:VEVENT
BEGIN:VEVENT
DTSTART;TZID=America/Detroit:20190131T183000
DTEND;TZID=America/Detroit:20190131T203000
DTSTAMP:20260425T121637
CREATED:20190123T174231Z
LAST-MODIFIED:20190604T195045Z
UID:10000003-1548959400-1548966600@shbcfamily.com
SUMMARY:Karate
DESCRIPTION:
URL:https://shbcfamily.com/event/karate-3/2019-01-31/
END:VEVENT
BEGIN:VEVENT
DTSTART;TZID=America/Detroit:20190202T160000
DTEND;TZID=America/Detroit:20190202T200000
DTSTAMP:20260425T121637
CREATED:20181128T174258Z
LAST-MODIFIED:20181128T174258Z
UID:10000102-1549123200-1549137600@shbcfamily.com
SUMMARY:Titus Two Mini-Retreat
DESCRIPTION:This dinner and instructional event is geared to all women.  The theme is Nurturing Friendships for Growth.
URL:https://shbcfamily.com/event/titus-two-mini-retreat/
LOCATION:Foyer
END:VEVENT
BEGIN:VEVENT
DTSTART;TZID=America/Detroit:20190203T090000
DTEND;TZID=America/Detroit:20190203T101500
DTSTAMP:20260425T121637
CREATED:20190123T175048Z
LAST-MODIFIED:20190123T175048Z
UID:10000688-1549184400-1549188900@shbcfamily.com
SUMMARY:Membership Class
DESCRIPTION:
URL:https://shbcfamily.com/event/membership-class/2019-02-03/
END:VEVENT
BEGIN:VEVENT
DTSTART;TZID=America/Detroit:20190203T090000
DTEND;TZID=America/Detroit:20190203T101500
DTSTAMP:20260425T121637
CREATED:20181128T173041Z
LAST-MODIFIED:20190710T155952Z
UID:10000129-1549184400-1549188900@shbcfamily.com
SUMMARY:Sunday School Classes
DESCRIPTION:Sunday School classes are provided for kids ages newborn through 6th grade. \nTeens in grades 7-12 will meet in the Fellowship Hall.
URL:https://shbcfamily.com/event/sunday-school-classes-2/2019-02-03/
END:VEVENT
BEGIN:VEVENT
DTSTART;TZID=America/Detroit:20190203T090000
DTEND;TZID=America/Detroit:20190203T101500
DTSTAMP:20260425T121637
CREATED:20181128T172944Z
LAST-MODIFIED:20181128T172944Z
UID:10000109-1549184400-1549188900@shbcfamily.com
SUMMARY:Adult Bible Fellowships
DESCRIPTION:
URL:https://shbcfamily.com/event/adult-bible-fellowships-2/2019-02-03/
END:VEVENT
BEGIN:VEVENT
DTSTART;TZID=America/Detroit:20190203T103000
DTEND;TZID=America/Detroit:20190203T120000
DTSTAMP:20260425T121637
CREATED:20181101T201813Z
LAST-MODIFIED:20181128T172436Z
UID:10000269-1549189800-1549195200@shbcfamily.com
SUMMARY:Morning Worship Service
DESCRIPTION:
URL:https://shbcfamily.com/event/morning-worship-service/2019-02-03/
END:VEVENT
BEGIN:VEVENT
DTSTART;TZID=America/Detroit:20190203T163000
DTEND;TZID=America/Detroit:20190203T174500
DTSTAMP:20260425T121637
CREATED:20181211T152928Z
LAST-MODIFIED:20181211T152928Z
UID:10000065-1549211400-1549215900@shbcfamily.com
SUMMARY:Choir Rehearsal
DESCRIPTION:
URL:https://shbcfamily.com/event/choir-rehearsal-3/2019-02-03/
END:VEVENT
BEGIN:VEVENT
DTSTART;TZID=America/Detroit:20190203T180000
DTEND;TZID=America/Detroit:20190203T191500
DTSTAMP:20260425T121637
CREATED:20190123T190033Z
LAST-MODIFIED:20190123T190033Z
UID:10000692-1549216800-1549221300@shbcfamily.com
SUMMARY:Equip Classes for Men and Women
DESCRIPTION:
URL:https://shbcfamily.com/event/equip-classes-for-men-and-women/2019-02-03/
END:VEVENT
BEGIN:VEVENT
DTSTART;TZID=America/Detroit:20190204T184500
DTEND;TZID=America/Detroit:20190204T200000
DTSTAMP:20260425T121637
CREATED:20190123T190739Z
LAST-MODIFIED:20190123T190739Z
UID:10000706-1549305900-1549310400@shbcfamily.com
SUMMARY:Nursing Home Ministry at Jamestown Place
DESCRIPTION:
URL:https://shbcfamily.com/event/nursing-home-ministry-at-jamestown-place/2019-02-04/
END:VEVENT
BEGIN:VEVENT
DTSTART;TZID=America/Detroit:20190205T154500
DTEND;TZID=America/Detroit:20190205T170000
DTSTAMP:20260425T121637
CREATED:20181211T152710Z
LAST-MODIFIED:20181211T152710Z
UID:10000059-1549381500-1549386000@shbcfamily.com
SUMMARY:Whiz Kids
DESCRIPTION:
URL:https://shbcfamily.com/event/whiz-kids-7/2019-02-05/
END:VEVENT
BEGIN:VEVENT
DTSTART;TZID=America/Detroit:20190206T181500
DTEND;TZID=America/Detroit:20190206T200000
DTSTAMP:20260425T121637
CREATED:20181022T214416Z
LAST-MODIFIED:20190315T201435Z
UID:10000320-1549476900-1549483200@shbcfamily.com
SUMMARY:AWANA
DESCRIPTION:AWANA is a weekly club for kids packed with Bible learning and awesome games! Children four years old through sixth grade can attend.\nAWANA is on Wednesdays from 6:15 – 8:00 pm. Please check in with the AWANA secretaries in the Shawnee Hills foyer.
URL:https://shbcfamily.com/event/awana/2019-02-06/
ATTACH;FMTTYPE=image/png:https://shbcfamily.com/wp-content/uploads/2019/03/2430.png
END:VEVENT
BEGIN:VEVENT
DTSTART;TZID=America/Detroit:20190206T183000
DTEND;TZID=America/Detroit:20190206T200000
DTSTAMP:20260425T121637
CREATED:20181128T173605Z
LAST-MODIFIED:20181128T173605Z
UID:10000093-1549477800-1549483200@shbcfamily.com
SUMMARY:Time Out for Women
DESCRIPTION:
URL:https://shbcfamily.com/event/time-out-for-women-3/2019-02-06/
LOCATION:Conference Room
END:VEVENT
BEGIN:VEVENT
DTSTART;TZID=America/Detroit:20190206T183000
DTEND;TZID=America/Detroit:20190206T200000
DTSTAMP:20260425T121637
CREATED:20181128T173459Z
LAST-MODIFIED:20181128T173459Z
UID:10000180-1549477800-1549483200@shbcfamily.com
SUMMARY:Youth Group
DESCRIPTION:
URL:https://shbcfamily.com/event/youth-group-4/2019-02-06/
LOCATION:Fellowship Hall
END:VEVENT
BEGIN:VEVENT
DTSTART;TZID=America/Detroit:20190206T190000
DTEND;TZID=America/Detroit:20190206T200000
DTSTAMP:20260425T121637
CREATED:20190206T185149Z
LAST-MODIFIED:20190710T155243Z
UID:10000834-1549479600-1549483200@shbcfamily.com
SUMMARY:Prayer Meeting
DESCRIPTION:Join us to focus on and pray for God’s work.
URL:https://shbcfamily.com/event/prayer-meeting-3/2019-02-06/
END:VEVENT
BEGIN:VEVENT
DTSTART;TZID=America/Detroit:20190207T093000
DTEND;TZID=America/Detroit:20190207T233000
DTSTAMP:20260425T121637
CREATED:20190123T194551Z
LAST-MODIFIED:20190123T194551Z
UID:10000825-1549531800-1549582200@shbcfamily.com
SUMMARY:Mothers Uplifting Mothers
DESCRIPTION:
URL:https://shbcfamily.com/event/mothers-uplifting-mothers-2/
END:VEVENT
BEGIN:VEVENT
DTSTART;TZID=America/Detroit:20190207T183000
DTEND;TZID=America/Detroit:20190207T203000
DTSTAMP:20260425T121637
CREATED:20190123T174231Z
LAST-MODIFIED:20190604T195045Z
UID:10000004-1549564200-1549571400@shbcfamily.com
SUMMARY:Karate
DESCRIPTION:
URL:https://shbcfamily.com/event/karate-3/2019-02-07/
END:VEVENT
BEGIN:VEVENT
DTSTART;TZID=America/Detroit:20190210T090000
DTEND;TZID=America/Detroit:20190210T101500
DTSTAMP:20260425T121637
CREATED:20190123T175048Z
LAST-MODIFIED:20190123T175048Z
UID:10000689-1549789200-1549793700@shbcfamily.com
SUMMARY:Membership Class
DESCRIPTION:
URL:https://shbcfamily.com/event/membership-class/2019-02-10/
END:VEVENT
BEGIN:VEVENT
DTSTART;TZID=America/Detroit:20190210T090000
DTEND;TZID=America/Detroit:20190210T101500
DTSTAMP:20260425T121637
CREATED:20181128T173041Z
LAST-MODIFIED:20190710T155952Z
UID:10000130-1549789200-1549793700@shbcfamily.com
SUMMARY:Sunday School Classes
DESCRIPTION:Sunday School classes are provided for kids ages newborn through 6th grade. \nTeens in grades 7-12 will meet in the Fellowship Hall.
URL:https://shbcfamily.com/event/sunday-school-classes-2/2019-02-10/
END:VEVENT
BEGIN:VEVENT
DTSTART;TZID=America/Detroit:20190210T090000
DTEND;TZID=America/Detroit:20190210T101500
DTSTAMP:20260425T121637
CREATED:20181128T172944Z
LAST-MODIFIED:20181128T172944Z
UID:10000110-1549789200-1549793700@shbcfamily.com
SUMMARY:Adult Bible Fellowships
DESCRIPTION:
URL:https://shbcfamily.com/event/adult-bible-fellowships-2/2019-02-10/
END:VEVENT
END:VCALENDAR