BEGIN:VCALENDAR
VERSION:2.0
PRODID:-//Shawnee Hills Baptist Church - ECPv6.15.20//NONSGML v1.0//EN
CALSCALE:GREGORIAN
METHOD:PUBLISH
X-WR-CALNAME:Shawnee Hills Baptist Church
X-ORIGINAL-URL:https://shbcfamily.com
X-WR-CALDESC:Events for Shawnee Hills Baptist Church
REFRESH-INTERVAL;VALUE=DURATION:PT1H
X-Robots-Tag:noindex
X-PUBLISHED-TTL:PT1H
BEGIN:VTIMEZONE
TZID:America/Detroit
BEGIN:DAYLIGHT
TZOFFSETFROM:-0500
TZOFFSETTO:-0400
TZNAME:EDT
DTSTART:20260308T070000
END:DAYLIGHT
BEGIN:STANDARD
TZOFFSETFROM:-0400
TZOFFSETTO:-0500
TZNAME:EST
DTSTART:20261101T060000
END:STANDARD
BEGIN:DAYLIGHT
TZOFFSETFROM:-0500
TZOFFSETTO:-0400
TZNAME:EDT
DTSTART:20270314T070000
END:DAYLIGHT
BEGIN:STANDARD
TZOFFSETFROM:-0400
TZOFFSETTO:-0500
TZNAME:EST
DTSTART:20271107T060000
END:STANDARD
BEGIN:DAYLIGHT
TZOFFSETFROM:-0500
TZOFFSETTO:-0400
TZNAME:EDT
DTSTART:20280312T070000
END:DAYLIGHT
BEGIN:STANDARD
TZOFFSETFROM:-0400
TZOFFSETTO:-0500
TZNAME:EST
DTSTART:20281105T060000
END:STANDARD
END:VTIMEZONE
BEGIN:VEVENT
DTSTART;TZID=America/Detroit:20270207T180000
DTEND;TZID=America/Detroit:20270207T190000
DTSTAMP:20260425T105232
CREATED:20260113T145546Z
LAST-MODIFIED:20260113T145546Z
UID:10004384-1802023200-1802026800@shbcfamily.com
SUMMARY:Equip
DESCRIPTION:
URL:https://shbcfamily.com/event/equip-2/2027-02-07/
END:VEVENT
BEGIN:VEVENT
DTSTART;TZID=America/Detroit:20270214T083000
DTEND;TZID=America/Detroit:20270214T093000
DTSTAMP:20260425T105232
CREATED:20260113T145327Z
LAST-MODIFIED:20260113T145327Z
UID:10004247-1802593800-1802597400@shbcfamily.com
SUMMARY:Worship Service
DESCRIPTION:
URL:https://shbcfamily.com/event/worship-service-35/2027-02-14/
END:VEVENT
BEGIN:VEVENT
DTSTART;TZID=America/Detroit:20270214T094500
DTEND;TZID=America/Detroit:20270214T104500
DTSTAMP:20260425T105232
CREATED:20260113T145202Z
LAST-MODIFIED:20260113T145202Z
UID:10004177-1802598300-1802601900@shbcfamily.com
SUMMARY:ABF/SS
DESCRIPTION:
URL:https://shbcfamily.com/event/abf-ss-12/2027-02-14/
END:VEVENT
BEGIN:VEVENT
DTSTART;TZID=America/Detroit:20270214T110000
DTEND;TZID=America/Detroit:20270214T123000
DTSTAMP:20260425T105232
CREATED:20260113T145435Z
LAST-MODIFIED:20260113T145435Z
UID:10004317-1802602800-1802608200@shbcfamily.com
SUMMARY:Worship Service
DESCRIPTION:
URL:https://shbcfamily.com/event/worship-service-36/2027-02-14/
END:VEVENT
BEGIN:VEVENT
DTSTART;TZID=America/Detroit:20270214T180000
DTEND;TZID=America/Detroit:20270214T190000
DTSTAMP:20260425T105232
CREATED:20260113T145546Z
LAST-MODIFIED:20260113T145546Z
UID:10004385-1802628000-1802631600@shbcfamily.com
SUMMARY:Equip
DESCRIPTION:
URL:https://shbcfamily.com/event/equip-2/2027-02-14/
END:VEVENT
BEGIN:VEVENT
DTSTART;TZID=America/Detroit:20270221T083000
DTEND;TZID=America/Detroit:20270221T093000
DTSTAMP:20260425T105232
CREATED:20260113T145327Z
LAST-MODIFIED:20260113T145327Z
UID:10004248-1803198600-1803202200@shbcfamily.com
SUMMARY:Worship Service
DESCRIPTION:
URL:https://shbcfamily.com/event/worship-service-35/2027-02-21/
END:VEVENT
BEGIN:VEVENT
DTSTART;TZID=America/Detroit:20270221T094500
DTEND;TZID=America/Detroit:20270221T104500
DTSTAMP:20260425T105232
CREATED:20260113T145202Z
LAST-MODIFIED:20260113T145202Z
UID:10004178-1803203100-1803206700@shbcfamily.com
SUMMARY:ABF/SS
DESCRIPTION:
URL:https://shbcfamily.com/event/abf-ss-12/2027-02-21/
END:VEVENT
BEGIN:VEVENT
DTSTART;TZID=America/Detroit:20270221T110000
DTEND;TZID=America/Detroit:20270221T123000
DTSTAMP:20260425T105232
CREATED:20260113T145435Z
LAST-MODIFIED:20260113T145435Z
UID:10004318-1803207600-1803213000@shbcfamily.com
SUMMARY:Worship Service
DESCRIPTION:
URL:https://shbcfamily.com/event/worship-service-36/2027-02-21/
END:VEVENT
BEGIN:VEVENT
DTSTART;TZID=America/Detroit:20270221T180000
DTEND;TZID=America/Detroit:20270221T190000
DTSTAMP:20260425T105232
CREATED:20260113T145546Z
LAST-MODIFIED:20260113T145546Z
UID:10004386-1803232800-1803236400@shbcfamily.com
SUMMARY:Equip
DESCRIPTION:
URL:https://shbcfamily.com/event/equip-2/2027-02-21/
END:VEVENT
BEGIN:VEVENT
DTSTART;TZID=America/Detroit:20270228T083000
DTEND;TZID=America/Detroit:20270228T093000
DTSTAMP:20260425T105232
CREATED:20260113T145327Z
LAST-MODIFIED:20260113T145327Z
UID:10004249-1803803400-1803807000@shbcfamily.com
SUMMARY:Worship Service
DESCRIPTION:
URL:https://shbcfamily.com/event/worship-service-35/2027-02-28/
END:VEVENT
BEGIN:VEVENT
DTSTART;TZID=America/Detroit:20270228T094500
DTEND;TZID=America/Detroit:20270228T104500
DTSTAMP:20260425T105232
CREATED:20260113T145202Z
LAST-MODIFIED:20260113T145202Z
UID:10004179-1803807900-1803811500@shbcfamily.com
SUMMARY:ABF/SS
DESCRIPTION:
URL:https://shbcfamily.com/event/abf-ss-12/2027-02-28/
END:VEVENT
BEGIN:VEVENT
DTSTART;TZID=America/Detroit:20270228T110000
DTEND;TZID=America/Detroit:20270228T123000
DTSTAMP:20260425T105232
CREATED:20260113T145435Z
LAST-MODIFIED:20260113T145435Z
UID:10004319-1803812400-1803817800@shbcfamily.com
SUMMARY:Worship Service
DESCRIPTION:
URL:https://shbcfamily.com/event/worship-service-36/2027-02-28/
END:VEVENT
BEGIN:VEVENT
DTSTART;TZID=America/Detroit:20270228T180000
DTEND;TZID=America/Detroit:20270228T190000
DTSTAMP:20260425T105232
CREATED:20260113T145546Z
LAST-MODIFIED:20260113T145546Z
UID:10004387-1803837600-1803841200@shbcfamily.com
SUMMARY:Equip
DESCRIPTION:
URL:https://shbcfamily.com/event/equip-2/2027-02-28/
END:VEVENT
BEGIN:VEVENT
DTSTART;TZID=America/Detroit:20270307T083000
DTEND;TZID=America/Detroit:20270307T093000
DTSTAMP:20260425T105232
CREATED:20260113T145327Z
LAST-MODIFIED:20260113T145327Z
UID:10004250-1804408200-1804411800@shbcfamily.com
SUMMARY:Worship Service
DESCRIPTION:
URL:https://shbcfamily.com/event/worship-service-35/2027-03-07/
END:VEVENT
BEGIN:VEVENT
DTSTART;TZID=America/Detroit:20270307T094500
DTEND;TZID=America/Detroit:20270307T104500
DTSTAMP:20260425T105232
CREATED:20260113T145202Z
LAST-MODIFIED:20260113T145202Z
UID:10004180-1804412700-1804416300@shbcfamily.com
SUMMARY:ABF/SS
DESCRIPTION:
URL:https://shbcfamily.com/event/abf-ss-12/2027-03-07/
END:VEVENT
BEGIN:VEVENT
DTSTART;TZID=America/Detroit:20270307T110000
DTEND;TZID=America/Detroit:20270307T123000
DTSTAMP:20260425T105232
CREATED:20260113T145435Z
LAST-MODIFIED:20260113T145435Z
UID:10004320-1804417200-1804422600@shbcfamily.com
SUMMARY:Worship Service
DESCRIPTION:
URL:https://shbcfamily.com/event/worship-service-36/2027-03-07/
END:VEVENT
BEGIN:VEVENT
DTSTART;TZID=America/Detroit:20270307T180000
DTEND;TZID=America/Detroit:20270307T190000
DTSTAMP:20260425T105232
CREATED:20260113T145546Z
LAST-MODIFIED:20260113T145546Z
UID:10004388-1804442400-1804446000@shbcfamily.com
SUMMARY:Equip
DESCRIPTION:
URL:https://shbcfamily.com/event/equip-2/2027-03-07/
END:VEVENT
BEGIN:VEVENT
DTSTART;TZID=America/Detroit:20270314T083000
DTEND;TZID=America/Detroit:20270314T093000
DTSTAMP:20260425T105232
CREATED:20260113T145327Z
LAST-MODIFIED:20260113T145327Z
UID:10004251-1805013000-1805016600@shbcfamily.com
SUMMARY:Worship Service
DESCRIPTION:
URL:https://shbcfamily.com/event/worship-service-35/2027-03-14/
END:VEVENT
BEGIN:VEVENT
DTSTART;TZID=America/Detroit:20270314T094500
DTEND;TZID=America/Detroit:20270314T104500
DTSTAMP:20260425T105232
CREATED:20260113T145202Z
LAST-MODIFIED:20260113T145202Z
UID:10004181-1805017500-1805021100@shbcfamily.com
SUMMARY:ABF/SS
DESCRIPTION:
URL:https://shbcfamily.com/event/abf-ss-12/2027-03-14/
END:VEVENT
BEGIN:VEVENT
DTSTART;TZID=America/Detroit:20270314T110000
DTEND;TZID=America/Detroit:20270314T123000
DTSTAMP:20260425T105232
CREATED:20260113T145435Z
LAST-MODIFIED:20260113T145435Z
UID:10004321-1805022000-1805027400@shbcfamily.com
SUMMARY:Worship Service
DESCRIPTION:
URL:https://shbcfamily.com/event/worship-service-36/2027-03-14/
END:VEVENT
BEGIN:VEVENT
DTSTART;TZID=America/Detroit:20270314T180000
DTEND;TZID=America/Detroit:20270314T190000
DTSTAMP:20260425T105232
CREATED:20260113T145546Z
LAST-MODIFIED:20260113T145546Z
UID:10004389-1805047200-1805050800@shbcfamily.com
SUMMARY:Equip
DESCRIPTION:
URL:https://shbcfamily.com/event/equip-2/2027-03-14/
END:VEVENT
BEGIN:VEVENT
DTSTART;TZID=America/Detroit:20270321T083000
DTEND;TZID=America/Detroit:20270321T093000
DTSTAMP:20260425T105232
CREATED:20260113T145327Z
LAST-MODIFIED:20260113T145327Z
UID:10004252-1805617800-1805621400@shbcfamily.com
SUMMARY:Worship Service
DESCRIPTION:
URL:https://shbcfamily.com/event/worship-service-35/2027-03-21/
END:VEVENT
BEGIN:VEVENT
DTSTART;TZID=America/Detroit:20270321T094500
DTEND;TZID=America/Detroit:20270321T104500
DTSTAMP:20260425T105232
CREATED:20260113T145202Z
LAST-MODIFIED:20260113T145202Z
UID:10004182-1805622300-1805625900@shbcfamily.com
SUMMARY:ABF/SS
DESCRIPTION:
URL:https://shbcfamily.com/event/abf-ss-12/2027-03-21/
END:VEVENT
BEGIN:VEVENT
DTSTART;TZID=America/Detroit:20270321T110000
DTEND;TZID=America/Detroit:20270321T123000
DTSTAMP:20260425T105232
CREATED:20260113T145435Z
LAST-MODIFIED:20260113T145435Z
UID:10004322-1805626800-1805632200@shbcfamily.com
SUMMARY:Worship Service
DESCRIPTION:
URL:https://shbcfamily.com/event/worship-service-36/2027-03-21/
END:VEVENT
BEGIN:VEVENT
DTSTART;TZID=America/Detroit:20270321T180000
DTEND;TZID=America/Detroit:20270321T190000
DTSTAMP:20260425T105232
CREATED:20260113T145546Z
LAST-MODIFIED:20260113T145546Z
UID:10004390-1805652000-1805655600@shbcfamily.com
SUMMARY:Equip
DESCRIPTION:
URL:https://shbcfamily.com/event/equip-2/2027-03-21/
END:VEVENT
BEGIN:VEVENT
DTSTART;TZID=America/Detroit:20270328T083000
DTEND;TZID=America/Detroit:20270328T093000
DTSTAMP:20260425T105232
CREATED:20260113T145327Z
LAST-MODIFIED:20260113T145327Z
UID:10004253-1806222600-1806226200@shbcfamily.com
SUMMARY:Worship Service
DESCRIPTION:
URL:https://shbcfamily.com/event/worship-service-35/2027-03-28/
END:VEVENT
BEGIN:VEVENT
DTSTART;TZID=America/Detroit:20270328T094500
DTEND;TZID=America/Detroit:20270328T104500
DTSTAMP:20260425T105232
CREATED:20260113T145202Z
LAST-MODIFIED:20260113T145202Z
UID:10004183-1806227100-1806230700@shbcfamily.com
SUMMARY:ABF/SS
DESCRIPTION:
URL:https://shbcfamily.com/event/abf-ss-12/2027-03-28/
END:VEVENT
BEGIN:VEVENT
DTSTART;TZID=America/Detroit:20270328T110000
DTEND;TZID=America/Detroit:20270328T123000
DTSTAMP:20260425T105233
CREATED:20260113T145435Z
LAST-MODIFIED:20260113T145435Z
UID:10004323-1806231600-1806237000@shbcfamily.com
SUMMARY:Worship Service
DESCRIPTION:
URL:https://shbcfamily.com/event/worship-service-36/2027-03-28/
END:VEVENT
BEGIN:VEVENT
DTSTART;TZID=America/Detroit:20270328T180000
DTEND;TZID=America/Detroit:20270328T190000
DTSTAMP:20260425T105233
CREATED:20260113T145546Z
LAST-MODIFIED:20260113T145546Z
UID:10004391-1806256800-1806260400@shbcfamily.com
SUMMARY:Equip
DESCRIPTION:
URL:https://shbcfamily.com/event/equip-2/2027-03-28/
END:VEVENT
BEGIN:VEVENT
DTSTART;TZID=America/Detroit:20270404T083000
DTEND;TZID=America/Detroit:20270404T093000
DTSTAMP:20260425T105233
CREATED:20260113T145327Z
LAST-MODIFIED:20260113T145327Z
UID:10004254-1806827400-1806831000@shbcfamily.com
SUMMARY:Worship Service
DESCRIPTION:
URL:https://shbcfamily.com/event/worship-service-35/2027-04-04/
END:VEVENT
END:VCALENDAR