BEGIN:VCALENDAR
VERSION:2.0
PRODID:-//Shawnee Hills Baptist Church - ECPv6.15.20//NONSGML v1.0//EN
CALSCALE:GREGORIAN
METHOD:PUBLISH
X-ORIGINAL-URL:https://shbcfamily.com
X-WR-CALDESC:Events for Shawnee Hills Baptist Church
REFRESH-INTERVAL;VALUE=DURATION:PT1H
X-Robots-Tag:noindex
X-PUBLISHED-TTL:PT1H
BEGIN:VTIMEZONE
TZID:America/Detroit
BEGIN:DAYLIGHT
TZOFFSETFROM:-0500
TZOFFSETTO:-0400
TZNAME:EDT
DTSTART:20250309T070000
END:DAYLIGHT
BEGIN:STANDARD
TZOFFSETFROM:-0400
TZOFFSETTO:-0500
TZNAME:EST
DTSTART:20251102T060000
END:STANDARD
BEGIN:DAYLIGHT
TZOFFSETFROM:-0500
TZOFFSETTO:-0400
TZNAME:EDT
DTSTART:20260308T070000
END:DAYLIGHT
BEGIN:STANDARD
TZOFFSETFROM:-0400
TZOFFSETTO:-0500
TZNAME:EST
DTSTART:20261101T060000
END:STANDARD
BEGIN:DAYLIGHT
TZOFFSETFROM:-0500
TZOFFSETTO:-0400
TZNAME:EDT
DTSTART:20270314T070000
END:DAYLIGHT
BEGIN:STANDARD
TZOFFSETFROM:-0400
TZOFFSETTO:-0500
TZNAME:EST
DTSTART:20271107T060000
END:STANDARD
END:VTIMEZONE
BEGIN:VEVENT
DTSTART;TZID=America/Detroit:20260403T190000
DTEND;TZID=America/Detroit:20260403T200000
DTSTAMP:20260425T064438
CREATED:20260113T150624Z
LAST-MODIFIED:20260113T150624Z
UID:10004397-1775242800-1775246400@shbcfamily.com
SUMMARY:Good Friday Service at Immanuel Baptist\, Xenia
DESCRIPTION:
URL:https://shbcfamily.com/event/good-friday-service-at-immanuel-baptist-xenia/
END:VEVENT
BEGIN:VEVENT
DTSTART;TZID=America/Detroit:20260405T083000
DTEND;TZID=America/Detroit:20260405T093000
DTSTAMP:20260425T064439
CREATED:20260113T145327Z
LAST-MODIFIED:20260113T145327Z
UID:10004202-1775377800-1775381400@shbcfamily.com
SUMMARY:Worship Service
DESCRIPTION:
URL:https://shbcfamily.com/event/worship-service-35/2026-04-05/
END:VEVENT
BEGIN:VEVENT
DTSTART;TZID=America/Detroit:20260405T094500
DTEND;TZID=America/Detroit:20260405T104500
DTSTAMP:20260425T064439
CREATED:20260113T145202Z
LAST-MODIFIED:20260113T145202Z
UID:10004132-1775382300-1775385900@shbcfamily.com
SUMMARY:ABF/SS
DESCRIPTION:
URL:https://shbcfamily.com/event/abf-ss-12/2026-04-05/
END:VEVENT
BEGIN:VEVENT
DTSTART;TZID=America/Detroit:20260405T110000
DTEND;TZID=America/Detroit:20260405T123000
DTSTAMP:20260425T064439
CREATED:20260113T145435Z
LAST-MODIFIED:20260113T145435Z
UID:10004272-1775386800-1775392200@shbcfamily.com
SUMMARY:Worship Service
DESCRIPTION:
URL:https://shbcfamily.com/event/worship-service-36/2026-04-05/
END:VEVENT
BEGIN:VEVENT
DTSTART;TZID=America/Detroit:20260405T180000
DTEND;TZID=America/Detroit:20260405T190000
DTSTAMP:20260425T064439
CREATED:20260113T145546Z
LAST-MODIFIED:20260113T145546Z
UID:10004340-1775412000-1775415600@shbcfamily.com
SUMMARY:Equip
DESCRIPTION:
URL:https://shbcfamily.com/event/equip-2/2026-04-05/
END:VEVENT
BEGIN:VEVENT
DTSTART;TZID=America/Detroit:20260406T090000
DTEND;TZID=America/Detroit:20260406T100000
DTSTAMP:20260425T064439
CREATED:20241209T142712Z
LAST-MODIFIED:20241209T142712Z
UID:10003689-1775466000-1775469600@shbcfamily.com
SUMMARY:Aerobics
DESCRIPTION:
URL:https://shbcfamily.com/event/aerobics/2026-04-06/
END:VEVENT
BEGIN:VEVENT
DTSTART;TZID=America/Detroit:20260408T090000
DTEND;TZID=America/Detroit:20260408T100000
DTSTAMP:20260425T064439
CREATED:20241209T142712Z
LAST-MODIFIED:20241209T142712Z
UID:10003690-1775638800-1775642400@shbcfamily.com
SUMMARY:Aerobics
DESCRIPTION:
URL:https://shbcfamily.com/event/aerobics/2026-04-08/
END:VEVENT
BEGIN:VEVENT
DTSTART;TZID=America/Detroit:20260408T190000
DTEND;TZID=America/Detroit:20260408T200000
DTSTAMP:20260425T064439
CREATED:20241209T143548Z
LAST-MODIFIED:20241209T143548Z
UID:10003835-1775674800-1775678400@shbcfamily.com
SUMMARY:Prayer Meeting
DESCRIPTION:
URL:https://shbcfamily.com/event/prayer-meeting-18/2026-04-08/
END:VEVENT
BEGIN:VEVENT
DTSTART;TZID=America/Detroit:20260411T080000
DTEND;TZID=America/Detroit:20260411T130000
DTSTAMP:20260425T064439
CREATED:20260113T150228Z
LAST-MODIFIED:20260113T150228Z
UID:10004396-1775894400-1775912400@shbcfamily.com
SUMMARY:Men's Prayer Breakfast/Workday
DESCRIPTION:
URL:https://shbcfamily.com/event/mens-prayer-breakfast-workday-3/
END:VEVENT
BEGIN:VEVENT
DTSTART;TZID=America/Detroit:20260412T083000
DTEND;TZID=America/Detroit:20260412T093000
DTSTAMP:20260425T064439
CREATED:20260113T145327Z
LAST-MODIFIED:20260113T145327Z
UID:10004203-1775982600-1775986200@shbcfamily.com
SUMMARY:Worship Service
DESCRIPTION:
URL:https://shbcfamily.com/event/worship-service-35/2026-04-12/
END:VEVENT
BEGIN:VEVENT
DTSTART;TZID=America/Detroit:20260412T094500
DTEND;TZID=America/Detroit:20260412T104500
DTSTAMP:20260425T064439
CREATED:20260113T145202Z
LAST-MODIFIED:20260113T145202Z
UID:10004133-1775987100-1775990700@shbcfamily.com
SUMMARY:ABF/SS
DESCRIPTION:
URL:https://shbcfamily.com/event/abf-ss-12/2026-04-12/
END:VEVENT
BEGIN:VEVENT
DTSTART;TZID=America/Detroit:20260412T110000
DTEND;TZID=America/Detroit:20260412T123000
DTSTAMP:20260425T064439
CREATED:20260113T145435Z
LAST-MODIFIED:20260113T145435Z
UID:10004273-1775991600-1775997000@shbcfamily.com
SUMMARY:Worship Service
DESCRIPTION:
URL:https://shbcfamily.com/event/worship-service-36/2026-04-12/
END:VEVENT
BEGIN:VEVENT
DTSTART;TZID=America/Detroit:20260412T180000
DTEND;TZID=America/Detroit:20260412T190000
DTSTAMP:20260425T064439
CREATED:20260113T145546Z
LAST-MODIFIED:20260113T145546Z
UID:10004341-1776016800-1776020400@shbcfamily.com
SUMMARY:Equip
DESCRIPTION:
URL:https://shbcfamily.com/event/equip-2/2026-04-12/
END:VEVENT
BEGIN:VEVENT
DTSTART;TZID=America/Detroit:20260413T090000
DTEND;TZID=America/Detroit:20260413T100000
DTSTAMP:20260425T064439
CREATED:20241209T142712Z
LAST-MODIFIED:20241209T142712Z
UID:10003691-1776070800-1776074400@shbcfamily.com
SUMMARY:Aerobics
DESCRIPTION:
URL:https://shbcfamily.com/event/aerobics/2026-04-13/
END:VEVENT
BEGIN:VEVENT
DTSTART;TZID=America/Detroit:20260415T090000
DTEND;TZID=America/Detroit:20260415T100000
DTSTAMP:20260425T064439
CREATED:20241209T142712Z
LAST-MODIFIED:20241209T142712Z
UID:10003692-1776243600-1776247200@shbcfamily.com
SUMMARY:Aerobics
DESCRIPTION:
URL:https://shbcfamily.com/event/aerobics/2026-04-15/
END:VEVENT
BEGIN:VEVENT
DTSTART;TZID=America/Detroit:20260415T190000
DTEND;TZID=America/Detroit:20260415T200000
DTSTAMP:20260425T064439
CREATED:20241209T143548Z
LAST-MODIFIED:20241209T143548Z
UID:10003836-1776279600-1776283200@shbcfamily.com
SUMMARY:Prayer Meeting
DESCRIPTION:
URL:https://shbcfamily.com/event/prayer-meeting-18/2026-04-15/
END:VEVENT
BEGIN:VEVENT
DTSTART;TZID=America/Detroit:20260419T083000
DTEND;TZID=America/Detroit:20260419T093000
DTSTAMP:20260425T064439
CREATED:20260113T145327Z
LAST-MODIFIED:20260113T145327Z
UID:10004204-1776587400-1776591000@shbcfamily.com
SUMMARY:Worship Service
DESCRIPTION:
URL:https://shbcfamily.com/event/worship-service-35/2026-04-19/
END:VEVENT
BEGIN:VEVENT
DTSTART;TZID=America/Detroit:20260419T094500
DTEND;TZID=America/Detroit:20260419T104500
DTSTAMP:20260425T064439
CREATED:20260113T145202Z
LAST-MODIFIED:20260113T145202Z
UID:10004134-1776591900-1776595500@shbcfamily.com
SUMMARY:ABF/SS
DESCRIPTION:
URL:https://shbcfamily.com/event/abf-ss-12/2026-04-19/
END:VEVENT
BEGIN:VEVENT
DTSTART;TZID=America/Detroit:20260419T110000
DTEND;TZID=America/Detroit:20260419T123000
DTSTAMP:20260425T064439
CREATED:20260113T145435Z
LAST-MODIFIED:20260113T145435Z
UID:10004274-1776596400-1776601800@shbcfamily.com
SUMMARY:Worship Service
DESCRIPTION:
URL:https://shbcfamily.com/event/worship-service-36/2026-04-19/
END:VEVENT
BEGIN:VEVENT
DTSTART;TZID=America/Detroit:20260419T180000
DTEND;TZID=America/Detroit:20260419T190000
DTSTAMP:20260425T064439
CREATED:20260113T145546Z
LAST-MODIFIED:20260113T145546Z
UID:10004342-1776621600-1776625200@shbcfamily.com
SUMMARY:Equip
DESCRIPTION:
URL:https://shbcfamily.com/event/equip-2/2026-04-19/
END:VEVENT
BEGIN:VEVENT
DTSTART;TZID=America/Detroit:20260420T090000
DTEND;TZID=America/Detroit:20260420T100000
DTSTAMP:20260425T064439
CREATED:20241209T142712Z
LAST-MODIFIED:20241209T142712Z
UID:10003693-1776675600-1776679200@shbcfamily.com
SUMMARY:Aerobics
DESCRIPTION:
URL:https://shbcfamily.com/event/aerobics/2026-04-20/
END:VEVENT
BEGIN:VEVENT
DTSTART;TZID=America/Detroit:20260422T090000
DTEND;TZID=America/Detroit:20260422T100000
DTSTAMP:20260425T064439
CREATED:20241209T142712Z
LAST-MODIFIED:20241209T142712Z
UID:10003694-1776848400-1776852000@shbcfamily.com
SUMMARY:Aerobics
DESCRIPTION:
URL:https://shbcfamily.com/event/aerobics/2026-04-22/
END:VEVENT
BEGIN:VEVENT
DTSTART;TZID=America/Detroit:20260422T190000
DTEND;TZID=America/Detroit:20260422T200000
DTSTAMP:20260425T064439
CREATED:20241209T143548Z
LAST-MODIFIED:20241209T143548Z
UID:10003837-1776884400-1776888000@shbcfamily.com
SUMMARY:Prayer Meeting
DESCRIPTION:
URL:https://shbcfamily.com/event/prayer-meeting-18/2026-04-22/
END:VEVENT
BEGIN:VEVENT
DTSTART;TZID=America/Detroit:20260426T083000
DTEND;TZID=America/Detroit:20260426T093000
DTSTAMP:20260425T064439
CREATED:20260113T145327Z
LAST-MODIFIED:20260113T145327Z
UID:10004205-1777192200-1777195800@shbcfamily.com
SUMMARY:Worship Service
DESCRIPTION:
URL:https://shbcfamily.com/event/worship-service-35/2026-04-26/
END:VEVENT
BEGIN:VEVENT
DTSTART;TZID=America/Detroit:20260426T094500
DTEND;TZID=America/Detroit:20260426T104500
DTSTAMP:20260425T064439
CREATED:20260113T145202Z
LAST-MODIFIED:20260113T145202Z
UID:10004135-1777196700-1777200300@shbcfamily.com
SUMMARY:ABF/SS
DESCRIPTION:
URL:https://shbcfamily.com/event/abf-ss-12/2026-04-26/
END:VEVENT
BEGIN:VEVENT
DTSTART;TZID=America/Detroit:20260426T110000
DTEND;TZID=America/Detroit:20260426T123000
DTSTAMP:20260425T064439
CREATED:20260113T145435Z
LAST-MODIFIED:20260113T145435Z
UID:10004275-1777201200-1777206600@shbcfamily.com
SUMMARY:Worship Service
DESCRIPTION:
URL:https://shbcfamily.com/event/worship-service-36/2026-04-26/
END:VEVENT
BEGIN:VEVENT
DTSTART;TZID=America/Detroit:20260426T180000
DTEND;TZID=America/Detroit:20260426T190000
DTSTAMP:20260425T064439
CREATED:20260113T145546Z
LAST-MODIFIED:20260113T145546Z
UID:10004343-1777226400-1777230000@shbcfamily.com
SUMMARY:Equip
DESCRIPTION:
URL:https://shbcfamily.com/event/equip-2/2026-04-26/
END:VEVENT
BEGIN:VEVENT
DTSTART;TZID=America/Detroit:20260427T090000
DTEND;TZID=America/Detroit:20260427T100000
DTSTAMP:20260425T064439
CREATED:20241209T142712Z
LAST-MODIFIED:20241209T142712Z
UID:10003695-1777280400-1777284000@shbcfamily.com
SUMMARY:Aerobics
DESCRIPTION:
URL:https://shbcfamily.com/event/aerobics/2026-04-27/
END:VEVENT
BEGIN:VEVENT
DTSTART;TZID=America/Detroit:20260429T090000
DTEND;TZID=America/Detroit:20260429T100000
DTSTAMP:20260425T064439
CREATED:20241209T142712Z
LAST-MODIFIED:20241209T142712Z
UID:10003696-1777453200-1777456800@shbcfamily.com
SUMMARY:Aerobics
DESCRIPTION:
URL:https://shbcfamily.com/event/aerobics/2026-04-29/
END:VEVENT
BEGIN:VEVENT
DTSTART;TZID=America/Detroit:20260429T190000
DTEND;TZID=America/Detroit:20260429T200000
DTSTAMP:20260425T064439
CREATED:20241209T143548Z
LAST-MODIFIED:20241209T143548Z
UID:10003838-1777489200-1777492800@shbcfamily.com
SUMMARY:Prayer Meeting
DESCRIPTION:
URL:https://shbcfamily.com/event/prayer-meeting-18/2026-04-29/
END:VEVENT
END:VCALENDAR