BEGIN:VCALENDAR
VERSION:2.0
PRODID:-//Shawnee Hills Baptist Church - ECPv6.15.20//NONSGML v1.0//EN
CALSCALE:GREGORIAN
METHOD:PUBLISH
X-WR-CALNAME:Shawnee Hills Baptist Church
X-ORIGINAL-URL:https://shbcfamily.com
X-WR-CALDESC:Events for Shawnee Hills Baptist Church
REFRESH-INTERVAL;VALUE=DURATION:PT1H
X-Robots-Tag:noindex
X-PUBLISHED-TTL:PT1H
BEGIN:VTIMEZONE
TZID:America/Detroit
BEGIN:DAYLIGHT
TZOFFSETFROM:-0500
TZOFFSETTO:-0400
TZNAME:EDT
DTSTART:20250309T070000
END:DAYLIGHT
BEGIN:STANDARD
TZOFFSETFROM:-0400
TZOFFSETTO:-0500
TZNAME:EST
DTSTART:20251102T060000
END:STANDARD
BEGIN:DAYLIGHT
TZOFFSETFROM:-0500
TZOFFSETTO:-0400
TZNAME:EDT
DTSTART:20260308T070000
END:DAYLIGHT
BEGIN:STANDARD
TZOFFSETFROM:-0400
TZOFFSETTO:-0500
TZNAME:EST
DTSTART:20261101T060000
END:STANDARD
BEGIN:DAYLIGHT
TZOFFSETFROM:-0500
TZOFFSETTO:-0400
TZNAME:EDT
DTSTART:20270314T070000
END:DAYLIGHT
BEGIN:STANDARD
TZOFFSETFROM:-0400
TZOFFSETTO:-0500
TZNAME:EST
DTSTART:20271107T060000
END:STANDARD
END:VTIMEZONE
BEGIN:VEVENT
DTSTART;TZID=America/Detroit:20260628T180000
DTEND;TZID=America/Detroit:20260628T190000
DTSTAMP:20260425T115733
CREATED:20260113T145546Z
LAST-MODIFIED:20260113T145546Z
UID:10004352-1782669600-1782673200@shbcfamily.com
SUMMARY:Equip
DESCRIPTION:
URL:https://shbcfamily.com/event/equip-2/2026-06-28/
END:VEVENT
BEGIN:VEVENT
DTSTART;TZID=America/Detroit:20260629T090000
DTEND;TZID=America/Detroit:20260629T100000
DTSTAMP:20260425T115733
CREATED:20241209T142712Z
LAST-MODIFIED:20241209T142712Z
UID:10003713-1782723600-1782727200@shbcfamily.com
SUMMARY:Aerobics
DESCRIPTION:
URL:https://shbcfamily.com/event/aerobics/2026-06-29/
END:VEVENT
BEGIN:VEVENT
DTSTART;TZID=America/Detroit:20260701T090000
DTEND;TZID=America/Detroit:20260701T100000
DTSTAMP:20260425T115733
CREATED:20241209T142712Z
LAST-MODIFIED:20241209T142712Z
UID:10003714-1782896400-1782900000@shbcfamily.com
SUMMARY:Aerobics
DESCRIPTION:
URL:https://shbcfamily.com/event/aerobics/2026-07-01/
END:VEVENT
BEGIN:VEVENT
DTSTART;TZID=America/Detroit:20260701T190000
DTEND;TZID=America/Detroit:20260701T200000
DTSTAMP:20260425T115733
CREATED:20241209T143548Z
LAST-MODIFIED:20241209T143548Z
UID:10003847-1782932400-1782936000@shbcfamily.com
SUMMARY:Prayer Meeting
DESCRIPTION:
URL:https://shbcfamily.com/event/prayer-meeting-18/2026-07-01/
END:VEVENT
BEGIN:VEVENT
DTSTART;TZID=America/Detroit:20260705T083000
DTEND;TZID=America/Detroit:20260705T093000
DTSTAMP:20260425T115733
CREATED:20260113T145327Z
LAST-MODIFIED:20260113T145327Z
UID:10004215-1783240200-1783243800@shbcfamily.com
SUMMARY:Worship Service
DESCRIPTION:
URL:https://shbcfamily.com/event/worship-service-35/2026-07-05/
END:VEVENT
BEGIN:VEVENT
DTSTART;TZID=America/Detroit:20260705T094500
DTEND;TZID=America/Detroit:20260705T104500
DTSTAMP:20260425T115733
CREATED:20260113T145202Z
LAST-MODIFIED:20260113T145202Z
UID:10004145-1783244700-1783248300@shbcfamily.com
SUMMARY:ABF/SS
DESCRIPTION:
URL:https://shbcfamily.com/event/abf-ss-12/2026-07-05/
END:VEVENT
BEGIN:VEVENT
DTSTART;TZID=America/Detroit:20260705T110000
DTEND;TZID=America/Detroit:20260705T123000
DTSTAMP:20260425T115733
CREATED:20260113T145435Z
LAST-MODIFIED:20260113T145435Z
UID:10004285-1783249200-1783254600@shbcfamily.com
SUMMARY:Worship Service
DESCRIPTION:
URL:https://shbcfamily.com/event/worship-service-36/2026-07-05/
END:VEVENT
BEGIN:VEVENT
DTSTART;TZID=America/Detroit:20260705T180000
DTEND;TZID=America/Detroit:20260705T190000
DTSTAMP:20260425T115733
CREATED:20260113T145546Z
LAST-MODIFIED:20260113T145546Z
UID:10004353-1783274400-1783278000@shbcfamily.com
SUMMARY:Equip
DESCRIPTION:
URL:https://shbcfamily.com/event/equip-2/2026-07-05/
END:VEVENT
BEGIN:VEVENT
DTSTART;TZID=America/Detroit:20260706T090000
DTEND;TZID=America/Detroit:20260706T100000
DTSTAMP:20260425T115733
CREATED:20241209T142712Z
LAST-MODIFIED:20241209T142712Z
UID:10003715-1783328400-1783332000@shbcfamily.com
SUMMARY:Aerobics
DESCRIPTION:
URL:https://shbcfamily.com/event/aerobics/2026-07-06/
END:VEVENT
BEGIN:VEVENT
DTSTART;TZID=America/Detroit:20260708T090000
DTEND;TZID=America/Detroit:20260708T100000
DTSTAMP:20260425T115733
CREATED:20241209T142712Z
LAST-MODIFIED:20241209T142712Z
UID:10003716-1783501200-1783504800@shbcfamily.com
SUMMARY:Aerobics
DESCRIPTION:
URL:https://shbcfamily.com/event/aerobics/2026-07-08/
END:VEVENT
BEGIN:VEVENT
DTSTART;TZID=America/Detroit:20260708T190000
DTEND;TZID=America/Detroit:20260708T200000
DTSTAMP:20260425T115733
CREATED:20241209T143548Z
LAST-MODIFIED:20241209T143548Z
UID:10003848-1783537200-1783540800@shbcfamily.com
SUMMARY:Prayer Meeting
DESCRIPTION:
URL:https://shbcfamily.com/event/prayer-meeting-18/2026-07-08/
END:VEVENT
BEGIN:VEVENT
DTSTART;TZID=America/Detroit:20260712T083000
DTEND;TZID=America/Detroit:20260712T093000
DTSTAMP:20260425T115733
CREATED:20260113T145327Z
LAST-MODIFIED:20260113T145327Z
UID:10004216-1783845000-1783848600@shbcfamily.com
SUMMARY:Worship Service
DESCRIPTION:
URL:https://shbcfamily.com/event/worship-service-35/2026-07-12/
END:VEVENT
BEGIN:VEVENT
DTSTART;TZID=America/Detroit:20260712T094500
DTEND;TZID=America/Detroit:20260712T104500
DTSTAMP:20260425T115733
CREATED:20260113T145202Z
LAST-MODIFIED:20260113T145202Z
UID:10004146-1783849500-1783853100@shbcfamily.com
SUMMARY:ABF/SS
DESCRIPTION:
URL:https://shbcfamily.com/event/abf-ss-12/2026-07-12/
END:VEVENT
BEGIN:VEVENT
DTSTART;TZID=America/Detroit:20260712T110000
DTEND;TZID=America/Detroit:20260712T123000
DTSTAMP:20260425T115733
CREATED:20260113T145435Z
LAST-MODIFIED:20260113T145435Z
UID:10004286-1783854000-1783859400@shbcfamily.com
SUMMARY:Worship Service
DESCRIPTION:
URL:https://shbcfamily.com/event/worship-service-36/2026-07-12/
END:VEVENT
BEGIN:VEVENT
DTSTART;TZID=America/Detroit:20260712T180000
DTEND;TZID=America/Detroit:20260712T190000
DTSTAMP:20260425T115733
CREATED:20260113T145546Z
LAST-MODIFIED:20260113T145546Z
UID:10004354-1783879200-1783882800@shbcfamily.com
SUMMARY:Equip
DESCRIPTION:
URL:https://shbcfamily.com/event/equip-2/2026-07-12/
END:VEVENT
BEGIN:VEVENT
DTSTART;TZID=America/Detroit:20260713T090000
DTEND;TZID=America/Detroit:20260713T100000
DTSTAMP:20260425T115733
CREATED:20241209T142712Z
LAST-MODIFIED:20241209T142712Z
UID:10003717-1783933200-1783936800@shbcfamily.com
SUMMARY:Aerobics
DESCRIPTION:
URL:https://shbcfamily.com/event/aerobics/2026-07-13/
END:VEVENT
BEGIN:VEVENT
DTSTART;TZID=America/Detroit:20260715T090000
DTEND;TZID=America/Detroit:20260715T100000
DTSTAMP:20260425T115733
CREATED:20241209T142712Z
LAST-MODIFIED:20241209T142712Z
UID:10003718-1784106000-1784109600@shbcfamily.com
SUMMARY:Aerobics
DESCRIPTION:
URL:https://shbcfamily.com/event/aerobics/2026-07-15/
END:VEVENT
BEGIN:VEVENT
DTSTART;TZID=America/Detroit:20260715T190000
DTEND;TZID=America/Detroit:20260715T200000
DTSTAMP:20260425T115733
CREATED:20241209T143548Z
LAST-MODIFIED:20241209T143548Z
UID:10003849-1784142000-1784145600@shbcfamily.com
SUMMARY:Prayer Meeting
DESCRIPTION:
URL:https://shbcfamily.com/event/prayer-meeting-18/2026-07-15/
END:VEVENT
BEGIN:VEVENT
DTSTART;TZID=America/Detroit:20260719T083000
DTEND;TZID=America/Detroit:20260719T093000
DTSTAMP:20260425T115733
CREATED:20260113T145327Z
LAST-MODIFIED:20260113T145327Z
UID:10004217-1784449800-1784453400@shbcfamily.com
SUMMARY:Worship Service
DESCRIPTION:
URL:https://shbcfamily.com/event/worship-service-35/2026-07-19/
END:VEVENT
BEGIN:VEVENT
DTSTART;TZID=America/Detroit:20260719T094500
DTEND;TZID=America/Detroit:20260719T104500
DTSTAMP:20260425T115733
CREATED:20260113T145202Z
LAST-MODIFIED:20260113T145202Z
UID:10004147-1784454300-1784457900@shbcfamily.com
SUMMARY:ABF/SS
DESCRIPTION:
URL:https://shbcfamily.com/event/abf-ss-12/2026-07-19/
END:VEVENT
BEGIN:VEVENT
DTSTART;TZID=America/Detroit:20260719T110000
DTEND;TZID=America/Detroit:20260719T123000
DTSTAMP:20260425T115733
CREATED:20260113T145435Z
LAST-MODIFIED:20260113T145435Z
UID:10004287-1784458800-1784464200@shbcfamily.com
SUMMARY:Worship Service
DESCRIPTION:
URL:https://shbcfamily.com/event/worship-service-36/2026-07-19/
END:VEVENT
BEGIN:VEVENT
DTSTART;TZID=America/Detroit:20260719T180000
DTEND;TZID=America/Detroit:20260719T190000
DTSTAMP:20260425T115733
CREATED:20260113T145546Z
LAST-MODIFIED:20260113T145546Z
UID:10004355-1784484000-1784487600@shbcfamily.com
SUMMARY:Equip
DESCRIPTION:
URL:https://shbcfamily.com/event/equip-2/2026-07-19/
END:VEVENT
BEGIN:VEVENT
DTSTART;TZID=America/Detroit:20260720T090000
DTEND;TZID=America/Detroit:20260720T100000
DTSTAMP:20260425T115733
CREATED:20241209T142712Z
LAST-MODIFIED:20241209T142712Z
UID:10003719-1784538000-1784541600@shbcfamily.com
SUMMARY:Aerobics
DESCRIPTION:
URL:https://shbcfamily.com/event/aerobics/2026-07-20/
END:VEVENT
BEGIN:VEVENT
DTSTART;TZID=America/Detroit:20260722T090000
DTEND;TZID=America/Detroit:20260722T100000
DTSTAMP:20260425T115733
CREATED:20241209T142712Z
LAST-MODIFIED:20241209T142712Z
UID:10003720-1784710800-1784714400@shbcfamily.com
SUMMARY:Aerobics
DESCRIPTION:
URL:https://shbcfamily.com/event/aerobics/2026-07-22/
END:VEVENT
BEGIN:VEVENT
DTSTART;TZID=America/Detroit:20260722T190000
DTEND;TZID=America/Detroit:20260722T200000
DTSTAMP:20260425T115733
CREATED:20241209T143548Z
LAST-MODIFIED:20241209T143548Z
UID:10003850-1784746800-1784750400@shbcfamily.com
SUMMARY:Prayer Meeting
DESCRIPTION:
URL:https://shbcfamily.com/event/prayer-meeting-18/2026-07-22/
END:VEVENT
BEGIN:VEVENT
DTSTART;TZID=America/Detroit:20260726T083000
DTEND;TZID=America/Detroit:20260726T093000
DTSTAMP:20260425T115733
CREATED:20260113T145327Z
LAST-MODIFIED:20260113T145327Z
UID:10004218-1785054600-1785058200@shbcfamily.com
SUMMARY:Worship Service
DESCRIPTION:
URL:https://shbcfamily.com/event/worship-service-35/2026-07-26/
END:VEVENT
BEGIN:VEVENT
DTSTART;TZID=America/Detroit:20260726T094500
DTEND;TZID=America/Detroit:20260726T104500
DTSTAMP:20260425T115733
CREATED:20260113T145202Z
LAST-MODIFIED:20260113T145202Z
UID:10004148-1785059100-1785062700@shbcfamily.com
SUMMARY:ABF/SS
DESCRIPTION:
URL:https://shbcfamily.com/event/abf-ss-12/2026-07-26/
END:VEVENT
BEGIN:VEVENT
DTSTART;TZID=America/Detroit:20260726T110000
DTEND;TZID=America/Detroit:20260726T123000
DTSTAMP:20260425T115733
CREATED:20260113T145435Z
LAST-MODIFIED:20260113T145435Z
UID:10004288-1785063600-1785069000@shbcfamily.com
SUMMARY:Worship Service
DESCRIPTION:
URL:https://shbcfamily.com/event/worship-service-36/2026-07-26/
END:VEVENT
BEGIN:VEVENT
DTSTART;TZID=America/Detroit:20260726T180000
DTEND;TZID=America/Detroit:20260726T190000
DTSTAMP:20260425T115733
CREATED:20260113T145546Z
LAST-MODIFIED:20260113T145546Z
UID:10004356-1785088800-1785092400@shbcfamily.com
SUMMARY:Equip
DESCRIPTION:
URL:https://shbcfamily.com/event/equip-2/2026-07-26/
END:VEVENT
BEGIN:VEVENT
DTSTART;TZID=America/Detroit:20260727T090000
DTEND;TZID=America/Detroit:20260727T100000
DTSTAMP:20260425T115733
CREATED:20241209T142712Z
LAST-MODIFIED:20241209T142712Z
UID:10003721-1785142800-1785146400@shbcfamily.com
SUMMARY:Aerobics
DESCRIPTION:
URL:https://shbcfamily.com/event/aerobics/2026-07-27/
END:VEVENT
END:VCALENDAR