BEGIN:VCALENDAR
VERSION:2.0
PRODID:-//Shawnee Hills Baptist Church - ECPv6.15.20//NONSGML v1.0//EN
CALSCALE:GREGORIAN
METHOD:PUBLISH
X-ORIGINAL-URL:https://shbcfamily.com
X-WR-CALDESC:Events for Shawnee Hills Baptist Church
REFRESH-INTERVAL;VALUE=DURATION:PT1H
X-Robots-Tag:noindex
X-PUBLISHED-TTL:PT1H
BEGIN:VTIMEZONE
TZID:America/Detroit
BEGIN:DAYLIGHT
TZOFFSETFROM:-0500
TZOFFSETTO:-0400
TZNAME:EDT
DTSTART:20250309T070000
END:DAYLIGHT
BEGIN:STANDARD
TZOFFSETFROM:-0400
TZOFFSETTO:-0500
TZNAME:EST
DTSTART:20251102T060000
END:STANDARD
BEGIN:DAYLIGHT
TZOFFSETFROM:-0500
TZOFFSETTO:-0400
TZNAME:EDT
DTSTART:20260308T070000
END:DAYLIGHT
BEGIN:STANDARD
TZOFFSETFROM:-0400
TZOFFSETTO:-0500
TZNAME:EST
DTSTART:20261101T060000
END:STANDARD
BEGIN:DAYLIGHT
TZOFFSETFROM:-0500
TZOFFSETTO:-0400
TZNAME:EDT
DTSTART:20270314T070000
END:DAYLIGHT
BEGIN:STANDARD
TZOFFSETFROM:-0400
TZOFFSETTO:-0500
TZNAME:EST
DTSTART:20271107T060000
END:STANDARD
END:VTIMEZONE
BEGIN:VEVENT
DTSTART;TZID=America/Detroit:20260510T083000
DTEND;TZID=America/Detroit:20260510T093000
DTSTAMP:20260425T062824
CREATED:20260113T145327Z
LAST-MODIFIED:20260113T145327Z
UID:10004207-1778401800-1778405400@shbcfamily.com
SUMMARY:Worship Service
DESCRIPTION:
URL:https://shbcfamily.com/event/worship-service-35/2026-05-10/
END:VEVENT
BEGIN:VEVENT
DTSTART;TZID=America/Detroit:20260510T094500
DTEND;TZID=America/Detroit:20260510T104500
DTSTAMP:20260425T062824
CREATED:20260113T145202Z
LAST-MODIFIED:20260113T145202Z
UID:10004137-1778406300-1778409900@shbcfamily.com
SUMMARY:ABF/SS
DESCRIPTION:
URL:https://shbcfamily.com/event/abf-ss-12/2026-05-10/
END:VEVENT
BEGIN:VEVENT
DTSTART;TZID=America/Detroit:20260510T110000
DTEND;TZID=America/Detroit:20260510T123000
DTSTAMP:20260425T062824
CREATED:20260113T145435Z
LAST-MODIFIED:20260113T145435Z
UID:10004277-1778410800-1778416200@shbcfamily.com
SUMMARY:Worship Service
DESCRIPTION:
URL:https://shbcfamily.com/event/worship-service-36/2026-05-10/
END:VEVENT
BEGIN:VEVENT
DTSTART;TZID=America/Detroit:20260510T180000
DTEND;TZID=America/Detroit:20260510T190000
DTSTAMP:20260425T062824
CREATED:20260113T145546Z
LAST-MODIFIED:20260113T145546Z
UID:10004345-1778436000-1778439600@shbcfamily.com
SUMMARY:Equip
DESCRIPTION:
URL:https://shbcfamily.com/event/equip-2/2026-05-10/
END:VEVENT
BEGIN:VEVENT
DTSTART;TZID=America/Detroit:20260511T090000
DTEND;TZID=America/Detroit:20260511T100000
DTSTAMP:20260425T062824
CREATED:20241209T142712Z
LAST-MODIFIED:20241209T142712Z
UID:10003699-1778490000-1778493600@shbcfamily.com
SUMMARY:Aerobics
DESCRIPTION:
URL:https://shbcfamily.com/event/aerobics/2026-05-11/
END:VEVENT
BEGIN:VEVENT
DTSTART;TZID=America/Detroit:20260513T090000
DTEND;TZID=America/Detroit:20260513T100000
DTSTAMP:20260425T062824
CREATED:20241209T142712Z
LAST-MODIFIED:20241209T142712Z
UID:10003700-1778662800-1778666400@shbcfamily.com
SUMMARY:Aerobics
DESCRIPTION:
URL:https://shbcfamily.com/event/aerobics/2026-05-13/
END:VEVENT
BEGIN:VEVENT
DTSTART;TZID=America/Detroit:20260513T190000
DTEND;TZID=America/Detroit:20260513T200000
DTSTAMP:20260425T062824
CREATED:20241209T143548Z
LAST-MODIFIED:20241209T143548Z
UID:10003840-1778698800-1778702400@shbcfamily.com
SUMMARY:Prayer Meeting
DESCRIPTION:
URL:https://shbcfamily.com/event/prayer-meeting-18/2026-05-13/
END:VEVENT
BEGIN:VEVENT
DTSTART;TZID=America/Detroit:20260517T083000
DTEND;TZID=America/Detroit:20260517T093000
DTSTAMP:20260425T062824
CREATED:20260113T145327Z
LAST-MODIFIED:20260113T145327Z
UID:10004208-1779006600-1779010200@shbcfamily.com
SUMMARY:Worship Service
DESCRIPTION:
URL:https://shbcfamily.com/event/worship-service-35/2026-05-17/
END:VEVENT
BEGIN:VEVENT
DTSTART;TZID=America/Detroit:20260517T094500
DTEND;TZID=America/Detroit:20260517T104500
DTSTAMP:20260425T062824
CREATED:20260113T145202Z
LAST-MODIFIED:20260113T145202Z
UID:10004138-1779011100-1779014700@shbcfamily.com
SUMMARY:ABF/SS
DESCRIPTION:
URL:https://shbcfamily.com/event/abf-ss-12/2026-05-17/
END:VEVENT
BEGIN:VEVENT
DTSTART;TZID=America/Detroit:20260517T110000
DTEND;TZID=America/Detroit:20260517T123000
DTSTAMP:20260425T062824
CREATED:20260113T145435Z
LAST-MODIFIED:20260113T145435Z
UID:10004278-1779015600-1779021000@shbcfamily.com
SUMMARY:Worship Service
DESCRIPTION:
URL:https://shbcfamily.com/event/worship-service-36/2026-05-17/
END:VEVENT
BEGIN:VEVENT
DTSTART;TZID=America/Detroit:20260517T180000
DTEND;TZID=America/Detroit:20260517T190000
DTSTAMP:20260425T062824
CREATED:20260113T145546Z
LAST-MODIFIED:20260113T145546Z
UID:10004346-1779040800-1779044400@shbcfamily.com
SUMMARY:Equip
DESCRIPTION:
URL:https://shbcfamily.com/event/equip-2/2026-05-17/
END:VEVENT
BEGIN:VEVENT
DTSTART;TZID=America/Detroit:20260518T090000
DTEND;TZID=America/Detroit:20260518T100000
DTSTAMP:20260425T062824
CREATED:20241209T142712Z
LAST-MODIFIED:20241209T142712Z
UID:10003701-1779094800-1779098400@shbcfamily.com
SUMMARY:Aerobics
DESCRIPTION:
URL:https://shbcfamily.com/event/aerobics/2026-05-18/
END:VEVENT
BEGIN:VEVENT
DTSTART;TZID=America/Detroit:20260520T090000
DTEND;TZID=America/Detroit:20260520T100000
DTSTAMP:20260425T062824
CREATED:20241209T142712Z
LAST-MODIFIED:20241209T142712Z
UID:10003702-1779267600-1779271200@shbcfamily.com
SUMMARY:Aerobics
DESCRIPTION:
URL:https://shbcfamily.com/event/aerobics/2026-05-20/
END:VEVENT
BEGIN:VEVENT
DTSTART;TZID=America/Detroit:20260520T190000
DTEND;TZID=America/Detroit:20260520T200000
DTSTAMP:20260425T062824
CREATED:20241209T143548Z
LAST-MODIFIED:20241209T143548Z
UID:10003841-1779303600-1779307200@shbcfamily.com
SUMMARY:Prayer Meeting
DESCRIPTION:
URL:https://shbcfamily.com/event/prayer-meeting-18/2026-05-20/
END:VEVENT
BEGIN:VEVENT
DTSTART;TZID=America/Detroit:20260524T083000
DTEND;TZID=America/Detroit:20260524T093000
DTSTAMP:20260425T062824
CREATED:20260113T145327Z
LAST-MODIFIED:20260113T145327Z
UID:10004209-1779611400-1779615000@shbcfamily.com
SUMMARY:Worship Service
DESCRIPTION:
URL:https://shbcfamily.com/event/worship-service-35/2026-05-24/
END:VEVENT
BEGIN:VEVENT
DTSTART;TZID=America/Detroit:20260524T094500
DTEND;TZID=America/Detroit:20260524T104500
DTSTAMP:20260425T062824
CREATED:20260113T145202Z
LAST-MODIFIED:20260113T145202Z
UID:10004139-1779615900-1779619500@shbcfamily.com
SUMMARY:ABF/SS
DESCRIPTION:
URL:https://shbcfamily.com/event/abf-ss-12/2026-05-24/
END:VEVENT
BEGIN:VEVENT
DTSTART;TZID=America/Detroit:20260524T110000
DTEND;TZID=America/Detroit:20260524T123000
DTSTAMP:20260425T062824
CREATED:20260113T145435Z
LAST-MODIFIED:20260113T145435Z
UID:10004279-1779620400-1779625800@shbcfamily.com
SUMMARY:Worship Service
DESCRIPTION:
URL:https://shbcfamily.com/event/worship-service-36/2026-05-24/
END:VEVENT
BEGIN:VEVENT
DTSTART;TZID=America/Detroit:20260524T180000
DTEND;TZID=America/Detroit:20260524T190000
DTSTAMP:20260425T062824
CREATED:20260113T145546Z
LAST-MODIFIED:20260113T145546Z
UID:10004347-1779645600-1779649200@shbcfamily.com
SUMMARY:Equip
DESCRIPTION:
URL:https://shbcfamily.com/event/equip-2/2026-05-24/
END:VEVENT
BEGIN:VEVENT
DTSTART;TZID=America/Detroit:20260525T090000
DTEND;TZID=America/Detroit:20260525T100000
DTSTAMP:20260425T062824
CREATED:20241209T142712Z
LAST-MODIFIED:20241209T142712Z
UID:10003703-1779699600-1779703200@shbcfamily.com
SUMMARY:Aerobics
DESCRIPTION:
URL:https://shbcfamily.com/event/aerobics/2026-05-25/
END:VEVENT
BEGIN:VEVENT
DTSTART;TZID=America/Detroit:20260527T090000
DTEND;TZID=America/Detroit:20260527T100000
DTSTAMP:20260425T062824
CREATED:20241209T142712Z
LAST-MODIFIED:20241209T142712Z
UID:10003704-1779872400-1779876000@shbcfamily.com
SUMMARY:Aerobics
DESCRIPTION:
URL:https://shbcfamily.com/event/aerobics/2026-05-27/
END:VEVENT
BEGIN:VEVENT
DTSTART;TZID=America/Detroit:20260527T190000
DTEND;TZID=America/Detroit:20260527T200000
DTSTAMP:20260425T062824
CREATED:20241209T143548Z
LAST-MODIFIED:20241209T143548Z
UID:10003842-1779908400-1779912000@shbcfamily.com
SUMMARY:Prayer Meeting
DESCRIPTION:
URL:https://shbcfamily.com/event/prayer-meeting-18/2026-05-27/
END:VEVENT
BEGIN:VEVENT
DTSTART;TZID=America/Detroit:20260531T083000
DTEND;TZID=America/Detroit:20260531T093000
DTSTAMP:20260425T062824
CREATED:20260113T145327Z
LAST-MODIFIED:20260113T145327Z
UID:10004210-1780216200-1780219800@shbcfamily.com
SUMMARY:Worship Service
DESCRIPTION:
URL:https://shbcfamily.com/event/worship-service-35/2026-05-31/
END:VEVENT
BEGIN:VEVENT
DTSTART;TZID=America/Detroit:20260531T094500
DTEND;TZID=America/Detroit:20260531T104500
DTSTAMP:20260425T062824
CREATED:20260113T145202Z
LAST-MODIFIED:20260113T145202Z
UID:10004140-1780220700-1780224300@shbcfamily.com
SUMMARY:ABF/SS
DESCRIPTION:
URL:https://shbcfamily.com/event/abf-ss-12/2026-05-31/
END:VEVENT
BEGIN:VEVENT
DTSTART;TZID=America/Detroit:20260531T110000
DTEND;TZID=America/Detroit:20260531T123000
DTSTAMP:20260425T062824
CREATED:20260113T145435Z
LAST-MODIFIED:20260113T145435Z
UID:10004280-1780225200-1780230600@shbcfamily.com
SUMMARY:Worship Service
DESCRIPTION:
URL:https://shbcfamily.com/event/worship-service-36/2026-05-31/
END:VEVENT
BEGIN:VEVENT
DTSTART;TZID=America/Detroit:20260531T180000
DTEND;TZID=America/Detroit:20260531T190000
DTSTAMP:20260425T062824
CREATED:20260113T145546Z
LAST-MODIFIED:20260113T145546Z
UID:10004348-1780250400-1780254000@shbcfamily.com
SUMMARY:Equip
DESCRIPTION:
URL:https://shbcfamily.com/event/equip-2/2026-05-31/
END:VEVENT
BEGIN:VEVENT
DTSTART;TZID=America/Detroit:20260601T090000
DTEND;TZID=America/Detroit:20260601T100000
DTSTAMP:20260425T062824
CREATED:20241209T142712Z
LAST-MODIFIED:20241209T142712Z
UID:10003705-1780304400-1780308000@shbcfamily.com
SUMMARY:Aerobics
DESCRIPTION:
URL:https://shbcfamily.com/event/aerobics/2026-06-01/
END:VEVENT
BEGIN:VEVENT
DTSTART;TZID=America/Detroit:20260603T090000
DTEND;TZID=America/Detroit:20260603T100000
DTSTAMP:20260425T062824
CREATED:20241209T142712Z
LAST-MODIFIED:20241209T142712Z
UID:10003706-1780477200-1780480800@shbcfamily.com
SUMMARY:Aerobics
DESCRIPTION:
URL:https://shbcfamily.com/event/aerobics/2026-06-03/
END:VEVENT
BEGIN:VEVENT
DTSTART;TZID=America/Detroit:20260603T190000
DTEND;TZID=America/Detroit:20260603T200000
DTSTAMP:20260425T062824
CREATED:20241209T143548Z
LAST-MODIFIED:20241209T143548Z
UID:10003843-1780513200-1780516800@shbcfamily.com
SUMMARY:Prayer Meeting
DESCRIPTION:
URL:https://shbcfamily.com/event/prayer-meeting-18/2026-06-03/
END:VEVENT
BEGIN:VEVENT
DTSTART;TZID=America/Detroit:20260607T083000
DTEND;TZID=America/Detroit:20260607T093000
DTSTAMP:20260425T062824
CREATED:20260113T145327Z
LAST-MODIFIED:20260113T145327Z
UID:10004211-1780821000-1780824600@shbcfamily.com
SUMMARY:Worship Service
DESCRIPTION:
URL:https://shbcfamily.com/event/worship-service-35/2026-06-07/
END:VEVENT
BEGIN:VEVENT
DTSTART;TZID=America/Detroit:20260607T094500
DTEND;TZID=America/Detroit:20260607T104500
DTSTAMP:20260425T062824
CREATED:20260113T145202Z
LAST-MODIFIED:20260113T145202Z
UID:10004141-1780825500-1780829100@shbcfamily.com
SUMMARY:ABF/SS
DESCRIPTION:
URL:https://shbcfamily.com/event/abf-ss-12/2026-06-07/
END:VEVENT
END:VCALENDAR