BEGIN:VCALENDAR
VERSION:2.0
PRODID:-//Shawnee Hills Baptist Church - ECPv6.15.20//NONSGML v1.0//EN
CALSCALE:GREGORIAN
METHOD:PUBLISH
X-WR-CALNAME:Shawnee Hills Baptist Church
X-ORIGINAL-URL:https://shbcfamily.com
X-WR-CALDESC:Events for Shawnee Hills Baptist Church
REFRESH-INTERVAL;VALUE=DURATION:PT1H
X-Robots-Tag:noindex
X-PUBLISHED-TTL:PT1H
BEGIN:VTIMEZONE
TZID:America/Detroit
BEGIN:DAYLIGHT
TZOFFSETFROM:-0500
TZOFFSETTO:-0400
TZNAME:EDT
DTSTART:20240310T070000
END:DAYLIGHT
BEGIN:STANDARD
TZOFFSETFROM:-0400
TZOFFSETTO:-0500
TZNAME:EST
DTSTART:20241103T060000
END:STANDARD
BEGIN:DAYLIGHT
TZOFFSETFROM:-0500
TZOFFSETTO:-0400
TZNAME:EDT
DTSTART:20250309T070000
END:DAYLIGHT
BEGIN:STANDARD
TZOFFSETFROM:-0400
TZOFFSETTO:-0500
TZNAME:EST
DTSTART:20251102T060000
END:STANDARD
BEGIN:DAYLIGHT
TZOFFSETFROM:-0500
TZOFFSETTO:-0400
TZNAME:EDT
DTSTART:20260308T070000
END:DAYLIGHT
BEGIN:STANDARD
TZOFFSETFROM:-0400
TZOFFSETTO:-0500
TZNAME:EST
DTSTART:20261101T060000
END:STANDARD
END:VTIMEZONE
BEGIN:VEVENT
DTSTART;TZID=America/Detroit:20250519T090000
DTEND;TZID=America/Detroit:20250519T100000
DTSTAMP:20260425T124727
CREATED:20241209T142712Z
LAST-MODIFIED:20241209T142712Z
UID:10003597-1747645200-1747648800@shbcfamily.com
SUMMARY:Aerobics
DESCRIPTION:
URL:https://shbcfamily.com/event/aerobics/2025-05-19/
END:VEVENT
BEGIN:VEVENT
DTSTART;TZID=America/Detroit:20250518T110000
DTEND;TZID=America/Detroit:20250518T123000
DTSTAMP:20260425T124727
CREATED:20241209T140921Z
LAST-MODIFIED:20241209T140921Z
UID:10003440-1747566000-1747571400@shbcfamily.com
SUMMARY:Worship Service
DESCRIPTION:
URL:https://shbcfamily.com/event/worship-service-31/2025-05-18/
END:VEVENT
BEGIN:VEVENT
DTSTART;TZID=America/Detroit:20250514T190000
DTEND;TZID=America/Detroit:20250514T200000
DTSTAMP:20260425T124727
CREATED:20241209T143548Z
LAST-MODIFIED:20241209T143548Z
UID:10003788-1747249200-1747252800@shbcfamily.com
SUMMARY:Prayer Meeting
DESCRIPTION:
URL:https://shbcfamily.com/event/prayer-meeting-18/2025-05-14/
END:VEVENT
BEGIN:VEVENT
DTSTART;TZID=America/Detroit:20250514T090000
DTEND;TZID=America/Detroit:20250514T100000
DTSTAMP:20260425T124727
CREATED:20241209T142712Z
LAST-MODIFIED:20241209T142712Z
UID:10003596-1747213200-1747216800@shbcfamily.com
SUMMARY:Aerobics
DESCRIPTION:
URL:https://shbcfamily.com/event/aerobics/2025-05-14/
END:VEVENT
BEGIN:VEVENT
DTSTART;TZID=America/Detroit:20250513T150000
DTEND;TZID=America/Detroit:20250513T190000
DTSTAMP:20260425T124727
CREATED:20241209T143117Z
LAST-MODIFIED:20241209T143117Z
UID:10003766-1747148400-1747162800@shbcfamily.com
SUMMARY:Community Blood Drive
DESCRIPTION:
URL:https://shbcfamily.com/event/community-blood-drive-25/
END:VEVENT
BEGIN:VEVENT
DTSTART;TZID=America/Detroit:20250512T090000
DTEND;TZID=America/Detroit:20250512T100000
DTSTAMP:20260425T124727
CREATED:20241209T142712Z
LAST-MODIFIED:20241209T142712Z
UID:10003595-1747040400-1747044000@shbcfamily.com
SUMMARY:Aerobics
DESCRIPTION:
URL:https://shbcfamily.com/event/aerobics/2025-05-12/
END:VEVENT
BEGIN:VEVENT
DTSTART;TZID=America/Detroit:20250511T110000
DTEND;TZID=America/Detroit:20250511T123000
DTSTAMP:20260425T124727
CREATED:20241209T140921Z
LAST-MODIFIED:20241209T140921Z
UID:10003439-1746961200-1746966600@shbcfamily.com
SUMMARY:Worship Service
DESCRIPTION:
URL:https://shbcfamily.com/event/worship-service-31/2025-05-11/
END:VEVENT
BEGIN:VEVENT
DTSTART;TZID=America/Detroit:20250507T190000
DTEND;TZID=America/Detroit:20250507T200000
DTSTAMP:20260425T124727
CREATED:20241209T143548Z
LAST-MODIFIED:20241209T143548Z
UID:10003787-1746644400-1746648000@shbcfamily.com
SUMMARY:Prayer Meeting
DESCRIPTION:
URL:https://shbcfamily.com/event/prayer-meeting-18/2025-05-07/
END:VEVENT
BEGIN:VEVENT
DTSTART;TZID=America/Detroit:20250507T090000
DTEND;TZID=America/Detroit:20250507T100000
DTSTAMP:20260425T124727
CREATED:20241209T142712Z
LAST-MODIFIED:20241209T142712Z
UID:10003594-1746608400-1746612000@shbcfamily.com
SUMMARY:Aerobics
DESCRIPTION:
URL:https://shbcfamily.com/event/aerobics/2025-05-07/
END:VEVENT
BEGIN:VEVENT
DTSTART;TZID=America/Detroit:20250505T090000
DTEND;TZID=America/Detroit:20250505T100000
DTSTAMP:20260425T124727
CREATED:20241209T142712Z
LAST-MODIFIED:20241209T142712Z
UID:10003593-1746435600-1746439200@shbcfamily.com
SUMMARY:Aerobics
DESCRIPTION:
URL:https://shbcfamily.com/event/aerobics/2025-05-05/
END:VEVENT
BEGIN:VEVENT
DTSTART;TZID=America/Detroit:20250504T110000
DTEND;TZID=America/Detroit:20250504T123000
DTSTAMP:20260425T124727
CREATED:20241209T140921Z
LAST-MODIFIED:20241209T140921Z
UID:10003438-1746356400-1746361800@shbcfamily.com
SUMMARY:Worship Service
DESCRIPTION:
URL:https://shbcfamily.com/event/worship-service-31/2025-05-04/
END:VEVENT
BEGIN:VEVENT
DTSTART;TZID=America/Detroit:20250430T190000
DTEND;TZID=America/Detroit:20250430T200000
DTSTAMP:20260425T124727
CREATED:20241209T143548Z
LAST-MODIFIED:20241209T143548Z
UID:10003786-1746039600-1746043200@shbcfamily.com
SUMMARY:Prayer Meeting
DESCRIPTION:
URL:https://shbcfamily.com/event/prayer-meeting-18/2025-04-30/
END:VEVENT
BEGIN:VEVENT
DTSTART;TZID=America/Detroit:20250430T183000
DTEND;TZID=America/Detroit:20250430T200000
DTSTAMP:20260425T124727
CREATED:20240729T150005Z
LAST-MODIFIED:20240729T150005Z
UID:10001936-1746037800-1746043200@shbcfamily.com
SUMMARY:AWANA
DESCRIPTION:
URL:https://shbcfamily.com/event/awana-10/2025-04-30/
END:VEVENT
BEGIN:VEVENT
DTSTART;TZID=America/Detroit:20250430T090000
DTEND;TZID=America/Detroit:20250430T100000
DTSTAMP:20260425T124727
CREATED:20241209T142712Z
LAST-MODIFIED:20241209T142712Z
UID:10003592-1746003600-1746007200@shbcfamily.com
SUMMARY:Aerobics
DESCRIPTION:
URL:https://shbcfamily.com/event/aerobics/2025-04-30/
END:VEVENT
BEGIN:VEVENT
DTSTART;TZID=America/Detroit:20250428T090000
DTEND;TZID=America/Detroit:20250428T100000
DTSTAMP:20260425T124727
CREATED:20241209T142712Z
LAST-MODIFIED:20241209T142712Z
UID:10003591-1745830800-1745834400@shbcfamily.com
SUMMARY:Aerobics
DESCRIPTION:
URL:https://shbcfamily.com/event/aerobics/2025-04-28/
END:VEVENT
BEGIN:VEVENT
DTSTART;TZID=America/Detroit:20250427T110000
DTEND;TZID=America/Detroit:20250427T123000
DTSTAMP:20260425T124727
CREATED:20241209T140921Z
LAST-MODIFIED:20241209T140921Z
UID:10003437-1745751600-1745757000@shbcfamily.com
SUMMARY:Worship Service
DESCRIPTION:
URL:https://shbcfamily.com/event/worship-service-31/2025-04-27/
END:VEVENT
BEGIN:VEVENT
DTSTART;TZID=America/Detroit:20250423T190000
DTEND;TZID=America/Detroit:20250423T200000
DTSTAMP:20260425T124727
CREATED:20241209T143548Z
LAST-MODIFIED:20241209T143548Z
UID:10003785-1745434800-1745438400@shbcfamily.com
SUMMARY:Prayer Meeting
DESCRIPTION:
URL:https://shbcfamily.com/event/prayer-meeting-18/2025-04-23/
END:VEVENT
BEGIN:VEVENT
DTSTART;TZID=America/Detroit:20250423T183000
DTEND;TZID=America/Detroit:20250423T200000
DTSTAMP:20260425T124727
CREATED:20240729T150005Z
LAST-MODIFIED:20240729T150005Z
UID:10001935-1745433000-1745438400@shbcfamily.com
SUMMARY:AWANA
DESCRIPTION:
URL:https://shbcfamily.com/event/awana-10/2025-04-23/
END:VEVENT
BEGIN:VEVENT
DTSTART;TZID=America/Detroit:20250423T090000
DTEND;TZID=America/Detroit:20250423T100000
DTSTAMP:20260425T124727
CREATED:20241209T142712Z
LAST-MODIFIED:20241209T142712Z
UID:10003590-1745398800-1745402400@shbcfamily.com
SUMMARY:Aerobics
DESCRIPTION:
URL:https://shbcfamily.com/event/aerobics/2025-04-23/
END:VEVENT
BEGIN:VEVENT
DTSTART;TZID=America/Detroit:20250421T090000
DTEND;TZID=America/Detroit:20250421T100000
DTSTAMP:20260425T124727
CREATED:20241209T142712Z
LAST-MODIFIED:20241209T142712Z
UID:10003589-1745226000-1745229600@shbcfamily.com
SUMMARY:Aerobics
DESCRIPTION:
URL:https://shbcfamily.com/event/aerobics/2025-04-21/
END:VEVENT
BEGIN:VEVENT
DTSTART;TZID=America/Detroit:20250420T110000
DTEND;TZID=America/Detroit:20250420T123000
DTSTAMP:20260425T124727
CREATED:20241209T140921Z
LAST-MODIFIED:20241209T140921Z
UID:10003436-1745146800-1745152200@shbcfamily.com
SUMMARY:Worship Service
DESCRIPTION:
URL:https://shbcfamily.com/event/worship-service-31/2025-04-20/
END:VEVENT
BEGIN:VEVENT
DTSTART;TZID=America/Detroit:20250416T190000
DTEND;TZID=America/Detroit:20250416T200000
DTSTAMP:20260425T124727
CREATED:20241209T143548Z
LAST-MODIFIED:20241209T143548Z
UID:10003784-1744830000-1744833600@shbcfamily.com
SUMMARY:Prayer Meeting
DESCRIPTION:
URL:https://shbcfamily.com/event/prayer-meeting-18/2025-04-16/
END:VEVENT
BEGIN:VEVENT
DTSTART;TZID=America/Detroit:20250416T183000
DTEND;TZID=America/Detroit:20250416T200000
DTSTAMP:20260425T124727
CREATED:20240729T150005Z
LAST-MODIFIED:20240729T150005Z
UID:10001934-1744828200-1744833600@shbcfamily.com
SUMMARY:AWANA
DESCRIPTION:
URL:https://shbcfamily.com/event/awana-10/2025-04-16/
END:VEVENT
BEGIN:VEVENT
DTSTART;TZID=America/Detroit:20250416T090000
DTEND;TZID=America/Detroit:20250416T100000
DTSTAMP:20260425T124727
CREATED:20241209T142712Z
LAST-MODIFIED:20241209T142712Z
UID:10003588-1744794000-1744797600@shbcfamily.com
SUMMARY:Aerobics
DESCRIPTION:
URL:https://shbcfamily.com/event/aerobics/2025-04-16/
END:VEVENT
BEGIN:VEVENT
DTSTART;TZID=America/Detroit:20250414T090000
DTEND;TZID=America/Detroit:20250414T100000
DTSTAMP:20260425T124727
CREATED:20241209T142712Z
LAST-MODIFIED:20241209T142712Z
UID:10003587-1744621200-1744624800@shbcfamily.com
SUMMARY:Aerobics
DESCRIPTION:
URL:https://shbcfamily.com/event/aerobics/2025-04-14/
END:VEVENT
BEGIN:VEVENT
DTSTART;TZID=America/Detroit:20250413T110000
DTEND;TZID=America/Detroit:20250413T123000
DTSTAMP:20260425T124727
CREATED:20241209T140921Z
LAST-MODIFIED:20241209T140921Z
UID:10003435-1744542000-1744547400@shbcfamily.com
SUMMARY:Worship Service
DESCRIPTION:
URL:https://shbcfamily.com/event/worship-service-31/2025-04-13/
END:VEVENT
BEGIN:VEVENT
DTSTART;TZID=America/Detroit:20250409T190000
DTEND;TZID=America/Detroit:20250409T200000
DTSTAMP:20260425T124727
CREATED:20241209T143548Z
LAST-MODIFIED:20241209T143548Z
UID:10003783-1744225200-1744228800@shbcfamily.com
SUMMARY:Prayer Meeting
DESCRIPTION:
URL:https://shbcfamily.com/event/prayer-meeting-18/2025-04-09/
END:VEVENT
BEGIN:VEVENT
DTSTART;TZID=America/Detroit:20250409T183000
DTEND;TZID=America/Detroit:20250409T200000
DTSTAMP:20260425T124727
CREATED:20240729T150005Z
LAST-MODIFIED:20240729T150005Z
UID:10001933-1744223400-1744228800@shbcfamily.com
SUMMARY:AWANA
DESCRIPTION:
URL:https://shbcfamily.com/event/awana-10/2025-04-09/
END:VEVENT
BEGIN:VEVENT
DTSTART;TZID=America/Detroit:20250409T090000
DTEND;TZID=America/Detroit:20250409T100000
DTSTAMP:20260425T124727
CREATED:20241209T142712Z
LAST-MODIFIED:20241209T142712Z
UID:10003586-1744189200-1744192800@shbcfamily.com
SUMMARY:Aerobics
DESCRIPTION:
URL:https://shbcfamily.com/event/aerobics/2025-04-09/
END:VEVENT
BEGIN:VEVENT
DTSTART;TZID=America/Detroit:20250407T090000
DTEND;TZID=America/Detroit:20250407T100000
DTSTAMP:20260425T124727
CREATED:20241209T142712Z
LAST-MODIFIED:20241209T142712Z
UID:10003585-1744016400-1744020000@shbcfamily.com
SUMMARY:Aerobics
DESCRIPTION:
URL:https://shbcfamily.com/event/aerobics/2025-04-07/
END:VEVENT
END:VCALENDAR