BEGIN:VCALENDAR
VERSION:2.0
PRODID:-//Shawnee Hills Baptist Church - ECPv6.15.20//NONSGML v1.0//EN
CALSCALE:GREGORIAN
METHOD:PUBLISH
X-ORIGINAL-URL:https://shbcfamily.com
X-WR-CALDESC:Events for Shawnee Hills Baptist Church
REFRESH-INTERVAL;VALUE=DURATION:PT1H
X-Robots-Tag:noindex
X-PUBLISHED-TTL:PT1H
BEGIN:VTIMEZONE
TZID:America/Detroit
BEGIN:DAYLIGHT
TZOFFSETFROM:-0500
TZOFFSETTO:-0400
TZNAME:EDT
DTSTART:20240310T070000
END:DAYLIGHT
BEGIN:STANDARD
TZOFFSETFROM:-0400
TZOFFSETTO:-0500
TZNAME:EST
DTSTART:20241103T060000
END:STANDARD
BEGIN:DAYLIGHT
TZOFFSETFROM:-0500
TZOFFSETTO:-0400
TZNAME:EDT
DTSTART:20250309T070000
END:DAYLIGHT
BEGIN:STANDARD
TZOFFSETFROM:-0400
TZOFFSETTO:-0500
TZNAME:EST
DTSTART:20251102T060000
END:STANDARD
BEGIN:DAYLIGHT
TZOFFSETFROM:-0500
TZOFFSETTO:-0400
TZNAME:EDT
DTSTART:20260308T070000
END:DAYLIGHT
BEGIN:STANDARD
TZOFFSETFROM:-0400
TZOFFSETTO:-0500
TZNAME:EST
DTSTART:20261101T060000
END:STANDARD
END:VTIMEZONE
BEGIN:VEVENT
DTSTART;TZID=America/Detroit:20251117T090000
DTEND;TZID=America/Detroit:20251117T100000
DTSTAMP:20260425T072809
CREATED:20241209T142712Z
LAST-MODIFIED:20241209T142712Z
UID:10003649-1763370000-1763373600@shbcfamily.com
SUMMARY:Aerobics
DESCRIPTION:
URL:https://shbcfamily.com/event/aerobics/2025-11-17/
END:VEVENT
BEGIN:VEVENT
DTSTART;TZID=America/Detroit:20251116T180000
DTEND;TZID=America/Detroit:20251116T193000
DTSTAMP:20260425T072809
CREATED:20250702T195348Z
LAST-MODIFIED:20250702T195348Z
UID:10004103-1763316000-1763321400@shbcfamily.com
SUMMARY:EQUIP
DESCRIPTION:
URL:https://shbcfamily.com/event/equip/2025-11-16/
END:VEVENT
BEGIN:VEVENT
DTSTART;TZID=America/Detroit:20251116T110000
DTEND;TZID=America/Detroit:20251116T123000
DTSTAMP:20260425T072809
CREATED:20250702T194914Z
LAST-MODIFIED:20250702T194914Z
UID:10004079-1763290800-1763296200@shbcfamily.com
SUMMARY:Worship Service
DESCRIPTION:
URL:https://shbcfamily.com/event/worship-service-33/2025-11-16/
END:VEVENT
BEGIN:VEVENT
DTSTART;TZID=America/Detroit:20251116T094500
DTEND;TZID=America/Detroit:20251116T104500
DTSTAMP:20260425T072809
CREATED:20250702T194807Z
LAST-MODIFIED:20250702T194807Z
UID:10004067-1763286300-1763289900@shbcfamily.com
SUMMARY:ABF/SS
DESCRIPTION:
URL:https://shbcfamily.com/event/abf-ss-10/2025-11-16/
END:VEVENT
BEGIN:VEVENT
DTSTART;TZID=America/Detroit:20251116T083000
DTEND;TZID=America/Detroit:20251116T093000
DTSTAMP:20260425T072809
CREATED:20250702T194643Z
LAST-MODIFIED:20250702T194643Z
UID:10004055-1763281800-1763285400@shbcfamily.com
SUMMARY:Worship Service
DESCRIPTION:
URL:https://shbcfamily.com/event/worship-service-32/2025-11-16/
END:VEVENT
BEGIN:VEVENT
DTSTART;TZID=America/Detroit:20251112T190000
DTEND;TZID=America/Detroit:20251112T200000
DTSTAMP:20260425T072809
CREATED:20241209T143548Z
LAST-MODIFIED:20241209T143548Z
UID:10003814-1762974000-1762977600@shbcfamily.com
SUMMARY:Prayer Meeting
DESCRIPTION:
URL:https://shbcfamily.com/event/prayer-meeting-18/2025-11-12/
END:VEVENT
BEGIN:VEVENT
DTSTART;TZID=America/Detroit:20251112T183000
DTEND;TZID=America/Detroit:20251112T200000
DTSTAMP:20260425T072809
CREATED:20250702T195045Z
LAST-MODIFIED:20250702T195045Z
UID:10004088-1762972200-1762977600@shbcfamily.com
SUMMARY:AWANA
DESCRIPTION:
URL:https://shbcfamily.com/event/awana-13/2025-11-12/
END:VEVENT
BEGIN:VEVENT
DTSTART;TZID=America/Detroit:20251112T090000
DTEND;TZID=America/Detroit:20251112T100000
DTSTAMP:20260425T072809
CREATED:20241209T142712Z
LAST-MODIFIED:20241209T142712Z
UID:10003648-1762938000-1762941600@shbcfamily.com
SUMMARY:Aerobics
DESCRIPTION:
URL:https://shbcfamily.com/event/aerobics/2025-11-12/
END:VEVENT
BEGIN:VEVENT
DTSTART;TZID=America/Detroit:20251110T090000
DTEND;TZID=America/Detroit:20251110T100000
DTSTAMP:20260425T072809
CREATED:20241209T142712Z
LAST-MODIFIED:20241209T142712Z
UID:10003647-1762765200-1762768800@shbcfamily.com
SUMMARY:Aerobics
DESCRIPTION:
URL:https://shbcfamily.com/event/aerobics/2025-11-10/
END:VEVENT
BEGIN:VEVENT
DTSTART;TZID=America/Detroit:20251109T180000
DTEND;TZID=America/Detroit:20251109T193000
DTSTAMP:20260425T072809
CREATED:20250702T195348Z
LAST-MODIFIED:20250702T195348Z
UID:10004102-1762711200-1762716600@shbcfamily.com
SUMMARY:EQUIP
DESCRIPTION:
URL:https://shbcfamily.com/event/equip/2025-11-09/
END:VEVENT
BEGIN:VEVENT
DTSTART;TZID=America/Detroit:20251109T110000
DTEND;TZID=America/Detroit:20251109T123000
DTSTAMP:20260425T072809
CREATED:20250702T194914Z
LAST-MODIFIED:20250702T194914Z
UID:10004078-1762686000-1762691400@shbcfamily.com
SUMMARY:Worship Service
DESCRIPTION:
URL:https://shbcfamily.com/event/worship-service-33/2025-11-09/
END:VEVENT
BEGIN:VEVENT
DTSTART;TZID=America/Detroit:20251109T094500
DTEND;TZID=America/Detroit:20251109T104500
DTSTAMP:20260425T072809
CREATED:20250702T194807Z
LAST-MODIFIED:20250702T194807Z
UID:10004066-1762681500-1762685100@shbcfamily.com
SUMMARY:ABF/SS
DESCRIPTION:
URL:https://shbcfamily.com/event/abf-ss-10/2025-11-09/
END:VEVENT
BEGIN:VEVENT
DTSTART;TZID=America/Detroit:20251109T083000
DTEND;TZID=America/Detroit:20251109T093000
DTSTAMP:20260425T072809
CREATED:20250702T194643Z
LAST-MODIFIED:20250702T194643Z
UID:10004054-1762677000-1762680600@shbcfamily.com
SUMMARY:Worship Service
DESCRIPTION:
URL:https://shbcfamily.com/event/worship-service-32/2025-11-09/
END:VEVENT
BEGIN:VEVENT
DTSTART;TZID=America/Detroit:20251105T190000
DTEND;TZID=America/Detroit:20251105T200000
DTSTAMP:20260425T072809
CREATED:20241209T143548Z
LAST-MODIFIED:20241209T143548Z
UID:10003813-1762369200-1762372800@shbcfamily.com
SUMMARY:Prayer Meeting
DESCRIPTION:
URL:https://shbcfamily.com/event/prayer-meeting-18/2025-11-05/
END:VEVENT
BEGIN:VEVENT
DTSTART;TZID=America/Detroit:20251105T183000
DTEND;TZID=America/Detroit:20251105T200000
DTSTAMP:20260425T072809
CREATED:20250702T195045Z
LAST-MODIFIED:20250702T195045Z
UID:10004087-1762367400-1762372800@shbcfamily.com
SUMMARY:AWANA
DESCRIPTION:
URL:https://shbcfamily.com/event/awana-13/2025-11-05/
END:VEVENT
BEGIN:VEVENT
DTSTART;TZID=America/Detroit:20251105T090000
DTEND;TZID=America/Detroit:20251105T100000
DTSTAMP:20260425T072809
CREATED:20241209T142712Z
LAST-MODIFIED:20241209T142712Z
UID:10003646-1762333200-1762336800@shbcfamily.com
SUMMARY:Aerobics
DESCRIPTION:
URL:https://shbcfamily.com/event/aerobics/2025-11-05/
END:VEVENT
BEGIN:VEVENT
DTSTART;TZID=America/Detroit:20251103T090000
DTEND;TZID=America/Detroit:20251103T100000
DTSTAMP:20260425T072809
CREATED:20241209T142712Z
LAST-MODIFIED:20241209T142712Z
UID:10003645-1762160400-1762164000@shbcfamily.com
SUMMARY:Aerobics
DESCRIPTION:
URL:https://shbcfamily.com/event/aerobics/2025-11-03/
END:VEVENT
BEGIN:VEVENT
DTSTART;TZID=America/Detroit:20251102T180000
DTEND;TZID=America/Detroit:20251102T193000
DTSTAMP:20260425T072809
CREATED:20250702T195348Z
LAST-MODIFIED:20250702T195348Z
UID:10004101-1762106400-1762111800@shbcfamily.com
SUMMARY:EQUIP
DESCRIPTION:
URL:https://shbcfamily.com/event/equip/2025-11-02/
END:VEVENT
BEGIN:VEVENT
DTSTART;TZID=America/Detroit:20251102T110000
DTEND;TZID=America/Detroit:20251102T123000
DTSTAMP:20260425T072809
CREATED:20250702T194914Z
LAST-MODIFIED:20250702T194914Z
UID:10004077-1762081200-1762086600@shbcfamily.com
SUMMARY:Worship Service
DESCRIPTION:
URL:https://shbcfamily.com/event/worship-service-33/2025-11-02/
END:VEVENT
BEGIN:VEVENT
DTSTART;TZID=America/Detroit:20251102T094500
DTEND;TZID=America/Detroit:20251102T104500
DTSTAMP:20260425T072809
CREATED:20250702T194807Z
LAST-MODIFIED:20250702T194807Z
UID:10004065-1762076700-1762080300@shbcfamily.com
SUMMARY:ABF/SS
DESCRIPTION:
URL:https://shbcfamily.com/event/abf-ss-10/2025-11-02/
END:VEVENT
BEGIN:VEVENT
DTSTART;TZID=America/Detroit:20251102T083000
DTEND;TZID=America/Detroit:20251102T093000
DTSTAMP:20260425T072809
CREATED:20250702T194643Z
LAST-MODIFIED:20250702T194643Z
UID:10004053-1762072200-1762075800@shbcfamily.com
SUMMARY:Worship Service
DESCRIPTION:
URL:https://shbcfamily.com/event/worship-service-32/2025-11-02/
END:VEVENT
BEGIN:VEVENT
DTSTART;TZID=America/Detroit:20251029T190000
DTEND;TZID=America/Detroit:20251029T200000
DTSTAMP:20260425T072809
CREATED:20241209T143548Z
LAST-MODIFIED:20241209T143548Z
UID:10003812-1761764400-1761768000@shbcfamily.com
SUMMARY:Prayer Meeting
DESCRIPTION:
URL:https://shbcfamily.com/event/prayer-meeting-18/2025-10-29/
END:VEVENT
BEGIN:VEVENT
DTSTART;TZID=America/Detroit:20251029T183000
DTEND;TZID=America/Detroit:20251029T200000
DTSTAMP:20260425T072809
CREATED:20250702T195045Z
LAST-MODIFIED:20250702T195045Z
UID:10004086-1761762600-1761768000@shbcfamily.com
SUMMARY:AWANA
DESCRIPTION:
URL:https://shbcfamily.com/event/awana-13/2025-10-29/
END:VEVENT
BEGIN:VEVENT
DTSTART;TZID=America/Detroit:20251029T090000
DTEND;TZID=America/Detroit:20251029T100000
DTSTAMP:20260425T072809
CREATED:20241209T142712Z
LAST-MODIFIED:20241209T142712Z
UID:10003644-1761728400-1761732000@shbcfamily.com
SUMMARY:Aerobics
DESCRIPTION:
URL:https://shbcfamily.com/event/aerobics/2025-10-29/
END:VEVENT
BEGIN:VEVENT
DTSTART;TZID=America/Detroit:20251027T090000
DTEND;TZID=America/Detroit:20251027T100000
DTSTAMP:20260425T072809
CREATED:20241209T142712Z
LAST-MODIFIED:20241209T142712Z
UID:10003643-1761555600-1761559200@shbcfamily.com
SUMMARY:Aerobics
DESCRIPTION:
URL:https://shbcfamily.com/event/aerobics/2025-10-27/
END:VEVENT
BEGIN:VEVENT
DTSTART;TZID=America/Detroit:20251026T180000
DTEND;TZID=America/Detroit:20251026T193000
DTSTAMP:20260425T072809
CREATED:20250702T195348Z
LAST-MODIFIED:20250702T195348Z
UID:10004100-1761501600-1761507000@shbcfamily.com
SUMMARY:EQUIP
DESCRIPTION:
URL:https://shbcfamily.com/event/equip/2025-10-26/
END:VEVENT
BEGIN:VEVENT
DTSTART;TZID=America/Detroit:20251026T110000
DTEND;TZID=America/Detroit:20251026T123000
DTSTAMP:20260425T072810
CREATED:20250702T194914Z
LAST-MODIFIED:20250702T194914Z
UID:10004076-1761476400-1761481800@shbcfamily.com
SUMMARY:Worship Service
DESCRIPTION:
URL:https://shbcfamily.com/event/worship-service-33/2025-10-26/
END:VEVENT
BEGIN:VEVENT
DTSTART;TZID=America/Detroit:20251026T094500
DTEND;TZID=America/Detroit:20251026T104500
DTSTAMP:20260425T072810
CREATED:20250702T194807Z
LAST-MODIFIED:20250702T194807Z
UID:10004064-1761471900-1761475500@shbcfamily.com
SUMMARY:ABF/SS
DESCRIPTION:
URL:https://shbcfamily.com/event/abf-ss-10/2025-10-26/
END:VEVENT
BEGIN:VEVENT
DTSTART;TZID=America/Detroit:20251026T083000
DTEND;TZID=America/Detroit:20251026T093000
DTSTAMP:20260425T072810
CREATED:20250702T194643Z
LAST-MODIFIED:20250702T194643Z
UID:10004052-1761467400-1761471000@shbcfamily.com
SUMMARY:Worship Service
DESCRIPTION:
URL:https://shbcfamily.com/event/worship-service-32/2025-10-26/
END:VEVENT
BEGIN:VEVENT
DTSTART;TZID=America/Detroit:20251022T190000
DTEND;TZID=America/Detroit:20251022T200000
DTSTAMP:20260425T072810
CREATED:20241209T143548Z
LAST-MODIFIED:20241209T143548Z
UID:10003811-1761159600-1761163200@shbcfamily.com
SUMMARY:Prayer Meeting
DESCRIPTION:
URL:https://shbcfamily.com/event/prayer-meeting-18/2025-10-22/
END:VEVENT
END:VCALENDAR