BEGIN:VCALENDAR
VERSION:2.0
PRODID:-//Shawnee Hills Baptist Church - ECPv6.15.20//NONSGML v1.0//EN
CALSCALE:GREGORIAN
METHOD:PUBLISH
X-ORIGINAL-URL:https://shbcfamily.com
X-WR-CALDESC:Events for Shawnee Hills Baptist Church
REFRESH-INTERVAL;VALUE=DURATION:PT1H
X-Robots-Tag:noindex
X-PUBLISHED-TTL:PT1H
BEGIN:VTIMEZONE
TZID:America/Detroit
BEGIN:DAYLIGHT
TZOFFSETFROM:-0500
TZOFFSETTO:-0400
TZNAME:EDT
DTSTART:20250309T070000
END:DAYLIGHT
BEGIN:STANDARD
TZOFFSETFROM:-0400
TZOFFSETTO:-0500
TZNAME:EST
DTSTART:20251102T060000
END:STANDARD
BEGIN:DAYLIGHT
TZOFFSETFROM:-0500
TZOFFSETTO:-0400
TZNAME:EDT
DTSTART:20260308T070000
END:DAYLIGHT
BEGIN:STANDARD
TZOFFSETFROM:-0400
TZOFFSETTO:-0500
TZNAME:EST
DTSTART:20261101T060000
END:STANDARD
BEGIN:DAYLIGHT
TZOFFSETFROM:-0500
TZOFFSETTO:-0400
TZNAME:EDT
DTSTART:20270314T070000
END:DAYLIGHT
BEGIN:STANDARD
TZOFFSETFROM:-0400
TZOFFSETTO:-0500
TZNAME:EST
DTSTART:20271107T060000
END:STANDARD
END:VTIMEZONE
BEGIN:VEVENT
DTSTART;TZID=America/Detroit:20261101T094500
DTEND;TZID=America/Detroit:20261101T104500
DTSTAMP:20260425T121108
CREATED:20260113T145202Z
LAST-MODIFIED:20260113T145202Z
UID:10004162-1793526300-1793529900@shbcfamily.com
SUMMARY:ABF/SS
DESCRIPTION:
URL:https://shbcfamily.com/event/abf-ss-12/2026-11-01/
END:VEVENT
BEGIN:VEVENT
DTSTART;TZID=America/Detroit:20261101T110000
DTEND;TZID=America/Detroit:20261101T123000
DTSTAMP:20260425T121108
CREATED:20260113T145435Z
LAST-MODIFIED:20260113T145435Z
UID:10004302-1793530800-1793536200@shbcfamily.com
SUMMARY:Worship Service
DESCRIPTION:
URL:https://shbcfamily.com/event/worship-service-36/2026-11-01/
END:VEVENT
BEGIN:VEVENT
DTSTART;TZID=America/Detroit:20261101T180000
DTEND;TZID=America/Detroit:20261101T190000
DTSTAMP:20260425T121108
CREATED:20260113T145546Z
LAST-MODIFIED:20260113T145546Z
UID:10004370-1793556000-1793559600@shbcfamily.com
SUMMARY:Equip
DESCRIPTION:
URL:https://shbcfamily.com/event/equip-2/2026-11-01/
END:VEVENT
BEGIN:VEVENT
DTSTART;TZID=America/Detroit:20261102T090000
DTEND;TZID=America/Detroit:20261102T100000
DTSTAMP:20260425T121108
CREATED:20241209T142712Z
LAST-MODIFIED:20241209T142712Z
UID:10003749-1793610000-1793613600@shbcfamily.com
SUMMARY:Aerobics
DESCRIPTION:
URL:https://shbcfamily.com/event/aerobics/2026-11-02/
END:VEVENT
BEGIN:VEVENT
DTSTART;TZID=America/Detroit:20261104T090000
DTEND;TZID=America/Detroit:20261104T100000
DTSTAMP:20260425T121108
CREATED:20241209T142712Z
LAST-MODIFIED:20241209T142712Z
UID:10003750-1793782800-1793786400@shbcfamily.com
SUMMARY:Aerobics
DESCRIPTION:
URL:https://shbcfamily.com/event/aerobics/2026-11-04/
END:VEVENT
BEGIN:VEVENT
DTSTART;TZID=America/Detroit:20261104T190000
DTEND;TZID=America/Detroit:20261104T200000
DTSTAMP:20260425T121108
CREATED:20241209T143548Z
LAST-MODIFIED:20241209T143548Z
UID:10003865-1793818800-1793822400@shbcfamily.com
SUMMARY:Prayer Meeting
DESCRIPTION:
URL:https://shbcfamily.com/event/prayer-meeting-18/2026-11-04/
END:VEVENT
BEGIN:VEVENT
DTSTART;TZID=America/Detroit:20261108T083000
DTEND;TZID=America/Detroit:20261108T093000
DTSTAMP:20260425T121108
CREATED:20260113T145327Z
LAST-MODIFIED:20260113T145327Z
UID:10004233-1794126600-1794130200@shbcfamily.com
SUMMARY:Worship Service
DESCRIPTION:
URL:https://shbcfamily.com/event/worship-service-35/2026-11-08/
END:VEVENT
BEGIN:VEVENT
DTSTART;TZID=America/Detroit:20261108T094500
DTEND;TZID=America/Detroit:20261108T104500
DTSTAMP:20260425T121108
CREATED:20260113T145202Z
LAST-MODIFIED:20260113T145202Z
UID:10004163-1794131100-1794134700@shbcfamily.com
SUMMARY:ABF/SS
DESCRIPTION:
URL:https://shbcfamily.com/event/abf-ss-12/2026-11-08/
END:VEVENT
BEGIN:VEVENT
DTSTART;TZID=America/Detroit:20261108T110000
DTEND;TZID=America/Detroit:20261108T123000
DTSTAMP:20260425T121108
CREATED:20260113T145435Z
LAST-MODIFIED:20260113T145435Z
UID:10004303-1794135600-1794141000@shbcfamily.com
SUMMARY:Worship Service
DESCRIPTION:
URL:https://shbcfamily.com/event/worship-service-36/2026-11-08/
END:VEVENT
BEGIN:VEVENT
DTSTART;TZID=America/Detroit:20261108T180000
DTEND;TZID=America/Detroit:20261108T190000
DTSTAMP:20260425T121108
CREATED:20260113T145546Z
LAST-MODIFIED:20260113T145546Z
UID:10004371-1794160800-1794164400@shbcfamily.com
SUMMARY:Equip
DESCRIPTION:
URL:https://shbcfamily.com/event/equip-2/2026-11-08/
END:VEVENT
BEGIN:VEVENT
DTSTART;TZID=America/Detroit:20261109T090000
DTEND;TZID=America/Detroit:20261109T100000
DTSTAMP:20260425T121108
CREATED:20241209T142712Z
LAST-MODIFIED:20241209T142712Z
UID:10003751-1794214800-1794218400@shbcfamily.com
SUMMARY:Aerobics
DESCRIPTION:
URL:https://shbcfamily.com/event/aerobics/2026-11-09/
END:VEVENT
BEGIN:VEVENT
DTSTART;TZID=America/Detroit:20261111T090000
DTEND;TZID=America/Detroit:20261111T100000
DTSTAMP:20260425T121108
CREATED:20241209T142712Z
LAST-MODIFIED:20241209T142712Z
UID:10003752-1794387600-1794391200@shbcfamily.com
SUMMARY:Aerobics
DESCRIPTION:
URL:https://shbcfamily.com/event/aerobics/2026-11-11/
END:VEVENT
BEGIN:VEVENT
DTSTART;TZID=America/Detroit:20261111T190000
DTEND;TZID=America/Detroit:20261111T200000
DTSTAMP:20260425T121108
CREATED:20241209T143548Z
LAST-MODIFIED:20241209T143548Z
UID:10003866-1794423600-1794427200@shbcfamily.com
SUMMARY:Prayer Meeting
DESCRIPTION:
URL:https://shbcfamily.com/event/prayer-meeting-18/2026-11-11/
END:VEVENT
BEGIN:VEVENT
DTSTART;TZID=America/Detroit:20261115T083000
DTEND;TZID=America/Detroit:20261115T093000
DTSTAMP:20260425T121108
CREATED:20260113T145327Z
LAST-MODIFIED:20260113T145327Z
UID:10004234-1794731400-1794735000@shbcfamily.com
SUMMARY:Worship Service
DESCRIPTION:
URL:https://shbcfamily.com/event/worship-service-35/2026-11-15/
END:VEVENT
BEGIN:VEVENT
DTSTART;TZID=America/Detroit:20261115T094500
DTEND;TZID=America/Detroit:20261115T104500
DTSTAMP:20260425T121108
CREATED:20260113T145202Z
LAST-MODIFIED:20260113T145202Z
UID:10004164-1794735900-1794739500@shbcfamily.com
SUMMARY:ABF/SS
DESCRIPTION:
URL:https://shbcfamily.com/event/abf-ss-12/2026-11-15/
END:VEVENT
BEGIN:VEVENT
DTSTART;TZID=America/Detroit:20261115T110000
DTEND;TZID=America/Detroit:20261115T123000
DTSTAMP:20260425T121108
CREATED:20260113T145435Z
LAST-MODIFIED:20260113T145435Z
UID:10004304-1794740400-1794745800@shbcfamily.com
SUMMARY:Worship Service
DESCRIPTION:
URL:https://shbcfamily.com/event/worship-service-36/2026-11-15/
END:VEVENT
BEGIN:VEVENT
DTSTART;TZID=America/Detroit:20261115T180000
DTEND;TZID=America/Detroit:20261115T190000
DTSTAMP:20260425T121108
CREATED:20260113T145546Z
LAST-MODIFIED:20260113T145546Z
UID:10004372-1794765600-1794769200@shbcfamily.com
SUMMARY:Equip
DESCRIPTION:
URL:https://shbcfamily.com/event/equip-2/2026-11-15/
END:VEVENT
BEGIN:VEVENT
DTSTART;TZID=America/Detroit:20261116T090000
DTEND;TZID=America/Detroit:20261116T100000
DTSTAMP:20260425T121108
CREATED:20241209T142712Z
LAST-MODIFIED:20241209T142712Z
UID:10003753-1794819600-1794823200@shbcfamily.com
SUMMARY:Aerobics
DESCRIPTION:
URL:https://shbcfamily.com/event/aerobics/2026-11-16/
END:VEVENT
BEGIN:VEVENT
DTSTART;TZID=America/Detroit:20261118T090000
DTEND;TZID=America/Detroit:20261118T100000
DTSTAMP:20260425T121108
CREATED:20241209T142712Z
LAST-MODIFIED:20241209T142712Z
UID:10003754-1794992400-1794996000@shbcfamily.com
SUMMARY:Aerobics
DESCRIPTION:
URL:https://shbcfamily.com/event/aerobics/2026-11-18/
END:VEVENT
BEGIN:VEVENT
DTSTART;TZID=America/Detroit:20261118T190000
DTEND;TZID=America/Detroit:20261118T200000
DTSTAMP:20260425T121108
CREATED:20241209T143548Z
LAST-MODIFIED:20241209T143548Z
UID:10003867-1795028400-1795032000@shbcfamily.com
SUMMARY:Prayer Meeting
DESCRIPTION:
URL:https://shbcfamily.com/event/prayer-meeting-18/2026-11-18/
END:VEVENT
BEGIN:VEVENT
DTSTART;TZID=America/Detroit:20261122T083000
DTEND;TZID=America/Detroit:20261122T093000
DTSTAMP:20260425T121108
CREATED:20260113T145327Z
LAST-MODIFIED:20260113T145327Z
UID:10004235-1795336200-1795339800@shbcfamily.com
SUMMARY:Worship Service
DESCRIPTION:
URL:https://shbcfamily.com/event/worship-service-35/2026-11-22/
END:VEVENT
BEGIN:VEVENT
DTSTART;TZID=America/Detroit:20261122T094500
DTEND;TZID=America/Detroit:20261122T104500
DTSTAMP:20260425T121108
CREATED:20260113T145202Z
LAST-MODIFIED:20260113T145202Z
UID:10004165-1795340700-1795344300@shbcfamily.com
SUMMARY:ABF/SS
DESCRIPTION:
URL:https://shbcfamily.com/event/abf-ss-12/2026-11-22/
END:VEVENT
BEGIN:VEVENT
DTSTART;TZID=America/Detroit:20261122T110000
DTEND;TZID=America/Detroit:20261122T123000
DTSTAMP:20260425T121108
CREATED:20260113T145435Z
LAST-MODIFIED:20260113T145435Z
UID:10004305-1795345200-1795350600@shbcfamily.com
SUMMARY:Worship Service
DESCRIPTION:
URL:https://shbcfamily.com/event/worship-service-36/2026-11-22/
END:VEVENT
BEGIN:VEVENT
DTSTART;TZID=America/Detroit:20261122T180000
DTEND;TZID=America/Detroit:20261122T190000
DTSTAMP:20260425T121108
CREATED:20260113T145546Z
LAST-MODIFIED:20260113T145546Z
UID:10004373-1795370400-1795374000@shbcfamily.com
SUMMARY:Equip
DESCRIPTION:
URL:https://shbcfamily.com/event/equip-2/2026-11-22/
END:VEVENT
BEGIN:VEVENT
DTSTART;TZID=America/Detroit:20261123T090000
DTEND;TZID=America/Detroit:20261123T100000
DTSTAMP:20260425T121108
CREATED:20241209T142712Z
LAST-MODIFIED:20241209T142712Z
UID:10003755-1795424400-1795428000@shbcfamily.com
SUMMARY:Aerobics
DESCRIPTION:
URL:https://shbcfamily.com/event/aerobics/2026-11-23/
END:VEVENT
BEGIN:VEVENT
DTSTART;TZID=America/Detroit:20261125T090000
DTEND;TZID=America/Detroit:20261125T100000
DTSTAMP:20260425T121108
CREATED:20241209T142712Z
LAST-MODIFIED:20241209T142712Z
UID:10003756-1795597200-1795600800@shbcfamily.com
SUMMARY:Aerobics
DESCRIPTION:
URL:https://shbcfamily.com/event/aerobics/2026-11-25/
END:VEVENT
BEGIN:VEVENT
DTSTART;TZID=America/Detroit:20261125T190000
DTEND;TZID=America/Detroit:20261125T200000
DTSTAMP:20260425T121108
CREATED:20241209T143548Z
LAST-MODIFIED:20241209T143548Z
UID:10003868-1795633200-1795636800@shbcfamily.com
SUMMARY:Prayer Meeting
DESCRIPTION:
URL:https://shbcfamily.com/event/prayer-meeting-18/2026-11-25/
END:VEVENT
BEGIN:VEVENT
DTSTART;TZID=America/Detroit:20261129T083000
DTEND;TZID=America/Detroit:20261129T093000
DTSTAMP:20260425T121108
CREATED:20260113T145327Z
LAST-MODIFIED:20260113T145327Z
UID:10004236-1795941000-1795944600@shbcfamily.com
SUMMARY:Worship Service
DESCRIPTION:
URL:https://shbcfamily.com/event/worship-service-35/2026-11-29/
END:VEVENT
BEGIN:VEVENT
DTSTART;TZID=America/Detroit:20261129T094500
DTEND;TZID=America/Detroit:20261129T104500
DTSTAMP:20260425T121108
CREATED:20260113T145202Z
LAST-MODIFIED:20260113T145202Z
UID:10004166-1795945500-1795949100@shbcfamily.com
SUMMARY:ABF/SS
DESCRIPTION:
URL:https://shbcfamily.com/event/abf-ss-12/2026-11-29/
END:VEVENT
BEGIN:VEVENT
DTSTART;TZID=America/Detroit:20261129T110000
DTEND;TZID=America/Detroit:20261129T123000
DTSTAMP:20260425T121108
CREATED:20260113T145435Z
LAST-MODIFIED:20260113T145435Z
UID:10004306-1795950000-1795955400@shbcfamily.com
SUMMARY:Worship Service
DESCRIPTION:
URL:https://shbcfamily.com/event/worship-service-36/2026-11-29/
END:VEVENT
END:VCALENDAR