BEGIN:VCALENDAR
VERSION:2.0
PRODID:-//Shawnee Hills Baptist Church - ECPv6.15.20//NONSGML v1.0//EN
CALSCALE:GREGORIAN
METHOD:PUBLISH
X-WR-CALNAME:Shawnee Hills Baptist Church
X-ORIGINAL-URL:https://shbcfamily.com
X-WR-CALDESC:Events for Shawnee Hills Baptist Church
REFRESH-INTERVAL;VALUE=DURATION:PT1H
X-Robots-Tag:noindex
X-PUBLISHED-TTL:PT1H
BEGIN:VTIMEZONE
TZID:America/Detroit
BEGIN:DAYLIGHT
TZOFFSETFROM:-0500
TZOFFSETTO:-0400
TZNAME:EDT
DTSTART:20240310T070000
END:DAYLIGHT
BEGIN:STANDARD
TZOFFSETFROM:-0400
TZOFFSETTO:-0500
TZNAME:EST
DTSTART:20241103T060000
END:STANDARD
BEGIN:DAYLIGHT
TZOFFSETFROM:-0500
TZOFFSETTO:-0400
TZNAME:EDT
DTSTART:20250309T070000
END:DAYLIGHT
BEGIN:STANDARD
TZOFFSETFROM:-0400
TZOFFSETTO:-0500
TZNAME:EST
DTSTART:20251102T060000
END:STANDARD
BEGIN:DAYLIGHT
TZOFFSETFROM:-0500
TZOFFSETTO:-0400
TZNAME:EDT
DTSTART:20260308T070000
END:DAYLIGHT
BEGIN:STANDARD
TZOFFSETFROM:-0400
TZOFFSETTO:-0500
TZNAME:EST
DTSTART:20261101T060000
END:STANDARD
END:VTIMEZONE
BEGIN:VEVENT
DTSTART;TZID=America/Detroit:20251019T180000
DTEND;TZID=America/Detroit:20251019T193000
DTSTAMP:20260425T075156
CREATED:20250702T195348Z
LAST-MODIFIED:20250702T195348Z
UID:10004099-1760896800-1760902200@shbcfamily.com
SUMMARY:EQUIP
DESCRIPTION:
URL:https://shbcfamily.com/event/equip/2025-10-19/
END:VEVENT
BEGIN:VEVENT
DTSTART;TZID=America/Detroit:20251019T110000
DTEND;TZID=America/Detroit:20251019T123000
DTSTAMP:20260425T075156
CREATED:20250702T194914Z
LAST-MODIFIED:20250702T194914Z
UID:10004075-1760871600-1760877000@shbcfamily.com
SUMMARY:Worship Service
DESCRIPTION:
URL:https://shbcfamily.com/event/worship-service-33/2025-10-19/
END:VEVENT
BEGIN:VEVENT
DTSTART;TZID=America/Detroit:20251019T094500
DTEND;TZID=America/Detroit:20251019T104500
DTSTAMP:20260425T075156
CREATED:20250702T194807Z
LAST-MODIFIED:20250702T194807Z
UID:10004063-1760867100-1760870700@shbcfamily.com
SUMMARY:ABF/SS
DESCRIPTION:
URL:https://shbcfamily.com/event/abf-ss-10/2025-10-19/
END:VEVENT
BEGIN:VEVENT
DTSTART;TZID=America/Detroit:20251019T083000
DTEND;TZID=America/Detroit:20251019T093000
DTSTAMP:20260425T075156
CREATED:20250702T194643Z
LAST-MODIFIED:20250702T194643Z
UID:10004051-1760862600-1760866200@shbcfamily.com
SUMMARY:Worship Service
DESCRIPTION:
URL:https://shbcfamily.com/event/worship-service-32/2025-10-19/
END:VEVENT
BEGIN:VEVENT
DTSTART;TZID=America/Detroit:20251015T190000
DTEND;TZID=America/Detroit:20251015T200000
DTSTAMP:20260425T075156
CREATED:20241209T143548Z
LAST-MODIFIED:20241209T143548Z
UID:10003810-1760554800-1760558400@shbcfamily.com
SUMMARY:Prayer Meeting
DESCRIPTION:
URL:https://shbcfamily.com/event/prayer-meeting-18/2025-10-15/
END:VEVENT
BEGIN:VEVENT
DTSTART;TZID=America/Detroit:20251015T183000
DTEND;TZID=America/Detroit:20251015T200000
DTSTAMP:20260425T075156
CREATED:20250702T195045Z
LAST-MODIFIED:20250702T195045Z
UID:10004084-1760553000-1760558400@shbcfamily.com
SUMMARY:AWANA
DESCRIPTION:
URL:https://shbcfamily.com/event/awana-13/2025-10-15/
END:VEVENT
BEGIN:VEVENT
DTSTART;TZID=America/Detroit:20251015T090000
DTEND;TZID=America/Detroit:20251015T100000
DTSTAMP:20260425T075156
CREATED:20241209T142712Z
LAST-MODIFIED:20241209T142712Z
UID:10003640-1760518800-1760522400@shbcfamily.com
SUMMARY:Aerobics
DESCRIPTION:
URL:https://shbcfamily.com/event/aerobics/2025-10-15/
END:VEVENT
BEGIN:VEVENT
DTSTART;TZID=America/Detroit:20251013T090000
DTEND;TZID=America/Detroit:20251013T100000
DTSTAMP:20260425T075156
CREATED:20241209T142712Z
LAST-MODIFIED:20241209T142712Z
UID:10003639-1760346000-1760349600@shbcfamily.com
SUMMARY:Aerobics
DESCRIPTION:
URL:https://shbcfamily.com/event/aerobics/2025-10-13/
END:VEVENT
BEGIN:VEVENT
DTSTART;TZID=America/Detroit:20251012T180000
DTEND;TZID=America/Detroit:20251012T193000
DTSTAMP:20260425T075156
CREATED:20250702T195348Z
LAST-MODIFIED:20250702T195348Z
UID:10004098-1760292000-1760297400@shbcfamily.com
SUMMARY:EQUIP
DESCRIPTION:
URL:https://shbcfamily.com/event/equip/2025-10-12/
END:VEVENT
BEGIN:VEVENT
DTSTART;TZID=America/Detroit:20251012T110000
DTEND;TZID=America/Detroit:20251012T123000
DTSTAMP:20260425T075156
CREATED:20250702T194914Z
LAST-MODIFIED:20250702T194914Z
UID:10004074-1760266800-1760272200@shbcfamily.com
SUMMARY:Worship Service
DESCRIPTION:
URL:https://shbcfamily.com/event/worship-service-33/2025-10-12/
END:VEVENT
BEGIN:VEVENT
DTSTART;TZID=America/Detroit:20251012T094500
DTEND;TZID=America/Detroit:20251012T104500
DTSTAMP:20260425T075156
CREATED:20250702T194807Z
LAST-MODIFIED:20250702T194807Z
UID:10004062-1760262300-1760265900@shbcfamily.com
SUMMARY:ABF/SS
DESCRIPTION:
URL:https://shbcfamily.com/event/abf-ss-10/2025-10-12/
END:VEVENT
BEGIN:VEVENT
DTSTART;TZID=America/Detroit:20251012T083000
DTEND;TZID=America/Detroit:20251012T093000
DTSTAMP:20260425T075156
CREATED:20250702T194643Z
LAST-MODIFIED:20250702T194643Z
UID:10004050-1760257800-1760261400@shbcfamily.com
SUMMARY:Worship Service
DESCRIPTION:
URL:https://shbcfamily.com/event/worship-service-32/2025-10-12/
END:VEVENT
BEGIN:VEVENT
DTSTART;TZID=America/Detroit:20251008T190000
DTEND;TZID=America/Detroit:20251008T200000
DTSTAMP:20260425T075156
CREATED:20241209T143548Z
LAST-MODIFIED:20241209T143548Z
UID:10003809-1759950000-1759953600@shbcfamily.com
SUMMARY:Prayer Meeting
DESCRIPTION:
URL:https://shbcfamily.com/event/prayer-meeting-18/2025-10-08/
END:VEVENT
BEGIN:VEVENT
DTSTART;TZID=America/Detroit:20251008T183000
DTEND;TZID=America/Detroit:20251008T200000
DTSTAMP:20260425T075156
CREATED:20250702T195045Z
LAST-MODIFIED:20250702T195045Z
UID:10004083-1759948200-1759953600@shbcfamily.com
SUMMARY:AWANA
DESCRIPTION:
URL:https://shbcfamily.com/event/awana-13/2025-10-08/
END:VEVENT
BEGIN:VEVENT
DTSTART;TZID=America/Detroit:20251008T090000
DTEND;TZID=America/Detroit:20251008T100000
DTSTAMP:20260425T075156
CREATED:20241209T142712Z
LAST-MODIFIED:20241209T142712Z
UID:10003638-1759914000-1759917600@shbcfamily.com
SUMMARY:Aerobics
DESCRIPTION:
URL:https://shbcfamily.com/event/aerobics/2025-10-08/
END:VEVENT
BEGIN:VEVENT
DTSTART;TZID=America/Detroit:20251006T090000
DTEND;TZID=America/Detroit:20251006T100000
DTSTAMP:20260425T075156
CREATED:20241209T142712Z
LAST-MODIFIED:20241209T142712Z
UID:10003637-1759741200-1759744800@shbcfamily.com
SUMMARY:Aerobics
DESCRIPTION:
URL:https://shbcfamily.com/event/aerobics/2025-10-06/
END:VEVENT
BEGIN:VEVENT
DTSTART;TZID=America/Detroit:20251005T180000
DTEND;TZID=America/Detroit:20251005T193000
DTSTAMP:20260425T075156
CREATED:20250702T195348Z
LAST-MODIFIED:20250702T195348Z
UID:10004097-1759687200-1759692600@shbcfamily.com
SUMMARY:EQUIP
DESCRIPTION:
URL:https://shbcfamily.com/event/equip/2025-10-05/
END:VEVENT
BEGIN:VEVENT
DTSTART;TZID=America/Detroit:20251005T110000
DTEND;TZID=America/Detroit:20251005T123000
DTSTAMP:20260425T075156
CREATED:20250702T194914Z
LAST-MODIFIED:20250702T194914Z
UID:10004073-1759662000-1759667400@shbcfamily.com
SUMMARY:Worship Service
DESCRIPTION:
URL:https://shbcfamily.com/event/worship-service-33/2025-10-05/
END:VEVENT
BEGIN:VEVENT
DTSTART;TZID=America/Detroit:20251005T094500
DTEND;TZID=America/Detroit:20251005T104500
DTSTAMP:20260425T075156
CREATED:20250702T194807Z
LAST-MODIFIED:20250702T194807Z
UID:10004061-1759657500-1759661100@shbcfamily.com
SUMMARY:ABF/SS
DESCRIPTION:
URL:https://shbcfamily.com/event/abf-ss-10/2025-10-05/
END:VEVENT
BEGIN:VEVENT
DTSTART;TZID=America/Detroit:20251005T083000
DTEND;TZID=America/Detroit:20251005T093000
DTSTAMP:20260425T075156
CREATED:20250702T194643Z
LAST-MODIFIED:20250702T194643Z
UID:10004049-1759653000-1759656600@shbcfamily.com
SUMMARY:Worship Service
DESCRIPTION:
URL:https://shbcfamily.com/event/worship-service-32/2025-10-05/
END:VEVENT
BEGIN:VEVENT
DTSTART;TZID=America/Detroit:20251001T190000
DTEND;TZID=America/Detroit:20251001T200000
DTSTAMP:20260425T075156
CREATED:20241209T143548Z
LAST-MODIFIED:20241209T143548Z
UID:10003808-1759345200-1759348800@shbcfamily.com
SUMMARY:Prayer Meeting
DESCRIPTION:
URL:https://shbcfamily.com/event/prayer-meeting-18/2025-10-01/
END:VEVENT
BEGIN:VEVENT
DTSTART;TZID=America/Detroit:20251001T183000
DTEND;TZID=America/Detroit:20251001T200000
DTSTAMP:20260425T075156
CREATED:20250702T195045Z
LAST-MODIFIED:20250702T195045Z
UID:10004082-1759343400-1759348800@shbcfamily.com
SUMMARY:AWANA
DESCRIPTION:
URL:https://shbcfamily.com/event/awana-13/2025-10-01/
END:VEVENT
BEGIN:VEVENT
DTSTART;TZID=America/Detroit:20251001T090000
DTEND;TZID=America/Detroit:20251001T100000
DTSTAMP:20260425T075156
CREATED:20241209T142712Z
LAST-MODIFIED:20241209T142712Z
UID:10003636-1759309200-1759312800@shbcfamily.com
SUMMARY:Aerobics
DESCRIPTION:
URL:https://shbcfamily.com/event/aerobics/2025-10-01/
END:VEVENT
BEGIN:VEVENT
DTSTART;TZID=America/Detroit:20250929T090000
DTEND;TZID=America/Detroit:20250929T100000
DTSTAMP:20260425T075156
CREATED:20241209T142712Z
LAST-MODIFIED:20241209T142712Z
UID:10003635-1759136400-1759140000@shbcfamily.com
SUMMARY:Aerobics
DESCRIPTION:
URL:https://shbcfamily.com/event/aerobics/2025-09-29/
END:VEVENT
BEGIN:VEVENT
DTSTART;TZID=America/Detroit:20250928T180000
DTEND;TZID=America/Detroit:20250928T193000
DTSTAMP:20260425T075156
CREATED:20250702T195348Z
LAST-MODIFIED:20250702T195348Z
UID:10004096-1759082400-1759087800@shbcfamily.com
SUMMARY:EQUIP
DESCRIPTION:
URL:https://shbcfamily.com/event/equip/2025-09-28/
END:VEVENT
BEGIN:VEVENT
DTSTART;TZID=America/Detroit:20250928T110000
DTEND;TZID=America/Detroit:20250928T123000
DTSTAMP:20260425T075156
CREATED:20250702T194914Z
LAST-MODIFIED:20250702T194914Z
UID:10004072-1759057200-1759062600@shbcfamily.com
SUMMARY:Worship Service
DESCRIPTION:
URL:https://shbcfamily.com/event/worship-service-33/2025-09-28/
END:VEVENT
BEGIN:VEVENT
DTSTART;TZID=America/Detroit:20250928T094500
DTEND;TZID=America/Detroit:20250928T104500
DTSTAMP:20260425T075156
CREATED:20250702T194807Z
LAST-MODIFIED:20250702T194807Z
UID:10004060-1759052700-1759056300@shbcfamily.com
SUMMARY:ABF/SS
DESCRIPTION:
URL:https://shbcfamily.com/event/abf-ss-10/2025-09-28/
END:VEVENT
BEGIN:VEVENT
DTSTART;TZID=America/Detroit:20250928T083000
DTEND;TZID=America/Detroit:20250928T093000
DTSTAMP:20260425T075156
CREATED:20250702T194643Z
LAST-MODIFIED:20250702T194643Z
UID:10004048-1759048200-1759051800@shbcfamily.com
SUMMARY:Worship Service
DESCRIPTION:
URL:https://shbcfamily.com/event/worship-service-32/2025-09-28/
END:VEVENT
BEGIN:VEVENT
DTSTART;TZID=America/Detroit:20250924T190000
DTEND;TZID=America/Detroit:20250924T200000
DTSTAMP:20260425T075156
CREATED:20241209T143548Z
LAST-MODIFIED:20241209T143548Z
UID:10003807-1758740400-1758744000@shbcfamily.com
SUMMARY:Prayer Meeting
DESCRIPTION:
URL:https://shbcfamily.com/event/prayer-meeting-18/2025-09-24/
END:VEVENT
BEGIN:VEVENT
DTSTART;TZID=America/Detroit:20250924T183000
DTEND;TZID=America/Detroit:20250924T200000
DTSTAMP:20260425T075156
CREATED:20250702T195045Z
LAST-MODIFIED:20250702T195045Z
UID:10004081-1758738600-1758744000@shbcfamily.com
SUMMARY:AWANA
DESCRIPTION:
URL:https://shbcfamily.com/event/awana-13/2025-09-24/
END:VEVENT
END:VCALENDAR