BEGIN:VCALENDAR
VERSION:2.0
PRODID:-//Shawnee Hills Baptist Church - ECPv6.15.20//NONSGML v1.0//EN
CALSCALE:GREGORIAN
METHOD:PUBLISH
X-ORIGINAL-URL:https://shbcfamily.com
X-WR-CALDESC:Events for Shawnee Hills Baptist Church
REFRESH-INTERVAL;VALUE=DURATION:PT1H
X-Robots-Tag:noindex
X-PUBLISHED-TTL:PT1H
BEGIN:VTIMEZONE
TZID:America/Detroit
BEGIN:DAYLIGHT
TZOFFSETFROM:-0500
TZOFFSETTO:-0400
TZNAME:EDT
DTSTART:20170312T070000
END:DAYLIGHT
BEGIN:STANDARD
TZOFFSETFROM:-0400
TZOFFSETTO:-0500
TZNAME:EST
DTSTART:20171105T060000
END:STANDARD
BEGIN:DAYLIGHT
TZOFFSETFROM:-0500
TZOFFSETTO:-0400
TZNAME:EDT
DTSTART:20180311T070000
END:DAYLIGHT
BEGIN:STANDARD
TZOFFSETFROM:-0400
TZOFFSETTO:-0500
TZNAME:EST
DTSTART:20181104T060000
END:STANDARD
BEGIN:DAYLIGHT
TZOFFSETFROM:-0500
TZOFFSETTO:-0400
TZNAME:EDT
DTSTART:20190310T070000
END:DAYLIGHT
BEGIN:STANDARD
TZOFFSETFROM:-0400
TZOFFSETTO:-0500
TZNAME:EST
DTSTART:20191103T060000
END:STANDARD
BEGIN:DAYLIGHT
TZOFFSETFROM:-0500
TZOFFSETTO:-0400
TZNAME:EDT
DTSTART:20200308T070000
END:DAYLIGHT
BEGIN:STANDARD
TZOFFSETFROM:-0400
TZOFFSETTO:-0500
TZNAME:EST
DTSTART:20201101T060000
END:STANDARD
END:VTIMEZONE
BEGIN:VEVENT
DTSTART;TZID=America/Detroit:20191120T183000
DTEND;TZID=America/Detroit:20191120T200000
DTSTAMP:20260425T140325
CREATED:20191017T224101Z
LAST-MODIFIED:20191017T224101Z
UID:10001269-1574274600-1574280000@shbcfamily.com
SUMMARY:AWANA
DESCRIPTION:A Kids’ Club for children 3 years old through 6th grade. Please call 937.675.4121 to register.
URL:https://shbcfamily.com/event/awana-2/2019-11-20/
END:VEVENT
BEGIN:VEVENT
DTSTART;TZID=America/Detroit:20191113T183000
DTEND;TZID=America/Detroit:20191113T200000
DTSTAMP:20260425T140325
CREATED:20191017T224101Z
LAST-MODIFIED:20191017T224101Z
UID:10001268-1573669800-1573675200@shbcfamily.com
SUMMARY:AWANA
DESCRIPTION:A Kids’ Club for children 3 years old through 6th grade. Please call 937.675.4121 to register.
URL:https://shbcfamily.com/event/awana-2/2019-11-13/
END:VEVENT
BEGIN:VEVENT
DTSTART;TZID=America/Detroit:20191106T183000
DTEND;TZID=America/Detroit:20191106T200000
DTSTAMP:20260425T140325
CREATED:20191017T224101Z
LAST-MODIFIED:20191017T224101Z
UID:10001267-1573065000-1573070400@shbcfamily.com
SUMMARY:AWANA
DESCRIPTION:A Kids’ Club for children 3 years old through 6th grade. Please call 937.675.4121 to register.
URL:https://shbcfamily.com/event/awana-2/2019-11-06/
END:VEVENT
BEGIN:VEVENT
DTSTART;TZID=America/Detroit:20191030T183000
DTEND;TZID=America/Detroit:20191030T200000
DTSTAMP:20260425T140325
CREATED:20191017T224101Z
LAST-MODIFIED:20191017T224101Z
UID:10001266-1572460200-1572465600@shbcfamily.com
SUMMARY:AWANA
DESCRIPTION:A Kids’ Club for children 3 years old through 6th grade. Please call 937.675.4121 to register.
URL:https://shbcfamily.com/event/awana-2/2019-10-30/
END:VEVENT
BEGIN:VEVENT
DTSTART;TZID=America/Detroit:20191023T183000
DTEND;TZID=America/Detroit:20191023T200000
DTSTAMP:20260425T140325
CREATED:20191017T224101Z
LAST-MODIFIED:20191017T224101Z
UID:10001265-1571855400-1571860800@shbcfamily.com
SUMMARY:AWANA
DESCRIPTION:A Kids’ Club for children 3 years old through 6th grade. Please call 937.675.4121 to register.
URL:https://shbcfamily.com/event/awana-2/2019-10-23/
END:VEVENT
BEGIN:VEVENT
DTSTART;TZID=America/Detroit:20191016T183000
DTEND;TZID=America/Detroit:20191016T200000
DTSTAMP:20260425T140325
CREATED:20191017T224101Z
LAST-MODIFIED:20191017T224101Z
UID:10001264-1571250600-1571256000@shbcfamily.com
SUMMARY:AWANA
DESCRIPTION:A Kids’ Club for children 3 years old through 6th grade. Please call 937.675.4121 to register.
URL:https://shbcfamily.com/event/awana-2/2019-10-16/
END:VEVENT
BEGIN:VEVENT
DTSTART;TZID=America/Detroit:20191009T183000
DTEND;TZID=America/Detroit:20191009T200000
DTSTAMP:20260425T140325
CREATED:20191017T224101Z
LAST-MODIFIED:20191017T224101Z
UID:10001263-1570645800-1570651200@shbcfamily.com
SUMMARY:AWANA
DESCRIPTION:A Kids’ Club for children 3 years old through 6th grade. Please call 937.675.4121 to register.
URL:https://shbcfamily.com/event/awana-2/2019-10-09/
END:VEVENT
BEGIN:VEVENT
DTSTART;TZID=America/Detroit:20191002T183000
DTEND;TZID=America/Detroit:20191002T200000
DTSTAMP:20260425T140325
CREATED:20191017T224101Z
LAST-MODIFIED:20191017T224101Z
UID:10001262-1570041000-1570046400@shbcfamily.com
SUMMARY:AWANA
DESCRIPTION:A Kids’ Club for children 3 years old through 6th grade. Please call 937.675.4121 to register.
URL:https://shbcfamily.com/event/awana-2/2019-10-02/
END:VEVENT
BEGIN:VEVENT
DTSTART;TZID=America/Detroit:20190925T183000
DTEND;TZID=America/Detroit:20190925T200000
DTSTAMP:20260425T140325
CREATED:20191017T224101Z
LAST-MODIFIED:20191017T224101Z
UID:10001261-1569436200-1569441600@shbcfamily.com
SUMMARY:AWANA
DESCRIPTION:A Kids’ Club for children 3 years old through 6th grade. Please call 937.675.4121 to register.
URL:https://shbcfamily.com/event/awana-2/2019-09-25/
END:VEVENT
BEGIN:VEVENT
DTSTART;TZID=America/Detroit:20190529T181500
DTEND;TZID=America/Detroit:20190529T200000
DTSTAMP:20260425T140325
CREATED:20181022T214416Z
LAST-MODIFIED:20190315T201435Z
UID:10000333-1559153700-1559160000@shbcfamily.com
SUMMARY:AWANA
DESCRIPTION:AWANA is a weekly club for kids packed with Bible learning and awesome games! Children four years old through sixth grade can attend.\nAWANA is on Wednesdays from 6:15 – 8:00 pm. Please check in with the AWANA secretaries in the Shawnee Hills foyer.
URL:https://shbcfamily.com/event/awana/2019-05-29/
ATTACH;FMTTYPE=image/png:https://shbcfamily.com/wp-content/uploads/2019/03/2430.png
END:VEVENT
BEGIN:VEVENT
DTSTART;TZID=America/Detroit:20190522T181500
DTEND;TZID=America/Detroit:20190522T200000
DTSTAMP:20260425T140325
CREATED:20181022T214416Z
LAST-MODIFIED:20190315T201435Z
UID:10000332-1558548900-1558555200@shbcfamily.com
SUMMARY:AWANA
DESCRIPTION:AWANA is a weekly club for kids packed with Bible learning and awesome games! Children four years old through sixth grade can attend.\nAWANA is on Wednesdays from 6:15 – 8:00 pm. Please check in with the AWANA secretaries in the Shawnee Hills foyer.
URL:https://shbcfamily.com/event/awana/2019-05-22/
ATTACH;FMTTYPE=image/png:https://shbcfamily.com/wp-content/uploads/2019/03/2430.png
END:VEVENT
BEGIN:VEVENT
DTSTART;TZID=America/Detroit:20190508T181500
DTEND;TZID=America/Detroit:20190508T200000
DTSTAMP:20260425T140325
CREATED:20181022T214416Z
LAST-MODIFIED:20190315T201435Z
UID:10000331-1557339300-1557345600@shbcfamily.com
SUMMARY:AWANA
DESCRIPTION:AWANA is a weekly club for kids packed with Bible learning and awesome games! Children four years old through sixth grade can attend.\nAWANA is on Wednesdays from 6:15 – 8:00 pm. Please check in with the AWANA secretaries in the Shawnee Hills foyer.
URL:https://shbcfamily.com/event/awana/2019-05-08/
ATTACH;FMTTYPE=image/png:https://shbcfamily.com/wp-content/uploads/2019/03/2430.png
END:VEVENT
BEGIN:VEVENT
DTSTART;TZID=America/Detroit:20190501T181500
DTEND;TZID=America/Detroit:20190501T200000
DTSTAMP:20260425T140325
CREATED:20181022T214416Z
LAST-MODIFIED:20190315T201435Z
UID:10000330-1556734500-1556740800@shbcfamily.com
SUMMARY:AWANA
DESCRIPTION:AWANA is a weekly club for kids packed with Bible learning and awesome games! Children four years old through sixth grade can attend.\nAWANA is on Wednesdays from 6:15 – 8:00 pm. Please check in with the AWANA secretaries in the Shawnee Hills foyer.
URL:https://shbcfamily.com/event/awana/2019-05-01/
ATTACH;FMTTYPE=image/png:https://shbcfamily.com/wp-content/uploads/2019/03/2430.png
END:VEVENT
BEGIN:VEVENT
DTSTART;TZID=America/Detroit:20190424T181500
DTEND;TZID=America/Detroit:20190424T200000
DTSTAMP:20260425T140325
CREATED:20181022T214416Z
LAST-MODIFIED:20190226T223335Z
UID:10000334-1556129700-1556136000@shbcfamily.com
SUMMARY:AWANA Awards Night
DESCRIPTION:Family and friends are invited to see clubbers receive their year-end awards.
URL:https://shbcfamily.com/event/awana-2019-04-24/
END:VEVENT
BEGIN:VEVENT
DTSTART;TZID=America/Detroit:20190417T181500
DTEND;TZID=America/Detroit:20190417T200000
DTSTAMP:20260425T140325
CREATED:20181022T214416Z
LAST-MODIFIED:20190315T201435Z
UID:10000329-1555524900-1555531200@shbcfamily.com
SUMMARY:AWANA
DESCRIPTION:AWANA is a weekly club for kids packed with Bible learning and awesome games! Children four years old through sixth grade can attend.\nAWANA is on Wednesdays from 6:15 – 8:00 pm. Please check in with the AWANA secretaries in the Shawnee Hills foyer.
URL:https://shbcfamily.com/event/awana/2019-04-17/
ATTACH;FMTTYPE=image/png:https://shbcfamily.com/wp-content/uploads/2019/03/2430.png
END:VEVENT
BEGIN:VEVENT
DTSTART;TZID=America/Detroit:20190410T181500
DTEND;TZID=America/Detroit:20190410T200000
DTSTAMP:20260425T140325
CREATED:20181022T214416Z
LAST-MODIFIED:20190315T201435Z
UID:10000328-1554920100-1554926400@shbcfamily.com
SUMMARY:AWANA
DESCRIPTION:AWANA is a weekly club for kids packed with Bible learning and awesome games! Children four years old through sixth grade can attend.\nAWANA is on Wednesdays from 6:15 – 8:00 pm. Please check in with the AWANA secretaries in the Shawnee Hills foyer.
URL:https://shbcfamily.com/event/awana/2019-04-10/
ATTACH;FMTTYPE=image/png:https://shbcfamily.com/wp-content/uploads/2019/03/2430.png
END:VEVENT
BEGIN:VEVENT
DTSTART;TZID=America/Detroit:20190403T181500
DTEND;TZID=America/Detroit:20190403T200000
DTSTAMP:20260425T140325
CREATED:20181022T214416Z
LAST-MODIFIED:20190315T201435Z
UID:10000327-1554315300-1554321600@shbcfamily.com
SUMMARY:AWANA
DESCRIPTION:AWANA is a weekly club for kids packed with Bible learning and awesome games! Children four years old through sixth grade can attend.\nAWANA is on Wednesdays from 6:15 – 8:00 pm. Please check in with the AWANA secretaries in the Shawnee Hills foyer.
URL:https://shbcfamily.com/event/awana/2019-04-03/
ATTACH;FMTTYPE=image/png:https://shbcfamily.com/wp-content/uploads/2019/03/2430.png
END:VEVENT
BEGIN:VEVENT
DTSTART;TZID=America/Detroit:20190320T181500
DTEND;TZID=America/Detroit:20190320T200000
DTSTAMP:20260425T140325
CREATED:20181022T214416Z
LAST-MODIFIED:20190315T201435Z
UID:10000326-1553105700-1553112000@shbcfamily.com
SUMMARY:AWANA
DESCRIPTION:AWANA is a weekly club for kids packed with Bible learning and awesome games! Children four years old through sixth grade can attend.\nAWANA is on Wednesdays from 6:15 – 8:00 pm. Please check in with the AWANA secretaries in the Shawnee Hills foyer.
URL:https://shbcfamily.com/event/awana/2019-03-20/
ATTACH;FMTTYPE=image/png:https://shbcfamily.com/wp-content/uploads/2019/03/2430.png
END:VEVENT
BEGIN:VEVENT
DTSTART;TZID=America/Detroit:20190313T181500
DTEND;TZID=America/Detroit:20190313T200000
DTSTAMP:20260425T140325
CREATED:20181022T214416Z
LAST-MODIFIED:20190315T201435Z
UID:10000325-1552500900-1552507200@shbcfamily.com
SUMMARY:AWANA
DESCRIPTION:AWANA is a weekly club for kids packed with Bible learning and awesome games! Children four years old through sixth grade can attend.\nAWANA is on Wednesdays from 6:15 – 8:00 pm. Please check in with the AWANA secretaries in the Shawnee Hills foyer.
URL:https://shbcfamily.com/event/awana/2019-03-13/
ATTACH;FMTTYPE=image/png:https://shbcfamily.com/wp-content/uploads/2019/03/2430.png
END:VEVENT
BEGIN:VEVENT
DTSTART;TZID=America/Detroit:20190306T181500
DTEND;TZID=America/Detroit:20190306T200000
DTSTAMP:20260425T140325
CREATED:20181022T214416Z
LAST-MODIFIED:20190315T201435Z
UID:10000324-1551896100-1551902400@shbcfamily.com
SUMMARY:AWANA
DESCRIPTION:AWANA is a weekly club for kids packed with Bible learning and awesome games! Children four years old through sixth grade can attend.\nAWANA is on Wednesdays from 6:15 – 8:00 pm. Please check in with the AWANA secretaries in the Shawnee Hills foyer.
URL:https://shbcfamily.com/event/awana/2019-03-06/
ATTACH;FMTTYPE=image/png:https://shbcfamily.com/wp-content/uploads/2019/03/2430.png
END:VEVENT
BEGIN:VEVENT
DTSTART;TZID=America/Detroit:20190227T181500
DTEND;TZID=America/Detroit:20190227T200000
DTSTAMP:20260425T140325
CREATED:20181022T214416Z
LAST-MODIFIED:20190315T201435Z
UID:10000323-1551291300-1551297600@shbcfamily.com
SUMMARY:AWANA
DESCRIPTION:AWANA is a weekly club for kids packed with Bible learning and awesome games! Children four years old through sixth grade can attend.\nAWANA is on Wednesdays from 6:15 – 8:00 pm. Please check in with the AWANA secretaries in the Shawnee Hills foyer.
URL:https://shbcfamily.com/event/awana/2019-02-27/
ATTACH;FMTTYPE=image/png:https://shbcfamily.com/wp-content/uploads/2019/03/2430.png
END:VEVENT
BEGIN:VEVENT
DTSTART;TZID=America/Detroit:20190220T181500
DTEND;TZID=America/Detroit:20190220T200000
DTSTAMP:20260425T140325
CREATED:20181022T214416Z
LAST-MODIFIED:20190315T201435Z
UID:10000322-1550686500-1550692800@shbcfamily.com
SUMMARY:AWANA
DESCRIPTION:AWANA is a weekly club for kids packed with Bible learning and awesome games! Children four years old through sixth grade can attend.\nAWANA is on Wednesdays from 6:15 – 8:00 pm. Please check in with the AWANA secretaries in the Shawnee Hills foyer.
URL:https://shbcfamily.com/event/awana/2019-02-20/
ATTACH;FMTTYPE=image/png:https://shbcfamily.com/wp-content/uploads/2019/03/2430.png
END:VEVENT
BEGIN:VEVENT
DTSTART;TZID=America/Detroit:20190213T181500
DTEND;TZID=America/Detroit:20190213T200000
DTSTAMP:20260425T140325
CREATED:20181022T214416Z
LAST-MODIFIED:20190315T201435Z
UID:10000321-1550081700-1550088000@shbcfamily.com
SUMMARY:AWANA
DESCRIPTION:AWANA is a weekly club for kids packed with Bible learning and awesome games! Children four years old through sixth grade can attend.\nAWANA is on Wednesdays from 6:15 – 8:00 pm. Please check in with the AWANA secretaries in the Shawnee Hills foyer.
URL:https://shbcfamily.com/event/awana/2019-02-13/
ATTACH;FMTTYPE=image/png:https://shbcfamily.com/wp-content/uploads/2019/03/2430.png
END:VEVENT
BEGIN:VEVENT
DTSTART;TZID=America/Detroit:20190206T181500
DTEND;TZID=America/Detroit:20190206T200000
DTSTAMP:20260425T140325
CREATED:20181022T214416Z
LAST-MODIFIED:20190315T201435Z
UID:10000320-1549476900-1549483200@shbcfamily.com
SUMMARY:AWANA
DESCRIPTION:AWANA is a weekly club for kids packed with Bible learning and awesome games! Children four years old through sixth grade can attend.\nAWANA is on Wednesdays from 6:15 – 8:00 pm. Please check in with the AWANA secretaries in the Shawnee Hills foyer.
URL:https://shbcfamily.com/event/awana/2019-02-06/
ATTACH;FMTTYPE=image/png:https://shbcfamily.com/wp-content/uploads/2019/03/2430.png
END:VEVENT
BEGIN:VEVENT
DTSTART;TZID=America/Detroit:20190130T181500
DTEND;TZID=America/Detroit:20190130T200000
DTSTAMP:20260425T140325
CREATED:20181022T214416Z
LAST-MODIFIED:20190315T201435Z
UID:10000319-1548872100-1548878400@shbcfamily.com
SUMMARY:AWANA
DESCRIPTION:AWANA is a weekly club for kids packed with Bible learning and awesome games! Children four years old through sixth grade can attend.\nAWANA is on Wednesdays from 6:15 – 8:00 pm. Please check in with the AWANA secretaries in the Shawnee Hills foyer.
URL:https://shbcfamily.com/event/awana/2019-01-30/
ATTACH;FMTTYPE=image/png:https://shbcfamily.com/wp-content/uploads/2019/03/2430.png
END:VEVENT
BEGIN:VEVENT
DTSTART;TZID=America/Detroit:20190123T181500
DTEND;TZID=America/Detroit:20190123T200000
DTSTAMP:20260425T140325
CREATED:20181022T214416Z
LAST-MODIFIED:20190315T201435Z
UID:10000318-1548267300-1548273600@shbcfamily.com
SUMMARY:AWANA
DESCRIPTION:AWANA is a weekly club for kids packed with Bible learning and awesome games! Children four years old through sixth grade can attend.\nAWANA is on Wednesdays from 6:15 – 8:00 pm. Please check in with the AWANA secretaries in the Shawnee Hills foyer.
URL:https://shbcfamily.com/event/awana/2019-01-23/
ATTACH;FMTTYPE=image/png:https://shbcfamily.com/wp-content/uploads/2019/03/2430.png
END:VEVENT
BEGIN:VEVENT
DTSTART;TZID=America/Detroit:20190116T181500
DTEND;TZID=America/Detroit:20190116T200000
DTSTAMP:20260425T140325
CREATED:20181022T214416Z
LAST-MODIFIED:20190315T201435Z
UID:10000317-1547662500-1547668800@shbcfamily.com
SUMMARY:AWANA
DESCRIPTION:AWANA is a weekly club for kids packed with Bible learning and awesome games! Children four years old through sixth grade can attend.\nAWANA is on Wednesdays from 6:15 – 8:00 pm. Please check in with the AWANA secretaries in the Shawnee Hills foyer.
URL:https://shbcfamily.com/event/awana/2019-01-16/
ATTACH;FMTTYPE=image/png:https://shbcfamily.com/wp-content/uploads/2019/03/2430.png
END:VEVENT
BEGIN:VEVENT
DTSTART;TZID=America/Detroit:20190109T181500
DTEND;TZID=America/Detroit:20190109T200000
DTSTAMP:20260425T140325
CREATED:20181022T214416Z
LAST-MODIFIED:20190315T201435Z
UID:10000316-1547057700-1547064000@shbcfamily.com
SUMMARY:AWANA
DESCRIPTION:AWANA is a weekly club for kids packed with Bible learning and awesome games! Children four years old through sixth grade can attend.\nAWANA is on Wednesdays from 6:15 – 8:00 pm. Please check in with the AWANA secretaries in the Shawnee Hills foyer.
URL:https://shbcfamily.com/event/awana/2019-01-09/
ATTACH;FMTTYPE=image/png:https://shbcfamily.com/wp-content/uploads/2019/03/2430.png
END:VEVENT
BEGIN:VEVENT
DTSTART;TZID=America/Detroit:20181223T090000
DTEND;TZID=America/Detroit:20181223T101500
DTSTAMP:20260425T140325
CREATED:20181101T201723Z
LAST-MODIFIED:20181101T201723Z
UID:10000416-1545555600-1545560100@shbcfamily.com
SUMMARY:Sunday School classes
DESCRIPTION:
URL:https://shbcfamily.com/event/sunday-school-classes/2018-12-23/
END:VEVENT
BEGIN:VEVENT
DTSTART;TZID=America/Detroit:20181219T181500
DTEND;TZID=America/Detroit:20181219T200000
DTSTAMP:20260425T140325
CREATED:20181022T214416Z
LAST-MODIFIED:20190315T201435Z
UID:10000315-1545243300-1545249600@shbcfamily.com
SUMMARY:AWANA
DESCRIPTION:AWANA is a weekly club for kids packed with Bible learning and awesome games! Children four years old through sixth grade can attend.\nAWANA is on Wednesdays from 6:15 – 8:00 pm. Please check in with the AWANA secretaries in the Shawnee Hills foyer.
URL:https://shbcfamily.com/event/awana/2018-12-19/
ATTACH;FMTTYPE=image/png:https://shbcfamily.com/wp-content/uploads/2019/03/2430.png
END:VEVENT
END:VCALENDAR