BEGIN:VCALENDAR
VERSION:2.0
PRODID:-//Shawnee Hills Baptist Church - ECPv6.15.20//NONSGML v1.0//EN
CALSCALE:GREGORIAN
METHOD:PUBLISH
X-WR-CALNAME:Shawnee Hills Baptist Church
X-ORIGINAL-URL:https://shbcfamily.com
X-WR-CALDESC:Events for Shawnee Hills Baptist Church
REFRESH-INTERVAL;VALUE=DURATION:PT1H
X-Robots-Tag:noindex
X-PUBLISHED-TTL:PT1H
BEGIN:VTIMEZONE
TZID:America/Detroit
BEGIN:DAYLIGHT
TZOFFSETFROM:-0500
TZOFFSETTO:-0400
TZNAME:EDT
DTSTART:20170312T070000
END:DAYLIGHT
BEGIN:STANDARD
TZOFFSETFROM:-0400
TZOFFSETTO:-0500
TZNAME:EST
DTSTART:20171105T060000
END:STANDARD
BEGIN:DAYLIGHT
TZOFFSETFROM:-0500
TZOFFSETTO:-0400
TZNAME:EDT
DTSTART:20180311T070000
END:DAYLIGHT
BEGIN:STANDARD
TZOFFSETFROM:-0400
TZOFFSETTO:-0500
TZNAME:EST
DTSTART:20181104T060000
END:STANDARD
BEGIN:DAYLIGHT
TZOFFSETFROM:-0500
TZOFFSETTO:-0400
TZNAME:EDT
DTSTART:20190310T070000
END:DAYLIGHT
BEGIN:STANDARD
TZOFFSETFROM:-0400
TZOFFSETTO:-0500
TZNAME:EST
DTSTART:20191103T060000
END:STANDARD
BEGIN:DAYLIGHT
TZOFFSETFROM:-0500
TZOFFSETTO:-0400
TZNAME:EDT
DTSTART:20200308T070000
END:DAYLIGHT
BEGIN:STANDARD
TZOFFSETFROM:-0400
TZOFFSETTO:-0500
TZNAME:EST
DTSTART:20201101T060000
END:STANDARD
BEGIN:DAYLIGHT
TZOFFSETFROM:-0500
TZOFFSETTO:-0400
TZNAME:EDT
DTSTART:20210314T070000
END:DAYLIGHT
BEGIN:STANDARD
TZOFFSETFROM:-0400
TZOFFSETTO:-0500
TZNAME:EST
DTSTART:20211107T060000
END:STANDARD
END:VTIMEZONE
BEGIN:VEVENT
DTSTART;TZID=America/Detroit:20200311T184500
DTEND;TZID=America/Detroit:20200311T200000
DTSTAMP:20260425T222848
CREATED:20200102T221505Z
LAST-MODIFIED:20200102T221505Z
UID:10000894-1583952300-1583956800@shbcfamily.com
SUMMARY:Time Out for Women
DESCRIPTION:Women who drop their children off for AWANA Kids’ Club are invited to this Bible study\, The Way to Joy. Direct questions to Michelle at mccune1022@yahoo.com.
URL:https://shbcfamily.com/event/time-out-for-women-7/2020-03-11/
END:VEVENT
BEGIN:VEVENT
DTSTART;TZID=America/Detroit:20200304T184500
DTEND;TZID=America/Detroit:20200304T200000
DTSTAMP:20260425T222848
CREATED:20200102T221505Z
LAST-MODIFIED:20200102T221505Z
UID:10000893-1583347500-1583352000@shbcfamily.com
SUMMARY:Time Out for Women
DESCRIPTION:Women who drop their children off for AWANA Kids’ Club are invited to this Bible study\, The Way to Joy. Direct questions to Michelle at mccune1022@yahoo.com.
URL:https://shbcfamily.com/event/time-out-for-women-7/2020-03-04/
END:VEVENT
BEGIN:VEVENT
DTSTART;TZID=America/Detroit:20200226T184500
DTEND;TZID=America/Detroit:20200226T200000
DTSTAMP:20260425T222848
CREATED:20200102T221505Z
LAST-MODIFIED:20200102T221505Z
UID:10000892-1582742700-1582747200@shbcfamily.com
SUMMARY:Time Out for Women
DESCRIPTION:Women who drop their children off for AWANA Kids’ Club are invited to this Bible study\, The Way to Joy. Direct questions to Michelle at mccune1022@yahoo.com.
URL:https://shbcfamily.com/event/time-out-for-women-7/2020-02-26/
END:VEVENT
BEGIN:VEVENT
DTSTART;TZID=America/Detroit:20200219T184500
DTEND;TZID=America/Detroit:20200219T200000
DTSTAMP:20260425T222848
CREATED:20200102T221505Z
LAST-MODIFIED:20200102T221505Z
UID:10000891-1582137900-1582142400@shbcfamily.com
SUMMARY:Time Out for Women
DESCRIPTION:Women who drop their children off for AWANA Kids’ Club are invited to this Bible study\, The Way to Joy. Direct questions to Michelle at mccune1022@yahoo.com.
URL:https://shbcfamily.com/event/time-out-for-women-7/2020-02-19/
END:VEVENT
BEGIN:VEVENT
DTSTART;TZID=America/Detroit:20200212T184500
DTEND;TZID=America/Detroit:20200212T200000
DTSTAMP:20260425T222848
CREATED:20200102T221505Z
LAST-MODIFIED:20200102T221505Z
UID:10000890-1581533100-1581537600@shbcfamily.com
SUMMARY:Time Out for Women
DESCRIPTION:Women who drop their children off for AWANA Kids’ Club are invited to this Bible study\, The Way to Joy. Direct questions to Michelle at mccune1022@yahoo.com.
URL:https://shbcfamily.com/event/time-out-for-women-7/2020-02-12/
END:VEVENT
BEGIN:VEVENT
DTSTART;TZID=America/Detroit:20200205T184500
DTEND;TZID=America/Detroit:20200205T200000
DTSTAMP:20260425T222848
CREATED:20200102T221505Z
LAST-MODIFIED:20200102T221505Z
UID:10000889-1580928300-1580932800@shbcfamily.com
SUMMARY:Time Out for Women
DESCRIPTION:Women who drop their children off for AWANA Kids’ Club are invited to this Bible study\, The Way to Joy. Direct questions to Michelle at mccune1022@yahoo.com.
URL:https://shbcfamily.com/event/time-out-for-women-7/2020-02-05/
END:VEVENT
BEGIN:VEVENT
DTSTART;TZID=America/Detroit:20200129T184500
DTEND;TZID=America/Detroit:20200129T200000
DTSTAMP:20260425T222848
CREATED:20200102T221505Z
LAST-MODIFIED:20200102T221505Z
UID:10000888-1580323500-1580328000@shbcfamily.com
SUMMARY:Time Out for Women
DESCRIPTION:Women who drop their children off for AWANA Kids’ Club are invited to this Bible study\, The Way to Joy. Direct questions to Michelle at mccune1022@yahoo.com.
URL:https://shbcfamily.com/event/time-out-for-women-7/2020-01-29/
END:VEVENT
BEGIN:VEVENT
DTSTART;TZID=America/Detroit:20200125T160000
DTEND;TZID=America/Detroit:20200125T200000
DTSTAMP:20260425T222848
CREATED:20200102T220900Z
LAST-MODIFIED:20200102T220900Z
UID:10000884-1579968000-1579982400@shbcfamily.com
SUMMARY:Titus Two Mini-Retreat
DESCRIPTION:Titus Two Mini-Retreat for all ladies and teen girls\nAll ladies are invited to join the Titus Two ministry for an annual mini retreat at 4:00pm.\nKelly Michalski will share Timeless Treasures from the book of  Philippians with creativity and group interaction. Discover why and how to live a         distinctly loving\, grateful\, joyful life while embracing pain and struggle. Enjoy an unhurried\, enriching time with sisters in Christ while digging into the riches of God’s Word. \nThe cost is $5.00/person and includes dinner and dessert.  Invite a friend and sign up today.
URL:https://shbcfamily.com/event/titus-two-mini-retreat-2/
END:VEVENT
BEGIN:VEVENT
DTSTART;TZID=America/Detroit:20200122T184500
DTEND;TZID=America/Detroit:20200122T200000
DTSTAMP:20260425T222848
CREATED:20200102T221505Z
LAST-MODIFIED:20200102T221505Z
UID:10000887-1579718700-1579723200@shbcfamily.com
SUMMARY:Time Out for Women
DESCRIPTION:Women who drop their children off for AWANA Kids’ Club are invited to this Bible study\, The Way to Joy. Direct questions to Michelle at mccune1022@yahoo.com.
URL:https://shbcfamily.com/event/time-out-for-women-7/2020-01-22/
END:VEVENT
BEGIN:VEVENT
DTSTART;TZID=America/Detroit:20200115T184500
DTEND;TZID=America/Detroit:20200115T200000
DTSTAMP:20260425T222848
CREATED:20200102T221505Z
LAST-MODIFIED:20200102T221505Z
UID:10000886-1579113900-1579118400@shbcfamily.com
SUMMARY:Time Out for Women
DESCRIPTION:Women who drop their children off for AWANA Kids’ Club are invited to this Bible study\, The Way to Joy. Direct questions to Michelle at mccune1022@yahoo.com.
URL:https://shbcfamily.com/event/time-out-for-women-7/2020-01-15/
END:VEVENT
BEGIN:VEVENT
DTSTART;TZID=America/Detroit:20200108T184500
DTEND;TZID=America/Detroit:20200108T200000
DTSTAMP:20260425T222848
CREATED:20200102T221505Z
LAST-MODIFIED:20200102T221505Z
UID:10000885-1578509100-1578513600@shbcfamily.com
SUMMARY:Time Out for Women
DESCRIPTION:Women who drop their children off for AWANA Kids’ Club are invited to this Bible study\, The Way to Joy. Direct questions to Michelle at mccune1022@yahoo.com.
URL:https://shbcfamily.com/event/time-out-for-women-7/2020-01-08/
END:VEVENT
BEGIN:VEVENT
DTSTART;TZID=America/Detroit:20191120T183000
DTEND;TZID=America/Detroit:20191120T200000
DTSTAMP:20260425T222848
CREATED:20191017T224503Z
LAST-MODIFIED:20191017T224503Z
UID:10000420-1574274600-1574280000@shbcfamily.com
SUMMARY:Time Out for Women
DESCRIPTION:Women who drop their children off for AWANA Kids’ Club are invited to this Bible study. Direct questions to Michelle at mccune1022@yahoo.com.
URL:https://shbcfamily.com/event/time-out-for-women-5/2019-11-20/
END:VEVENT
BEGIN:VEVENT
DTSTART;TZID=America/Detroit:20191113T183000
DTEND;TZID=America/Detroit:20191113T200000
DTSTAMP:20260425T222848
CREATED:20191017T224503Z
LAST-MODIFIED:20191017T224503Z
UID:10000419-1573669800-1573675200@shbcfamily.com
SUMMARY:Time Out for Women
DESCRIPTION:Women who drop their children off for AWANA Kids’ Club are invited to this Bible study. Direct questions to Michelle at mccune1022@yahoo.com.
URL:https://shbcfamily.com/event/time-out-for-women-5/2019-11-13/
END:VEVENT
BEGIN:VEVENT
DTSTART;TZID=America/Detroit:20191106T183000
DTEND;TZID=America/Detroit:20191106T200000
DTSTAMP:20260425T222848
CREATED:20191017T224503Z
LAST-MODIFIED:20191017T224503Z
UID:10000418-1573065000-1573070400@shbcfamily.com
SUMMARY:Time Out for Women
DESCRIPTION:Women who drop their children off for AWANA Kids’ Club are invited to this Bible study. Direct questions to Michelle at mccune1022@yahoo.com.
URL:https://shbcfamily.com/event/time-out-for-women-5/2019-11-06/
END:VEVENT
BEGIN:VEVENT
DTSTART;TZID=America/Detroit:20191030T183000
DTEND;TZID=America/Detroit:20191030T200000
DTSTAMP:20260425T222848
CREATED:20191017T224503Z
LAST-MODIFIED:20191017T224503Z
UID:10000417-1572460200-1572465600@shbcfamily.com
SUMMARY:Time Out for Women
DESCRIPTION:Women who drop their children off for AWANA Kids’ Club are invited to this Bible study. Direct questions to Michelle at mccune1022@yahoo.com.
URL:https://shbcfamily.com/event/time-out-for-women-5/2019-10-30/
END:VEVENT
BEGIN:VEVENT
DTSTART;TZID=America/Detroit:20191025T190000
DTEND;TZID=America/Detroit:20191025T210000
DTSTAMP:20260425T222848
CREATED:20191017T222501Z
LAST-MODIFIED:20191017T223728Z
UID:10001251-1572030000-1572037200@shbcfamily.com
SUMMARY:Mothers' Night Out
DESCRIPTION:Contact Michelle at mccune1022@yahoo.com for information.
URL:https://shbcfamily.com/event/mothers-night-out/
LOCATION:Starbucks at Jeffersonville Tanger Outlets\, 12490 OH-435\, Jeffersonville\, OH\, 43128
END:VEVENT
BEGIN:VEVENT
DTSTART;TZID=America/Detroit:20190417T184500
DTEND;TZID=America/Detroit:20190417T200000
DTSTAMP:20260425T222848
CREATED:20190226T224841Z
LAST-MODIFIED:20190226T224841Z
UID:10000209-1555526700-1555531200@shbcfamily.com
SUMMARY:Time Out for Women
DESCRIPTION:
URL:https://shbcfamily.com/event/time-out-for-women-4/2019-04-17/
END:VEVENT
BEGIN:VEVENT
DTSTART;TZID=America/Detroit:20190410T184500
DTEND;TZID=America/Detroit:20190410T200000
DTSTAMP:20260425T222848
CREATED:20190226T224841Z
LAST-MODIFIED:20190226T224841Z
UID:10000208-1554921900-1554926400@shbcfamily.com
SUMMARY:Time Out for Women
DESCRIPTION:
URL:https://shbcfamily.com/event/time-out-for-women-4/2019-04-10/
END:VEVENT
BEGIN:VEVENT
DTSTART;TZID=America/Detroit:20190406T100000
DTEND;TZID=America/Detroit:20190406T120000
DTSTAMP:20260425T222848
CREATED:20190226T225013Z
LAST-MODIFIED:20190314T180652Z
UID:10000211-1554544800-1554552000@shbcfamily.com
SUMMARY:Ladies' Brunch
DESCRIPTION:Ladies and girls of all ages are invited to this lovely event focusing on Showers of Blessings. There is no charge\, but sign-up is requested. Call 937.675.4121 or email secretary@shbcfamily.com to register or to get more information.
URL:https://shbcfamily.com/event/ladies-brunch/
END:VEVENT
BEGIN:VEVENT
DTSTART;TZID=America/Detroit:20190403T184500
DTEND;TZID=America/Detroit:20190403T200000
DTSTAMP:20260425T222848
CREATED:20190226T224841Z
LAST-MODIFIED:20190226T224841Z
UID:10000207-1554317100-1554321600@shbcfamily.com
SUMMARY:Time Out for Women
DESCRIPTION:
URL:https://shbcfamily.com/event/time-out-for-women-4/2019-04-03/
END:VEVENT
BEGIN:VEVENT
DTSTART;TZID=America/Detroit:20190321T123000
DTEND;TZID=America/Detroit:20190321T140000
DTSTAMP:20260425T222848
CREATED:20190206T192024Z
LAST-MODIFIED:20190319T152318Z
UID:10000913-1553171400-1553176800@shbcfamily.com
SUMMARY:Sisters in Spirit
DESCRIPTION:All retirement-age women are invited to a luncheon at Donatos\, 142 Xenia Towne Square\, Xenia.
URL:https://shbcfamily.com/event/sisters-in-spirit/
END:VEVENT
BEGIN:VEVENT
DTSTART;TZID=America/Detroit:20190321T093000
DTEND;TZID=America/Detroit:20190321T113000
DTSTAMP:20260425T222848
CREATED:20190206T191913Z
LAST-MODIFIED:20190306T162555Z
UID:10000912-1553160600-1553167800@shbcfamily.com
SUMMARY:Mothers Uplifting Mothers
DESCRIPTION:All mothers and children are invited to join this time of fellowship and encouragement. Free childcare is provided. Direct questions to mccune1022@yahoo.com.
URL:https://shbcfamily.com/event/mothers-uplifting-mothers-3/
END:VEVENT
BEGIN:VEVENT
DTSTART;TZID=America/Detroit:20190207T093000
DTEND;TZID=America/Detroit:20190207T233000
DTSTAMP:20260425T222848
CREATED:20190123T194551Z
LAST-MODIFIED:20190123T194551Z
UID:10000825-1549531800-1549582200@shbcfamily.com
SUMMARY:Mothers Uplifting Mothers
DESCRIPTION:
URL:https://shbcfamily.com/event/mothers-uplifting-mothers-2/
END:VEVENT
BEGIN:VEVENT
DTSTART;TZID=America/Detroit:20181219T184500
DTEND;TZID=America/Detroit:20181219T200000
DTSTAMP:20260425T222848
CREATED:20181128T162906Z
LAST-MODIFIED:20181128T163257Z
UID:10000235-1545245100-1545249600@shbcfamily.com
SUMMARY:Time Out for Women
DESCRIPTION:
URL:https://shbcfamily.com/event/time-out-for-women-2/2018-12-19/
END:VEVENT
BEGIN:VEVENT
DTSTART;TZID=America/Detroit:20181212T184500
DTEND;TZID=America/Detroit:20181212T200000
DTSTAMP:20260425T222848
CREATED:20181128T162906Z
LAST-MODIFIED:20181128T163257Z
UID:10000234-1544640300-1544644800@shbcfamily.com
SUMMARY:Time Out for Women
DESCRIPTION:
URL:https://shbcfamily.com/event/time-out-for-women-2/2018-12-12/
END:VEVENT
BEGIN:VEVENT
DTSTART;TZID=America/Detroit:20181206T093000
DTEND;TZID=America/Detroit:20181206T113000
DTSTAMP:20260425T222848
CREATED:20181101T200729Z
LAST-MODIFIED:20181128T170000Z
UID:10000401-1544088600-1544095800@shbcfamily.com
SUMMARY:Ladies' Bible Study Class
DESCRIPTION:
URL:https://shbcfamily.com/event/ladies-bible-study-class-2/2018-12-06/
END:VEVENT
BEGIN:VEVENT
DTSTART;TZID=America/Detroit:20181205T184500
DTEND;TZID=America/Detroit:20181205T200000
DTSTAMP:20260425T222848
CREATED:20181128T162906Z
LAST-MODIFIED:20181128T163257Z
UID:10000233-1544035500-1544040000@shbcfamily.com
SUMMARY:Time Out for Women
DESCRIPTION:
URL:https://shbcfamily.com/event/time-out-for-women-2/2018-12-05/
END:VEVENT
BEGIN:VEVENT
DTSTART;TZID=America/Detroit:20181129T093000
DTEND;TZID=America/Detroit:20181129T113000
DTSTAMP:20260425T222849
CREATED:20181101T200729Z
LAST-MODIFIED:20181128T170000Z
UID:10000400-1543483800-1543491000@shbcfamily.com
SUMMARY:Ladies' Bible Study Class
DESCRIPTION:
URL:https://shbcfamily.com/event/ladies-bible-study-class-2/2018-11-29/
END:VEVENT
BEGIN:VEVENT
DTSTART;TZID=America/Detroit:20181128T184500
DTEND;TZID=America/Detroit:20181128T200000
DTSTAMP:20260425T222849
CREATED:20181128T162906Z
LAST-MODIFIED:20181128T163257Z
UID:10000232-1543430700-1543435200@shbcfamily.com
SUMMARY:Time Out for Women
DESCRIPTION:
URL:https://shbcfamily.com/event/time-out-for-women-2/2018-11-28/
END:VEVENT
BEGIN:VEVENT
DTSTART;TZID=America/Detroit:20181114T183000
DTEND;TZID=America/Detroit:20181114T200000
DTSTAMP:20260425T222849
CREATED:20181101T183600Z
LAST-MODIFIED:20181101T190011Z
UID:10000385-1542220200-1542225600@shbcfamily.com
SUMMARY:Time Out for Women
DESCRIPTION:
URL:https://shbcfamily.com/event/time-out-for-women/2018-11-14/
END:VEVENT
END:VCALENDAR