BEGIN:VCALENDAR
VERSION:2.0
PRODID:-//Shawnee Hills Baptist Church - ECPv6.15.20//NONSGML v1.0//EN
CALSCALE:GREGORIAN
METHOD:PUBLISH
X-ORIGINAL-URL:https://shbcfamily.com
X-WR-CALDESC:Events for Shawnee Hills Baptist Church
REFRESH-INTERVAL;VALUE=DURATION:PT1H
X-Robots-Tag:noindex
X-PUBLISHED-TTL:PT1H
BEGIN:VTIMEZONE
TZID:America/Detroit
BEGIN:DAYLIGHT
TZOFFSETFROM:-0500
TZOFFSETTO:-0400
TZNAME:EDT
DTSTART:20240310T070000
END:DAYLIGHT
BEGIN:STANDARD
TZOFFSETFROM:-0400
TZOFFSETTO:-0500
TZNAME:EST
DTSTART:20241103T060000
END:STANDARD
BEGIN:DAYLIGHT
TZOFFSETFROM:-0500
TZOFFSETTO:-0400
TZNAME:EDT
DTSTART:20250309T070000
END:DAYLIGHT
BEGIN:STANDARD
TZOFFSETFROM:-0400
TZOFFSETTO:-0500
TZNAME:EST
DTSTART:20251102T060000
END:STANDARD
BEGIN:DAYLIGHT
TZOFFSETFROM:-0500
TZOFFSETTO:-0400
TZNAME:EDT
DTSTART:20260308T070000
END:DAYLIGHT
BEGIN:STANDARD
TZOFFSETFROM:-0400
TZOFFSETTO:-0500
TZNAME:EST
DTSTART:20261101T060000
END:STANDARD
END:VTIMEZONE
BEGIN:VEVENT
DTSTART;TZID=America/Detroit:20250831T090000
DTEND;TZID=America/Detroit:20250831T101500
DTSTAMP:20260425T114901
CREATED:20250702T193553Z
LAST-MODIFIED:20250702T193553Z
UID:10004026-1756630800-1756635300@shbcfamily.com
SUMMARY:ABF/SS
DESCRIPTION:
URL:https://shbcfamily.com/event/abf-ss-9/2025-08-31/
END:VEVENT
BEGIN:VEVENT
DTSTART;TZID=America/Detroit:20250831T103000
DTEND;TZID=America/Detroit:20250831T120000
DTSTAMP:20260425T114901
CREATED:20250702T194357Z
LAST-MODIFIED:20250702T194357Z
UID:10004044-1756636200-1756641600@shbcfamily.com
SUMMARY:Worship Service
DESCRIPTION:
URL:https://shbcfamily.com/event/worship-service-30/2025-08-31/
END:VEVENT
BEGIN:VEVENT
DTSTART;TZID=America/Detroit:20250901T090000
DTEND;TZID=America/Detroit:20250901T100000
DTSTAMP:20260425T114901
CREATED:20241209T142712Z
LAST-MODIFIED:20241209T142712Z
UID:10003627-1756717200-1756720800@shbcfamily.com
SUMMARY:Aerobics
DESCRIPTION:
URL:https://shbcfamily.com/event/aerobics/2025-09-01/
END:VEVENT
BEGIN:VEVENT
DTSTART;TZID=America/Detroit:20250902T150000
DTEND;TZID=America/Detroit:20250902T190000
DTSTAMP:20260425T114901
CREATED:20241209T143243Z
LAST-MODIFIED:20241209T143243Z
UID:10003768-1756825200-1756839600@shbcfamily.com
SUMMARY:Community Blood Drive
DESCRIPTION:
URL:https://shbcfamily.com/event/community-blood-drive-27/
END:VEVENT
BEGIN:VEVENT
DTSTART;TZID=America/Detroit:20250903T090000
DTEND;TZID=America/Detroit:20250903T100000
DTSTAMP:20260425T114901
CREATED:20241209T142712Z
LAST-MODIFIED:20241209T142712Z
UID:10003628-1756890000-1756893600@shbcfamily.com
SUMMARY:Aerobics
DESCRIPTION:
URL:https://shbcfamily.com/event/aerobics/2025-09-03/
END:VEVENT
BEGIN:VEVENT
DTSTART;TZID=America/Detroit:20250903T190000
DTEND;TZID=America/Detroit:20250903T200000
DTSTAMP:20260425T114901
CREATED:20241209T143548Z
LAST-MODIFIED:20241209T143548Z
UID:10003804-1756926000-1756929600@shbcfamily.com
SUMMARY:Prayer Meeting
DESCRIPTION:
URL:https://shbcfamily.com/event/prayer-meeting-18/2025-09-03/
END:VEVENT
END:VCALENDAR