BEGIN:VCALENDAR
VERSION:2.0
PRODID:-//Shawnee Hills Baptist Church - ECPv6.15.20//NONSGML v1.0//EN
CALSCALE:GREGORIAN
METHOD:PUBLISH
X-ORIGINAL-URL:https://shbcfamily.com
X-WR-CALDESC:Events for Shawnee Hills Baptist Church
REFRESH-INTERVAL;VALUE=DURATION:PT1H
X-Robots-Tag:noindex
X-PUBLISHED-TTL:PT1H
BEGIN:VTIMEZONE
TZID:America/Detroit
BEGIN:DAYLIGHT
TZOFFSETFROM:-0500
TZOFFSETTO:-0400
TZNAME:EDT
DTSTART:20250309T070000
END:DAYLIGHT
BEGIN:STANDARD
TZOFFSETFROM:-0400
TZOFFSETTO:-0500
TZNAME:EST
DTSTART:20251102T060000
END:STANDARD
BEGIN:DAYLIGHT
TZOFFSETFROM:-0500
TZOFFSETTO:-0400
TZNAME:EDT
DTSTART:20260308T070000
END:DAYLIGHT
BEGIN:STANDARD
TZOFFSETFROM:-0400
TZOFFSETTO:-0500
TZNAME:EST
DTSTART:20261101T060000
END:STANDARD
BEGIN:DAYLIGHT
TZOFFSETFROM:-0500
TZOFFSETTO:-0400
TZNAME:EDT
DTSTART:20270314T070000
END:DAYLIGHT
BEGIN:STANDARD
TZOFFSETFROM:-0400
TZOFFSETTO:-0500
TZNAME:EST
DTSTART:20271107T060000
END:STANDARD
END:VTIMEZONE
BEGIN:VEVENT
DTSTART;TZID=America/Detroit:20260412T083000
DTEND;TZID=America/Detroit:20260412T093000
DTSTAMP:20260424T171526
CREATED:20260113T145327Z
LAST-MODIFIED:20260113T145327Z
UID:10004203-1775982600-1775986200@shbcfamily.com
SUMMARY:Worship Service
DESCRIPTION:
URL:https://shbcfamily.com/event/worship-service-35/2026-04-12/
END:VEVENT
BEGIN:VEVENT
DTSTART;TZID=America/Detroit:20260412T094500
DTEND;TZID=America/Detroit:20260412T104500
DTSTAMP:20260424T171526
CREATED:20260113T145202Z
LAST-MODIFIED:20260113T145202Z
UID:10004133-1775987100-1775990700@shbcfamily.com
SUMMARY:ABF/SS
DESCRIPTION:
URL:https://shbcfamily.com/event/abf-ss-12/2026-04-12/
END:VEVENT
BEGIN:VEVENT
DTSTART;TZID=America/Detroit:20260412T110000
DTEND;TZID=America/Detroit:20260412T123000
DTSTAMP:20260424T171526
CREATED:20260113T145435Z
LAST-MODIFIED:20260113T145435Z
UID:10004273-1775991600-1775997000@shbcfamily.com
SUMMARY:Worship Service
DESCRIPTION:
URL:https://shbcfamily.com/event/worship-service-36/2026-04-12/
END:VEVENT
BEGIN:VEVENT
DTSTART;TZID=America/Detroit:20260412T180000
DTEND;TZID=America/Detroit:20260412T190000
DTSTAMP:20260424T171526
CREATED:20260113T145546Z
LAST-MODIFIED:20260113T145546Z
UID:10004341-1776016800-1776020400@shbcfamily.com
SUMMARY:Equip
DESCRIPTION:
URL:https://shbcfamily.com/event/equip-2/2026-04-12/
END:VEVENT
BEGIN:VEVENT
DTSTART;TZID=America/Detroit:20260413T090000
DTEND;TZID=America/Detroit:20260413T100000
DTSTAMP:20260424T171526
CREATED:20241209T142712Z
LAST-MODIFIED:20241209T142712Z
UID:10003691-1776070800-1776074400@shbcfamily.com
SUMMARY:Aerobics
DESCRIPTION:
URL:https://shbcfamily.com/event/aerobics/2026-04-13/
END:VEVENT
BEGIN:VEVENT
DTSTART;TZID=America/Detroit:20260415T090000
DTEND;TZID=America/Detroit:20260415T100000
DTSTAMP:20260424T171526
CREATED:20241209T142712Z
LAST-MODIFIED:20241209T142712Z
UID:10003692-1776243600-1776247200@shbcfamily.com
SUMMARY:Aerobics
DESCRIPTION:
URL:https://shbcfamily.com/event/aerobics/2026-04-15/
END:VEVENT
BEGIN:VEVENT
DTSTART;TZID=America/Detroit:20260415T190000
DTEND;TZID=America/Detroit:20260415T200000
DTSTAMP:20260424T171526
CREATED:20241209T143548Z
LAST-MODIFIED:20241209T143548Z
UID:10003836-1776279600-1776283200@shbcfamily.com
SUMMARY:Prayer Meeting
DESCRIPTION:
URL:https://shbcfamily.com/event/prayer-meeting-18/2026-04-15/
END:VEVENT
END:VCALENDAR