BEGIN:VCALENDAR
VERSION:2.0
PRODID:-//Shawnee Hills Baptist Church - ECPv6.15.20//NONSGML v1.0//EN
CALSCALE:GREGORIAN
METHOD:PUBLISH
X-WR-CALNAME:Shawnee Hills Baptist Church
X-ORIGINAL-URL:https://shbcfamily.com
X-WR-CALDESC:Events for Shawnee Hills Baptist Church
REFRESH-INTERVAL;VALUE=DURATION:PT1H
X-Robots-Tag:noindex
X-PUBLISHED-TTL:PT1H
BEGIN:VTIMEZONE
TZID:America/Detroit
BEGIN:DAYLIGHT
TZOFFSETFROM:-0500
TZOFFSETTO:-0400
TZNAME:EDT
DTSTART:20250309T070000
END:DAYLIGHT
BEGIN:STANDARD
TZOFFSETFROM:-0400
TZOFFSETTO:-0500
TZNAME:EST
DTSTART:20251102T060000
END:STANDARD
BEGIN:DAYLIGHT
TZOFFSETFROM:-0500
TZOFFSETTO:-0400
TZNAME:EDT
DTSTART:20260308T070000
END:DAYLIGHT
BEGIN:STANDARD
TZOFFSETFROM:-0400
TZOFFSETTO:-0500
TZNAME:EST
DTSTART:20261101T060000
END:STANDARD
BEGIN:DAYLIGHT
TZOFFSETFROM:-0500
TZOFFSETTO:-0400
TZNAME:EDT
DTSTART:20270314T070000
END:DAYLIGHT
BEGIN:STANDARD
TZOFFSETFROM:-0400
TZOFFSETTO:-0500
TZNAME:EST
DTSTART:20271107T060000
END:STANDARD
END:VTIMEZONE
BEGIN:VEVENT
DTSTART;TZID=America/Detroit:20260719T083000
DTEND;TZID=America/Detroit:20260719T093000
DTSTAMP:20260424T221126
CREATED:20260113T145327Z
LAST-MODIFIED:20260113T145327Z
UID:10004217-1784449800-1784453400@shbcfamily.com
SUMMARY:Worship Service
DESCRIPTION:
URL:https://shbcfamily.com/event/worship-service-35/2026-07-19/
END:VEVENT
BEGIN:VEVENT
DTSTART;TZID=America/Detroit:20260719T094500
DTEND;TZID=America/Detroit:20260719T104500
DTSTAMP:20260424T221126
CREATED:20260113T145202Z
LAST-MODIFIED:20260113T145202Z
UID:10004147-1784454300-1784457900@shbcfamily.com
SUMMARY:ABF/SS
DESCRIPTION:
URL:https://shbcfamily.com/event/abf-ss-12/2026-07-19/
END:VEVENT
BEGIN:VEVENT
DTSTART;TZID=America/Detroit:20260719T110000
DTEND;TZID=America/Detroit:20260719T123000
DTSTAMP:20260424T221126
CREATED:20260113T145435Z
LAST-MODIFIED:20260113T145435Z
UID:10004287-1784458800-1784464200@shbcfamily.com
SUMMARY:Worship Service
DESCRIPTION:
URL:https://shbcfamily.com/event/worship-service-36/2026-07-19/
END:VEVENT
BEGIN:VEVENT
DTSTART;TZID=America/Detroit:20260719T180000
DTEND;TZID=America/Detroit:20260719T190000
DTSTAMP:20260424T221126
CREATED:20260113T145546Z
LAST-MODIFIED:20260113T145546Z
UID:10004355-1784484000-1784487600@shbcfamily.com
SUMMARY:Equip
DESCRIPTION:
URL:https://shbcfamily.com/event/equip-2/2026-07-19/
END:VEVENT
BEGIN:VEVENT
DTSTART;TZID=America/Detroit:20260720T090000
DTEND;TZID=America/Detroit:20260720T100000
DTSTAMP:20260424T221127
CREATED:20241209T142712Z
LAST-MODIFIED:20241209T142712Z
UID:10003719-1784538000-1784541600@shbcfamily.com
SUMMARY:Aerobics
DESCRIPTION:
URL:https://shbcfamily.com/event/aerobics/2026-07-20/
END:VEVENT
BEGIN:VEVENT
DTSTART;TZID=America/Detroit:20260722T090000
DTEND;TZID=America/Detroit:20260722T100000
DTSTAMP:20260424T221127
CREATED:20241209T142712Z
LAST-MODIFIED:20241209T142712Z
UID:10003720-1784710800-1784714400@shbcfamily.com
SUMMARY:Aerobics
DESCRIPTION:
URL:https://shbcfamily.com/event/aerobics/2026-07-22/
END:VEVENT
BEGIN:VEVENT
DTSTART;TZID=America/Detroit:20260722T190000
DTEND;TZID=America/Detroit:20260722T200000
DTSTAMP:20260424T221127
CREATED:20241209T143548Z
LAST-MODIFIED:20241209T143548Z
UID:10003850-1784746800-1784750400@shbcfamily.com
SUMMARY:Prayer Meeting
DESCRIPTION:
URL:https://shbcfamily.com/event/prayer-meeting-18/2026-07-22/
END:VEVENT
END:VCALENDAR