BEGIN:VCALENDAR
VERSION:2.0
PRODID:-//Shawnee Hills Baptist Church - ECPv6.15.20//NONSGML v1.0//EN
CALSCALE:GREGORIAN
METHOD:PUBLISH
X-ORIGINAL-URL:https://shbcfamily.com
X-WR-CALDESC:Events for Shawnee Hills Baptist Church
REFRESH-INTERVAL;VALUE=DURATION:PT1H
X-Robots-Tag:noindex
X-PUBLISHED-TTL:PT1H
BEGIN:VTIMEZONE
TZID:America/Detroit
BEGIN:DAYLIGHT
TZOFFSETFROM:-0500
TZOFFSETTO:-0400
TZNAME:EDT
DTSTART:20250309T070000
END:DAYLIGHT
BEGIN:STANDARD
TZOFFSETFROM:-0400
TZOFFSETTO:-0500
TZNAME:EST
DTSTART:20251102T060000
END:STANDARD
BEGIN:DAYLIGHT
TZOFFSETFROM:-0500
TZOFFSETTO:-0400
TZNAME:EDT
DTSTART:20260308T070000
END:DAYLIGHT
BEGIN:STANDARD
TZOFFSETFROM:-0400
TZOFFSETTO:-0500
TZNAME:EST
DTSTART:20261101T060000
END:STANDARD
BEGIN:DAYLIGHT
TZOFFSETFROM:-0500
TZOFFSETTO:-0400
TZNAME:EDT
DTSTART:20270314T070000
END:DAYLIGHT
BEGIN:STANDARD
TZOFFSETFROM:-0400
TZOFFSETTO:-0500
TZNAME:EST
DTSTART:20271107T060000
END:STANDARD
END:VTIMEZONE
BEGIN:VEVENT
DTSTART;TZID=America/Detroit:20261101T083000
DTEND;TZID=America/Detroit:20261101T093000
DTSTAMP:20260425T114855
CREATED:20260113T145327Z
LAST-MODIFIED:20260113T145327Z
UID:10004232-1793521800-1793525400@shbcfamily.com
SUMMARY:Worship Service
DESCRIPTION:
URL:https://shbcfamily.com/event/worship-service-35/2026-11-01/
END:VEVENT
BEGIN:VEVENT
DTSTART;TZID=America/Detroit:20261101T094500
DTEND;TZID=America/Detroit:20261101T104500
DTSTAMP:20260425T114855
CREATED:20260113T145202Z
LAST-MODIFIED:20260113T145202Z
UID:10004162-1793526300-1793529900@shbcfamily.com
SUMMARY:ABF/SS
DESCRIPTION:
URL:https://shbcfamily.com/event/abf-ss-12/2026-11-01/
END:VEVENT
BEGIN:VEVENT
DTSTART;TZID=America/Detroit:20261101T110000
DTEND;TZID=America/Detroit:20261101T123000
DTSTAMP:20260425T114855
CREATED:20260113T145435Z
LAST-MODIFIED:20260113T145435Z
UID:10004302-1793530800-1793536200@shbcfamily.com
SUMMARY:Worship Service
DESCRIPTION:
URL:https://shbcfamily.com/event/worship-service-36/2026-11-01/
END:VEVENT
BEGIN:VEVENT
DTSTART;TZID=America/Detroit:20261101T180000
DTEND;TZID=America/Detroit:20261101T190000
DTSTAMP:20260425T114855
CREATED:20260113T145546Z
LAST-MODIFIED:20260113T145546Z
UID:10004370-1793556000-1793559600@shbcfamily.com
SUMMARY:Equip
DESCRIPTION:
URL:https://shbcfamily.com/event/equip-2/2026-11-01/
END:VEVENT
BEGIN:VEVENT
DTSTART;TZID=America/Detroit:20261102T090000
DTEND;TZID=America/Detroit:20261102T100000
DTSTAMP:20260425T114855
CREATED:20241209T142712Z
LAST-MODIFIED:20241209T142712Z
UID:10003749-1793610000-1793613600@shbcfamily.com
SUMMARY:Aerobics
DESCRIPTION:
URL:https://shbcfamily.com/event/aerobics/2026-11-02/
END:VEVENT
BEGIN:VEVENT
DTSTART;TZID=America/Detroit:20261104T090000
DTEND;TZID=America/Detroit:20261104T100000
DTSTAMP:20260425T114855
CREATED:20241209T142712Z
LAST-MODIFIED:20241209T142712Z
UID:10003750-1793782800-1793786400@shbcfamily.com
SUMMARY:Aerobics
DESCRIPTION:
URL:https://shbcfamily.com/event/aerobics/2026-11-04/
END:VEVENT
BEGIN:VEVENT
DTSTART;TZID=America/Detroit:20261104T190000
DTEND;TZID=America/Detroit:20261104T200000
DTSTAMP:20260425T114855
CREATED:20241209T143548Z
LAST-MODIFIED:20241209T143548Z
UID:10003865-1793818800-1793822400@shbcfamily.com
SUMMARY:Prayer Meeting
DESCRIPTION:
URL:https://shbcfamily.com/event/prayer-meeting-18/2026-11-04/
END:VEVENT
END:VCALENDAR