BEGIN:VCALENDAR
VERSION:2.0
PRODID:-//Shawnee Hills Baptist Church - ECPv6.15.20//NONSGML v1.0//EN
CALSCALE:GREGORIAN
METHOD:PUBLISH
X-ORIGINAL-URL:https://shbcfamily.com
X-WR-CALDESC:Events for Shawnee Hills Baptist Church
REFRESH-INTERVAL;VALUE=DURATION:PT1H
X-Robots-Tag:noindex
X-PUBLISHED-TTL:PT1H
BEGIN:VTIMEZONE
TZID:America/Detroit
BEGIN:DAYLIGHT
TZOFFSETFROM:-0500
TZOFFSETTO:-0400
TZNAME:EDT
DTSTART:20250309T070000
END:DAYLIGHT
BEGIN:STANDARD
TZOFFSETFROM:-0400
TZOFFSETTO:-0500
TZNAME:EST
DTSTART:20251102T060000
END:STANDARD
BEGIN:DAYLIGHT
TZOFFSETFROM:-0500
TZOFFSETTO:-0400
TZNAME:EDT
DTSTART:20260308T070000
END:DAYLIGHT
BEGIN:STANDARD
TZOFFSETFROM:-0400
TZOFFSETTO:-0500
TZNAME:EST
DTSTART:20261101T060000
END:STANDARD
BEGIN:DAYLIGHT
TZOFFSETFROM:-0500
TZOFFSETTO:-0400
TZNAME:EDT
DTSTART:20270314T070000
END:DAYLIGHT
BEGIN:STANDARD
TZOFFSETFROM:-0400
TZOFFSETTO:-0500
TZNAME:EST
DTSTART:20271107T060000
END:STANDARD
END:VTIMEZONE
BEGIN:VEVENT
DTSTART;TZID=America/Detroit:20261122T083000
DTEND;TZID=America/Detroit:20261122T093000
DTSTAMP:20260425T114842
CREATED:20260113T145327Z
LAST-MODIFIED:20260113T145327Z
UID:10004235-1795336200-1795339800@shbcfamily.com
SUMMARY:Worship Service
DESCRIPTION:
URL:https://shbcfamily.com/event/worship-service-35/2026-11-22/
END:VEVENT
BEGIN:VEVENT
DTSTART;TZID=America/Detroit:20261122T094500
DTEND;TZID=America/Detroit:20261122T104500
DTSTAMP:20260425T114842
CREATED:20260113T145202Z
LAST-MODIFIED:20260113T145202Z
UID:10004165-1795340700-1795344300@shbcfamily.com
SUMMARY:ABF/SS
DESCRIPTION:
URL:https://shbcfamily.com/event/abf-ss-12/2026-11-22/
END:VEVENT
BEGIN:VEVENT
DTSTART;TZID=America/Detroit:20261122T110000
DTEND;TZID=America/Detroit:20261122T123000
DTSTAMP:20260425T114842
CREATED:20260113T145435Z
LAST-MODIFIED:20260113T145435Z
UID:10004305-1795345200-1795350600@shbcfamily.com
SUMMARY:Worship Service
DESCRIPTION:
URL:https://shbcfamily.com/event/worship-service-36/2026-11-22/
END:VEVENT
BEGIN:VEVENT
DTSTART;TZID=America/Detroit:20261122T180000
DTEND;TZID=America/Detroit:20261122T190000
DTSTAMP:20260425T114842
CREATED:20260113T145546Z
LAST-MODIFIED:20260113T145546Z
UID:10004373-1795370400-1795374000@shbcfamily.com
SUMMARY:Equip
DESCRIPTION:
URL:https://shbcfamily.com/event/equip-2/2026-11-22/
END:VEVENT
BEGIN:VEVENT
DTSTART;TZID=America/Detroit:20261123T090000
DTEND;TZID=America/Detroit:20261123T100000
DTSTAMP:20260425T114842
CREATED:20241209T142712Z
LAST-MODIFIED:20241209T142712Z
UID:10003755-1795424400-1795428000@shbcfamily.com
SUMMARY:Aerobics
DESCRIPTION:
URL:https://shbcfamily.com/event/aerobics/2026-11-23/
END:VEVENT
BEGIN:VEVENT
DTSTART;TZID=America/Detroit:20261125T090000
DTEND;TZID=America/Detroit:20261125T100000
DTSTAMP:20260425T114842
CREATED:20241209T142712Z
LAST-MODIFIED:20241209T142712Z
UID:10003756-1795597200-1795600800@shbcfamily.com
SUMMARY:Aerobics
DESCRIPTION:
URL:https://shbcfamily.com/event/aerobics/2026-11-25/
END:VEVENT
BEGIN:VEVENT
DTSTART;TZID=America/Detroit:20261125T190000
DTEND;TZID=America/Detroit:20261125T200000
DTSTAMP:20260425T114842
CREATED:20241209T143548Z
LAST-MODIFIED:20241209T143548Z
UID:10003868-1795633200-1795636800@shbcfamily.com
SUMMARY:Prayer Meeting
DESCRIPTION:
URL:https://shbcfamily.com/event/prayer-meeting-18/2026-11-25/
END:VEVENT
END:VCALENDAR