BEGIN:VCALENDAR
VERSION:2.0
PRODID:-//Shawnee Hills Baptist Church - ECPv6.15.20//NONSGML v1.0//EN
CALSCALE:GREGORIAN
METHOD:PUBLISH
X-ORIGINAL-URL:https://shbcfamily.com
X-WR-CALDESC:Events for Shawnee Hills Baptist Church
REFRESH-INTERVAL;VALUE=DURATION:PT1H
X-Robots-Tag:noindex
X-PUBLISHED-TTL:PT1H
BEGIN:VTIMEZONE
TZID:America/Detroit
BEGIN:DAYLIGHT
TZOFFSETFROM:-0500
TZOFFSETTO:-0400
TZNAME:EDT
DTSTART:20250309T070000
END:DAYLIGHT
BEGIN:STANDARD
TZOFFSETFROM:-0400
TZOFFSETTO:-0500
TZNAME:EST
DTSTART:20251102T060000
END:STANDARD
BEGIN:DAYLIGHT
TZOFFSETFROM:-0500
TZOFFSETTO:-0400
TZNAME:EDT
DTSTART:20260308T070000
END:DAYLIGHT
BEGIN:STANDARD
TZOFFSETFROM:-0400
TZOFFSETTO:-0500
TZNAME:EST
DTSTART:20261101T060000
END:STANDARD
BEGIN:DAYLIGHT
TZOFFSETFROM:-0500
TZOFFSETTO:-0400
TZNAME:EDT
DTSTART:20270314T070000
END:DAYLIGHT
BEGIN:STANDARD
TZOFFSETFROM:-0400
TZOFFSETTO:-0500
TZNAME:EST
DTSTART:20271107T060000
END:STANDARD
END:VTIMEZONE
BEGIN:VEVENT
DTSTART;TZID=America/Detroit:20261129T083000
DTEND;TZID=America/Detroit:20261129T093000
DTSTAMP:20260425T113901
CREATED:20260113T145327Z
LAST-MODIFIED:20260113T145327Z
UID:10004236-1795941000-1795944600@shbcfamily.com
SUMMARY:Worship Service
DESCRIPTION:
URL:https://shbcfamily.com/event/worship-service-35/2026-11-29/
END:VEVENT
BEGIN:VEVENT
DTSTART;TZID=America/Detroit:20261129T094500
DTEND;TZID=America/Detroit:20261129T104500
DTSTAMP:20260425T113901
CREATED:20260113T145202Z
LAST-MODIFIED:20260113T145202Z
UID:10004166-1795945500-1795949100@shbcfamily.com
SUMMARY:ABF/SS
DESCRIPTION:
URL:https://shbcfamily.com/event/abf-ss-12/2026-11-29/
END:VEVENT
BEGIN:VEVENT
DTSTART;TZID=America/Detroit:20261129T110000
DTEND;TZID=America/Detroit:20261129T123000
DTSTAMP:20260425T113901
CREATED:20260113T145435Z
LAST-MODIFIED:20260113T145435Z
UID:10004306-1795950000-1795955400@shbcfamily.com
SUMMARY:Worship Service
DESCRIPTION:
URL:https://shbcfamily.com/event/worship-service-36/2026-11-29/
END:VEVENT
BEGIN:VEVENT
DTSTART;TZID=America/Detroit:20261129T180000
DTEND;TZID=America/Detroit:20261129T190000
DTSTAMP:20260425T113901
CREATED:20260113T145546Z
LAST-MODIFIED:20260113T145546Z
UID:10004374-1795975200-1795978800@shbcfamily.com
SUMMARY:Equip
DESCRIPTION:
URL:https://shbcfamily.com/event/equip-2/2026-11-29/
END:VEVENT
BEGIN:VEVENT
DTSTART;TZID=America/Detroit:20261130T090000
DTEND;TZID=America/Detroit:20261130T100000
DTSTAMP:20260425T113901
CREATED:20241209T142712Z
LAST-MODIFIED:20241209T142712Z
UID:10003757-1796029200-1796032800@shbcfamily.com
SUMMARY:Aerobics
DESCRIPTION:
URL:https://shbcfamily.com/event/aerobics/2026-11-30/
END:VEVENT
BEGIN:VEVENT
DTSTART;TZID=America/Detroit:20261202T090000
DTEND;TZID=America/Detroit:20261202T100000
DTSTAMP:20260425T113901
CREATED:20241209T142712Z
LAST-MODIFIED:20241209T142712Z
UID:10003758-1796202000-1796205600@shbcfamily.com
SUMMARY:Aerobics
DESCRIPTION:
URL:https://shbcfamily.com/event/aerobics/2026-12-02/
END:VEVENT
BEGIN:VEVENT
DTSTART;TZID=America/Detroit:20261202T190000
DTEND;TZID=America/Detroit:20261202T200000
DTSTAMP:20260425T113901
CREATED:20241209T143548Z
LAST-MODIFIED:20241209T143548Z
UID:10003869-1796238000-1796241600@shbcfamily.com
SUMMARY:Prayer Meeting
DESCRIPTION:
URL:https://shbcfamily.com/event/prayer-meeting-18/2026-12-02/
END:VEVENT
END:VCALENDAR