BEGIN:VCALENDAR
VERSION:2.0
PRODID:-//Shawnee Hills Baptist Church - ECPv6.15.20//NONSGML v1.0//EN
CALSCALE:GREGORIAN
METHOD:PUBLISH
X-ORIGINAL-URL:https://shbcfamily.com
X-WR-CALDESC:Events for Shawnee Hills Baptist Church
REFRESH-INTERVAL;VALUE=DURATION:PT1H
X-Robots-Tag:noindex
X-PUBLISHED-TTL:PT1H
BEGIN:VTIMEZONE
TZID:America/Detroit
BEGIN:DAYLIGHT
TZOFFSETFROM:-0500
TZOFFSETTO:-0400
TZNAME:EDT
DTSTART:20170312T070000
END:DAYLIGHT
BEGIN:STANDARD
TZOFFSETFROM:-0400
TZOFFSETTO:-0500
TZNAME:EST
DTSTART:20171105T060000
END:STANDARD
BEGIN:DAYLIGHT
TZOFFSETFROM:-0500
TZOFFSETTO:-0400
TZNAME:EDT
DTSTART:20180311T070000
END:DAYLIGHT
BEGIN:STANDARD
TZOFFSETFROM:-0400
TZOFFSETTO:-0500
TZNAME:EST
DTSTART:20181104T060000
END:STANDARD
BEGIN:DAYLIGHT
TZOFFSETFROM:-0500
TZOFFSETTO:-0400
TZNAME:EDT
DTSTART:20190310T070000
END:DAYLIGHT
BEGIN:STANDARD
TZOFFSETFROM:-0400
TZOFFSETTO:-0500
TZNAME:EST
DTSTART:20191103T060000
END:STANDARD
BEGIN:DAYLIGHT
TZOFFSETFROM:-0500
TZOFFSETTO:-0400
TZNAME:EDT
DTSTART:20200308T070000
END:DAYLIGHT
BEGIN:STANDARD
TZOFFSETFROM:-0400
TZOFFSETTO:-0500
TZNAME:EST
DTSTART:20201101T060000
END:STANDARD
END:VTIMEZONE
BEGIN:VEVENT
DTSTART;TZID=America/Detroit:20190320T183000
DTEND;TZID=America/Detroit:20190320T200000
DTSTAMP:20260425T064823
CREATED:20181128T173605Z
LAST-MODIFIED:20181128T173605Z
UID:10000099-1553106600-1553112000@shbcfamily.com
SUMMARY:Time Out for Women
DESCRIPTION:
URL:https://shbcfamily.com/event/time-out-for-women-3/2019-03-20/
LOCATION:Conference Room
END:VEVENT
BEGIN:VEVENT
DTSTART;TZID=America/Detroit:20190313T183000
DTEND;TZID=America/Detroit:20190313T200000
DTSTAMP:20260425T064823
CREATED:20181128T173605Z
LAST-MODIFIED:20181128T173605Z
UID:10000098-1552501800-1552507200@shbcfamily.com
SUMMARY:Time Out for Women
DESCRIPTION:
URL:https://shbcfamily.com/event/time-out-for-women-3/2019-03-13/
LOCATION:Conference Room
END:VEVENT
BEGIN:VEVENT
DTSTART;TZID=America/Detroit:20190306T183000
DTEND;TZID=America/Detroit:20190306T200000
DTSTAMP:20260425T064823
CREATED:20181128T173605Z
LAST-MODIFIED:20181128T173605Z
UID:10000097-1551897000-1551902400@shbcfamily.com
SUMMARY:Time Out for Women
DESCRIPTION:
URL:https://shbcfamily.com/event/time-out-for-women-3/2019-03-06/
LOCATION:Conference Room
END:VEVENT
BEGIN:VEVENT
DTSTART;TZID=America/Detroit:20190227T183000
DTEND;TZID=America/Detroit:20190227T200000
DTSTAMP:20260425T064823
CREATED:20181128T173605Z
LAST-MODIFIED:20181128T173605Z
UID:10000096-1551292200-1551297600@shbcfamily.com
SUMMARY:Time Out for Women
DESCRIPTION:
URL:https://shbcfamily.com/event/time-out-for-women-3/2019-02-27/
LOCATION:Conference Room
END:VEVENT
BEGIN:VEVENT
DTSTART;TZID=America/Detroit:20190220T183000
DTEND;TZID=America/Detroit:20190220T200000
DTSTAMP:20260425T064823
CREATED:20181128T173605Z
LAST-MODIFIED:20181128T173605Z
UID:10000095-1550687400-1550692800@shbcfamily.com
SUMMARY:Time Out for Women
DESCRIPTION:
URL:https://shbcfamily.com/event/time-out-for-women-3/2019-02-20/
LOCATION:Conference Room
END:VEVENT
BEGIN:VEVENT
DTSTART;TZID=America/Detroit:20190213T183000
DTEND;TZID=America/Detroit:20190213T200000
DTSTAMP:20260425T064823
CREATED:20181128T173605Z
LAST-MODIFIED:20181128T173605Z
UID:10000094-1550082600-1550088000@shbcfamily.com
SUMMARY:Time Out for Women
DESCRIPTION:
URL:https://shbcfamily.com/event/time-out-for-women-3/2019-02-13/
LOCATION:Conference Room
END:VEVENT
BEGIN:VEVENT
DTSTART;TZID=America/Detroit:20190206T183000
DTEND;TZID=America/Detroit:20190206T200000
DTSTAMP:20260425T064823
CREATED:20181128T173605Z
LAST-MODIFIED:20181128T173605Z
UID:10000093-1549477800-1549483200@shbcfamily.com
SUMMARY:Time Out for Women
DESCRIPTION:
URL:https://shbcfamily.com/event/time-out-for-women-3/2019-02-06/
LOCATION:Conference Room
END:VEVENT
BEGIN:VEVENT
DTSTART;TZID=America/Detroit:20190130T183000
DTEND;TZID=America/Detroit:20190130T200000
DTSTAMP:20260425T064823
CREATED:20181128T173605Z
LAST-MODIFIED:20181128T173605Z
UID:10000092-1548873000-1548878400@shbcfamily.com
SUMMARY:Time Out for Women
DESCRIPTION:
URL:https://shbcfamily.com/event/time-out-for-women-3/2019-01-30/
LOCATION:Conference Room
END:VEVENT
BEGIN:VEVENT
DTSTART;TZID=America/Detroit:20190123T183000
DTEND;TZID=America/Detroit:20190123T200000
DTSTAMP:20260425T064823
CREATED:20181128T173605Z
LAST-MODIFIED:20181128T173605Z
UID:10000091-1548268200-1548273600@shbcfamily.com
SUMMARY:Time Out for Women
DESCRIPTION:
URL:https://shbcfamily.com/event/time-out-for-women-3/2019-01-23/
LOCATION:Conference Room
END:VEVENT
BEGIN:VEVENT
DTSTART;TZID=America/Detroit:20190116T183000
DTEND;TZID=America/Detroit:20190116T200000
DTSTAMP:20260425T064823
CREATED:20181128T173605Z
LAST-MODIFIED:20181128T173605Z
UID:10000090-1547663400-1547668800@shbcfamily.com
SUMMARY:Time Out for Women
DESCRIPTION:
URL:https://shbcfamily.com/event/time-out-for-women-3/2019-01-16/
LOCATION:Conference Room
END:VEVENT
BEGIN:VEVENT
DTSTART;TZID=America/Detroit:20190109T183000
DTEND;TZID=America/Detroit:20190109T200000
DTSTAMP:20260425T064823
CREATED:20181128T173605Z
LAST-MODIFIED:20181128T173605Z
UID:10000089-1547058600-1547064000@shbcfamily.com
SUMMARY:Time Out for Women
DESCRIPTION:
URL:https://shbcfamily.com/event/time-out-for-women-3/2019-01-09/
LOCATION:Conference Room
END:VEVENT
BEGIN:VEVENT
DTSTART;TZID=America/Detroit:20181211T183000
DTEND;TZID=America/Detroit:20181211T210000
DTSTAMP:20260425T064823
CREATED:20181128T165628Z
LAST-MODIFIED:20181128T165701Z
UID:10000188-1544553000-1544562000@shbcfamily.com
SUMMARY:Leadership Team Meeting
DESCRIPTION:
URL:https://shbcfamily.com/event/leadership-team-meeting-2/
LOCATION:Conference Room
END:VEVENT
END:VCALENDAR